BEGIN:VCALENDAR
VERSION:2.0
PRODID:-//Ajuntament de Mont-roig del Camp - ECPv5.16.3.1//NONSGML v1.0//EN
CALSCALE:GREGORIAN
METHOD:PUBLISH
X-WR-CALNAME:Ajuntament de Mont-roig del Camp
X-ORIGINAL-URL:https://mont-roig.cat
X-WR-CALDESC:Esdeveniments per Ajuntament de Mont-roig del Camp
BEGIN:VTIMEZONE
TZID:Europe/Madrid
BEGIN:DAYLIGHT
TZOFFSETFROM:+0100
TZOFFSETTO:+0200
TZNAME:CEST
DTSTART:20170326T010000
END:DAYLIGHT
BEGIN:STANDARD
TZOFFSETFROM:+0200
TZOFFSETTO:+0100
TZNAME:CET
DTSTART:20171029T010000
END:STANDARD
END:VTIMEZONE
BEGIN:VEVENT
DTSTART;TZID=Europe/Madrid:20171231T103000
DTEND;TZID=Europe/Madrid:20171231T123000
DTSTAMP:20260422T003543
CREATED:20171203T181119Z
LAST-MODIFIED:20171206T213353Z
UID:23325-1514716200-1514723400@mont-roig.cat
SUMMARY:VI Cursa dels Nassos
DESCRIPTION:Cursa competitiva que transcorrerà per un circuit mixt de 4.85 km. Amb sortida i arribada entre les 10.30 i les 12.00 hores a la plaça Miramar de Mont-roig. Hi haurà també la Cursa dels Nassets pels esportistes més petits. \nORGANITZA: C. E. l’Areny \nCOL·LABORA: Ajuntament de Mont-roig del Camp
URL:https://mont-roig.cat/acte/vi-cursa-dels-nassos/
LOCATION:Plaça de Miramar de Mont-roig del Camp
CATEGORIES:Ajuntament
ATTACH;FMTTYPE=image/jpeg:https://mont-roig.cat/wp-content/uploads/Cartell_cursa_Nassos_2017_amb_patrocinadors_v_2_1_Qualitat_mitjana.jpg
END:VEVENT
END:VCALENDAR