BEGIN:VCALENDAR
VERSION:2.0
PRODID:-//Ajuntament de Mont-roig del Camp - ECPv5.16.3.1//NONSGML v1.0//EN
CALSCALE:GREGORIAN
METHOD:PUBLISH
X-WR-CALNAME:Ajuntament de Mont-roig del Camp
X-ORIGINAL-URL:https://mont-roig.cat
X-WR-CALDESC:Esdeveniments per Ajuntament de Mont-roig del Camp
BEGIN:VTIMEZONE
TZID:Europe/Madrid
BEGIN:DAYLIGHT
TZOFFSETFROM:+0100
TZOFFSETTO:+0200
TZNAME:CEST
DTSTART:20180325T010000
END:DAYLIGHT
BEGIN:STANDARD
TZOFFSETFROM:+0200
TZOFFSETTO:+0100
TZNAME:CET
DTSTART:20181028T010000
END:STANDARD
END:VTIMEZONE
BEGIN:VEVENT
DTSTART;TZID=Europe/Madrid:20180424T113000
DTEND;TZID=Europe/Madrid:20180424T123000
DTSTAMP:20260420T223402
CREATED:20180405T083922Z
LAST-MODIFIED:20180424T120911Z
UID:26629-1524569400-1524573000@mont-roig.cat
SUMMARY:Visita institucional amb el Director d'Habitatge de la Generalitat de Catalunya (Sr. Jaume Fornt)
DESCRIPTION:
URL:https://mont-roig.cat/acte/visita-institucional-amb-el-director-dhabitatge-de-la-generalitat-de-catalunya/
LOCATION:Agència de l’Habitatge de Catalunya\, C/ de la Diputació\, 92\, Barcelona\, Barcelona\, 08015\, Espanya
CATEGORIES:Alcalde
GEO:41.3807934;2.1546327
X-APPLE-STRUCTURED-LOCATION;VALUE=URI;X-ADDRESS=Agència de l’Habitatge de Catalunya C/ de la Diputació 92 Barcelona Barcelona 08015 Espanya;X-APPLE-RADIUS=500;X-TITLE=C/ de la Diputació\, 92:geo:2.1546327,41.3807934
END:VEVENT
END:VCALENDAR