BEGIN:VCALENDAR
VERSION:2.0
PRODID:-//Ajuntament de Mont-roig del Camp - ECPv5.16.3.1//NONSGML v1.0//EN
CALSCALE:GREGORIAN
METHOD:PUBLISH
X-WR-CALNAME:Ajuntament de Mont-roig del Camp
X-ORIGINAL-URL:https://mont-roig.cat
X-WR-CALDESC:Esdeveniments per Ajuntament de Mont-roig del Camp
BEGIN:VTIMEZONE
TZID:Europe/Madrid
BEGIN:DAYLIGHT
TZOFFSETFROM:+0100
TZOFFSETTO:+0200
TZNAME:CEST
DTSTART:20180325T010000
END:DAYLIGHT
BEGIN:STANDARD
TZOFFSETFROM:+0200
TZOFFSETTO:+0100
TZNAME:CET
DTSTART:20181028T010000
END:STANDARD
END:VTIMEZONE
BEGIN:VEVENT
DTSTART;TZID=Europe/Madrid:20180417T133000
DTEND;TZID=Europe/Madrid:20180417T143000
DTSTAMP:20260420T222231
CREATED:20180404T090112Z
LAST-MODIFIED:20180404T090112Z
UID:26541-1523971800-1523975400@mont-roig.cat
SUMMARY:Visita institucional amb el Director General de Tursime de la Generalitat de Catalunya
DESCRIPTION:
URL:https://mont-roig.cat/acte/visita-institucional-amb-el-director-general-de-tursime-de-la-generalitat-de-catalunya/
LOCATION:Barcelona\, Barcelona\, Espanya
CATEGORIES:Alcalde
GEO:41.3850639;2.1734035
END:VEVENT
END:VCALENDAR