BEGIN:VCALENDAR
VERSION:2.0
PRODID:-//Ajuntament de Mont-roig del Camp - ECPv5.16.3.1//NONSGML v1.0//EN
CALSCALE:GREGORIAN
METHOD:PUBLISH
X-WR-CALNAME:Ajuntament de Mont-roig del Camp
X-ORIGINAL-URL:https://mont-roig.cat
X-WR-CALDESC:Esdeveniments per Ajuntament de Mont-roig del Camp
BEGIN:VTIMEZONE
TZID:Europe/Madrid
BEGIN:DAYLIGHT
TZOFFSETFROM:+0100
TZOFFSETTO:+0200
TZNAME:CEST
DTSTART:20180325T010000
END:DAYLIGHT
BEGIN:STANDARD
TZOFFSETFROM:+0200
TZOFFSETTO:+0100
TZNAME:CET
DTSTART:20181028T010000
END:STANDARD
END:VTIMEZONE
BEGIN:VEVENT
DTSTART;TZID=Europe/Madrid:20180504T100000
DTEND;TZID=Europe/Madrid:20180504T110000
DTSTAMP:20260421T123648
CREATED:20180424T125355Z
LAST-MODIFIED:20180424T125355Z
UID:27097-1525428000-1525431600@mont-roig.cat
SUMMARY:Visita institucional del Director _General de Tursime de la Generalitat de Catalunya (Sr. Octavi Bono)
DESCRIPTION:
URL:https://mont-roig.cat/acte/visita-institucional-del-director-_general-de-tursime-de-la-generalitat-de-catalunya-sr-octavi-bono/
LOCATION:Mas Miró\, Mont-roig\, Tarragona\, 43300
CATEGORIES:Alcalde
END:VEVENT
END:VCALENDAR