BEGIN:VCALENDAR
VERSION:2.0
PRODID:-//Ajuntament de Mont-roig del Camp - ECPv5.16.3.1//NONSGML v1.0//EN
CALSCALE:GREGORIAN
METHOD:PUBLISH
X-WR-CALNAME:Ajuntament de Mont-roig del Camp
X-ORIGINAL-URL:https://mont-roig.cat
X-WR-CALDESC:Esdeveniments per Ajuntament de Mont-roig del Camp
BEGIN:VTIMEZONE
TZID:Europe/Madrid
BEGIN:DAYLIGHT
TZOFFSETFROM:+0100
TZOFFSETTO:+0200
TZNAME:CEST
DTSTART:20200329T010000
END:DAYLIGHT
BEGIN:STANDARD
TZOFFSETFROM:+0200
TZOFFSETTO:+0100
TZNAME:CET
DTSTART:20201025T010000
END:STANDARD
END:VTIMEZONE
BEGIN:VEVENT
DTSTART;TZID=Europe/Madrid:20201125T150000
DTEND;TZID=Europe/Madrid:20201125T170000
DTSTAMP:20260420T062624
CREATED:20200812T095717Z
LAST-MODIFIED:20200929T114856Z
UID:51046-1606316400-1606323600@mont-roig.cat
SUMMARY:Webinar: Com optimitzar el temps i conciliar vida i la feina
DESCRIPTION:En el marc del programa de webinars pel sector econòmic per aquest 2020\, s’ofereix la xerrada: Com optimitzar el temps i conciliar vida i feina\, que es realitzarà dimecres 25 de novembre de 15 a 17 h. \nPonent: William Aldana. \nWebinar gratuït. \nInscripcions o més informació a: promocio@mont-roig.cat o al telèfon 977 172 527
URL:https://mont-roig.cat/acte/webinar-com-optimitzar-el-temps-i-conciliar-vida-i-la-feina/
CATEGORIES:Impuls Econòmic i Ocupació
END:VEVENT
END:VCALENDAR