BEGIN:VCALENDAR
VERSION:2.0
PRODID:-//Ajuntament de Mont-roig del Camp - ECPv5.16.3.1//NONSGML v1.0//EN
CALSCALE:GREGORIAN
METHOD:PUBLISH
X-WR-CALNAME:Ajuntament de Mont-roig del Camp
X-ORIGINAL-URL:https://mont-roig.cat
X-WR-CALDESC:Esdeveniments per Ajuntament de Mont-roig del Camp
BEGIN:VTIMEZONE
TZID:Europe/Madrid
BEGIN:DAYLIGHT
TZOFFSETFROM:+0100
TZOFFSETTO:+0200
TZNAME:CEST
DTSTART:20210328T010000
END:DAYLIGHT
BEGIN:STANDARD
TZOFFSETFROM:+0200
TZOFFSETTO:+0100
TZNAME:CET
DTSTART:20211031T010000
END:STANDARD
END:VTIMEZONE
BEGIN:VEVENT
DTSTART;TZID=Europe/Madrid:20210512T160000
DTEND;TZID=Europe/Madrid:20210512T170000
DTSTAMP:20260419T215210
CREATED:20210415T111957Z
LAST-MODIFIED:20210415T112016Z
UID:54959-1620835200-1620838800@mont-roig.cat
SUMMARY:Workshop Jove amb Álex Maker
DESCRIPTION:Workshop Jove amb Álex Maker \nDilluns 12 de maig de 16 a 17 h. \nSi estàs interessat/ada a participar-hi\, pots enviar un e-mail amb les teves dades: Nom i cognoms\, DNI\, correu electrònic i núm. de telèfon a promocio@mont-roig.cat \, o bé truca al 977 17 25 27
URL:https://mont-roig.cat/acte/workshop-jove-amb-alex-maker/
CATEGORIES:Impuls Econòmic i Ocupació
END:VEVENT
END:VCALENDAR