BEGIN:VCALENDAR
VERSION:2.0
PRODID:-//Ajuntament de Mont-roig del Camp - ECPv5.16.3.1//NONSGML v1.0//EN
CALSCALE:GREGORIAN
METHOD:PUBLISH
X-WR-CALNAME:Ajuntament de Mont-roig del Camp
X-ORIGINAL-URL:https://mont-roig.cat
X-WR-CALDESC:Esdeveniments per Ajuntament de Mont-roig del Camp
BEGIN:VTIMEZONE
TZID:Europe/Madrid
BEGIN:DAYLIGHT
TZOFFSETFROM:+0100
TZOFFSETTO:+0200
TZNAME:CEST
DTSTART:20230326T010000
END:DAYLIGHT
BEGIN:STANDARD
TZOFFSETFROM:+0200
TZOFFSETTO:+0100
TZNAME:CET
DTSTART:20231029T010000
END:STANDARD
END:VTIMEZONE
BEGIN:VEVENT
DTSTART;TZID=Europe/Madrid:20230504T180000
DTEND;TZID=Europe/Madrid:20230504T193000
DTSTAMP:20260419T215632
CREATED:20230503T092128Z
LAST-MODIFIED:20230503T092322Z
UID:70067-1683223200-1683228600@mont-roig.cat
SUMMARY:Xerrada sobre Miquel Mestre Avinyó: el fill oblidat de Mont-roig del Camp
DESCRIPTION:
URL:https://mont-roig.cat/acte/xerrada-sobre-miquel-mestre-avinyo-el-fill-oblidat-de-mont-roig-del-camp/
LOCATION:Biblioteca Joan Miró\, Carrer Mare de Déu de la Roca\, 5\, Mont-roig del Camp\, Tarragona\, 43300\, Spain
CATEGORIES:Ajuntament,Cultura
ATTACH;FMTTYPE=image/jpeg:https://mont-roig.cat/wp-content/uploads/Xerrada-XaviAngles_joanmiro.jpg
GEO:41.08714;0.958
X-APPLE-STRUCTURED-LOCATION;VALUE=URI;X-ADDRESS=Biblioteca Joan Miró Carrer Mare de Déu de la Roca 5 Mont-roig del Camp Tarragona 43300 Spain;X-APPLE-RADIUS=500;X-TITLE=Carrer Mare de Déu de la Roca\, 5:geo:0.958,41.08714
END:VEVENT
END:VCALENDAR