BEGIN:VCALENDAR
VERSION:2.0
PRODID:-//Ajuntament de Mont-roig del Camp - ECPv5.16.3.1//NONSGML v1.0//EN
CALSCALE:GREGORIAN
METHOD:PUBLISH
X-WR-CALNAME:Ajuntament de Mont-roig del Camp
X-ORIGINAL-URL:https://mont-roig.cat
X-WR-CALDESC:Esdeveniments per Ajuntament de Mont-roig del Camp
BEGIN:VTIMEZONE
TZID:Europe/Madrid
BEGIN:DAYLIGHT
TZOFFSETFROM:+0100
TZOFFSETTO:+0200
TZNAME:CEST
DTSTART:20170326T010000
END:DAYLIGHT
BEGIN:STANDARD
TZOFFSETFROM:+0200
TZOFFSETTO:+0100
TZNAME:CET
DTSTART:20171029T010000
END:STANDARD
END:VTIMEZONE
BEGIN:VEVENT
DTSTART;TZID=Europe/Madrid:20170330T190000
DTEND;TZID=Europe/Madrid:20170330T213000
DTSTAMP:20260421T063719
CREATED:20170323T123501Z
LAST-MODIFIED:20170327T121711Z
UID:16015-1490900400-1490909400@mont-roig.cat
SUMMARY:Xerrada sobre tècniques de venda en la restauració
DESCRIPTION:Us interessa millorar les tècniques de venda a la restauració? Voleu saber com atendre millor els vostres clients? Això i molt més en aquesta sessió informativa de Tècniques de Venda en la restauració que tindrà lloc el proper dia 30 de març a les 19 hores a l’aula TIC del Centre Polivalent de Miami Platja.
URL:https://mont-roig.cat/acte/xerrada-sobre-tecniques-venda-restauracio/
CATEGORIES:Ajuntament,Impuls Econòmic i Ocupació
ATTACH;FMTTYPE=image/jpeg:https://mont-roig.cat/wp-content/uploads/Cartell_Tècniques-venda-restauració_1-pub-001-e1490614219860.jpg
END:VEVENT
END:VCALENDAR