BEGIN:VCALENDAR
VERSION:2.0
PRODID:-//Ajuntament de Mont-roig del Camp - ECPv5.16.3.1//NONSGML v1.0//EN
CALSCALE:GREGORIAN
METHOD:PUBLISH
X-WR-CALNAME:Ajuntament de Mont-roig del Camp
X-ORIGINAL-URL:https://mont-roig.cat
X-WR-CALDESC:Esdeveniments per Ajuntament de Mont-roig del Camp
BEGIN:VTIMEZONE
TZID:Europe/Madrid
BEGIN:DAYLIGHT
TZOFFSETFROM:+0100
TZOFFSETTO:+0200
TZNAME:CEST
DTSTART:20180325T010000
END:DAYLIGHT
BEGIN:STANDARD
TZOFFSETFROM:+0200
TZOFFSETTO:+0100
TZNAME:CET
DTSTART:20181028T010000
END:STANDARD
END:VTIMEZONE
BEGIN:VEVENT
DTSTART;VALUE=DATE:20180625
DTEND;VALUE=DATE:20180901
DTSTAMP:20260423T141851
CREATED:20180530T174732Z
LAST-MODIFIED:20180530T174732Z
UID:28068-1529884800-1535759999@mont-roig.cat
SUMMARY:Activitats esportives d’estiu
DESCRIPTION:Nova temporada de les activitats esportives d’estiu amb els casals infantils i la programació esportiva especial a la platja. Inscripcions fins al 15 de juny o durant tot l’estiu en cas de quedar places disponibles. \nMés info: https://mont-roig.cat/lajuntament/arees/esports/activitats-esportives-estiu/
URL:https://mont-roig.cat/acte/activitats-esportives-destiu/
LOCATION:Poliesportius de Miami Platja i Mont-roig
END:VEVENT
BEGIN:VEVENT
DTSTART;VALUE=DATE:20180706
DTEND;VALUE=DATE:20180708
DTSTAMP:20260423T141852
CREATED:20180626T123513Z
LAST-MODIFIED:20180705T110505Z
UID:28490-1530835200-1531007999@mont-roig.cat
SUMMARY:Festes del Barri de Baix
DESCRIPTION:
URL:https://mont-roig.cat/acte/festes-del-barri-de-baix/
LOCATION:Carrer d’Aureli Escarré\, Carrer d'Aureli Escarré\, Mont-roig del Camp\, Tarragona\, 43300\, Espanya
CATEGORIES:Ajuntament
ATTACH;FMTTYPE=image/png:https://mont-roig.cat/wp-content/uploads/barri-de-baix-1.png
GEO:41.0843248;0.963463
X-APPLE-STRUCTURED-LOCATION;VALUE=URI;X-ADDRESS=Carrer d’Aureli Escarré Carrer d'Aureli Escarré Mont-roig del Camp Tarragona 43300 Espanya;X-APPLE-RADIUS=500;X-TITLE=Carrer d'Aureli Escarré:geo:0.963463,41.0843248
END:VEVENT
BEGIN:VEVENT
DTSTART;TZID=Europe/Madrid:20180706T200000
DTEND;TZID=Europe/Madrid:20180706T233000
DTSTAMP:20260423T141852
CREATED:20180703T151317Z
LAST-MODIFIED:20180703T151317Z
UID:28591-1530907200-1530919800@mont-roig.cat
SUMMARY:Excursió nocturna
DESCRIPTION:
URL:https://mont-roig.cat/acte/excursio-nocturna-3/
LOCATION:Casal de Joves K2\, Carrer Granada\, 48\, Miami Platja
CATEGORIES:Ajuntament
ATTACH;FMTTYPE=image/png:https://mont-roig.cat/wp-content/uploads/k2.png
GEO:41.00419;0.92892
X-APPLE-STRUCTURED-LOCATION;VALUE=URI;X-ADDRESS=Casal de Joves K2 Carrer Granada 48 Miami Platja;X-APPLE-RADIUS=500;X-TITLE=Carrer Granada\, 48:geo:0.92892,41.00419
END:VEVENT
BEGIN:VEVENT
DTSTART;TZID=Europe/Madrid:20180706T220000
DTEND;TZID=Europe/Madrid:20180706T233000
DTSTAMP:20260423T141852
CREATED:20180704T144553Z
LAST-MODIFIED:20180704T144553Z
UID:28689-1530914400-1530919800@mont-roig.cat
SUMMARY:Cinema: La Bella i la Bestia
DESCRIPTION:
URL:https://mont-roig.cat/acte/cinema-la-bella-i-la-bestia/
LOCATION:Pèrgola Platja Cristall\, Platja Cristall\, Miami Platja \, 43892
CATEGORIES:Ajuntament,Turisme
ATTACH;FMTTYPE=image/jpeg:https://mont-roig.cat/wp-content/uploads/bella-bestia.jpg
GEO:40.998277;0.9350433
X-APPLE-STRUCTURED-LOCATION;VALUE=URI;X-ADDRESS=Pèrgola Platja Cristall Platja Cristall Miami Platja  43892;X-APPLE-RADIUS=500;X-TITLE=Platja Cristall:geo:0.9350433,40.998277
END:VEVENT
END:VCALENDAR