BEGIN:VCALENDAR
VERSION:2.0
PRODID:-//Ajuntament de Mont-roig del Camp - ECPv5.16.3.1//NONSGML v1.0//EN
CALSCALE:GREGORIAN
METHOD:PUBLISH
X-WR-CALNAME:Ajuntament de Mont-roig del Camp
X-ORIGINAL-URL:https://mont-roig.cat
X-WR-CALDESC:Esdeveniments per Ajuntament de Mont-roig del Camp
BEGIN:VTIMEZONE
TZID:Europe/Madrid
BEGIN:DAYLIGHT
TZOFFSETFROM:+0100
TZOFFSETTO:+0200
TZNAME:CEST
DTSTART:20180325T010000
END:DAYLIGHT
BEGIN:STANDARD
TZOFFSETFROM:+0200
TZOFFSETTO:+0100
TZNAME:CET
DTSTART:20181028T010000
END:STANDARD
END:VTIMEZONE
BEGIN:VEVENT
DTSTART;VALUE=DATE:20180625
DTEND;VALUE=DATE:20180901
DTSTAMP:20260423T160519
CREATED:20180530T174732Z
LAST-MODIFIED:20180530T174732Z
UID:28068-1529884800-1535759999@mont-roig.cat
SUMMARY:Activitats esportives d’estiu
DESCRIPTION:Nova temporada de les activitats esportives d’estiu amb els casals infantils i la programació esportiva especial a la platja. Inscripcions fins al 15 de juny o durant tot l’estiu en cas de quedar places disponibles. \nMés info: https://mont-roig.cat/lajuntament/arees/esports/activitats-esportives-estiu/
URL:https://mont-roig.cat/acte/activitats-esportives-destiu/
LOCATION:Poliesportius de Miami Platja i Mont-roig
END:VEVENT
BEGIN:VEVENT
DTSTART;VALUE=DATE:20180712
DTEND;VALUE=DATE:20180716
DTSTAMP:20260423T160519
CREATED:20180709T102932Z
LAST-MODIFIED:20180709T102932Z
UID:28899-1531353600-1531699199@mont-roig.cat
SUMMARY:Cap de setmana diatònic
DESCRIPTION:
URL:https://mont-roig.cat/acte/cap-de-setmana-diatonic/
LOCATION:Mont-roig
CATEGORIES:Ajuntament,Cultura
ATTACH;FMTTYPE=image/jpeg:https://mont-roig.cat/wp-content/uploads/cap-de-setmana.jpg
END:VEVENT
BEGIN:VEVENT
DTSTART;VALUE=DATE:20180714
DTEND;VALUE=DATE:20180716
DTSTAMP:20260423T160519
CREATED:20180626T123743Z
LAST-MODIFIED:20180705T111106Z
UID:28492-1531526400-1531699199@mont-roig.cat
SUMMARY:Suspeses les festes del Barri de Dalt
DESCRIPTION:Com a mostra de condol per la mort d’un dels organitzadors\, s’han suspés les festes del Barri de Dalt d’enguany.
URL:https://mont-roig.cat/acte/festes-del-barri-de-dalt/
LOCATION:Carrer Amunt
CATEGORIES:Ajuntament
END:VEVENT
BEGIN:VEVENT
DTSTART;TZID=Europe/Madrid:20180714T193000
DTEND;TZID=Europe/Madrid:20180714T220000
DTSTAMP:20260423T160519
CREATED:20180626T125936Z
LAST-MODIFIED:20180709T095503Z
UID:28527-1531596600-1531605600@mont-roig.cat
SUMMARY:Una posta de sol a l'Areny
DESCRIPTION:Excursió guiada a peu fins a l’Espai d’Interès Natural de la Mare de Déu de la Roca\, on podràs gaudir d’una càlida posta de sol\, sopar a la fresca\, i si el temps ho permet\, observar els estels en aquest entorn únic i singular. \nÉs imprescindible portar calçat adequat per caminar\, aigua\, llanterna i sopar. \nLloc: Parc de l’Era de Mont-roig del Camp \nHora: 19.30 h \nDies: 14 i 28 de juliol i 11 i 25 d’agost \nIdiomes: Català\, castellà\, anglès i francès \nPreu: + 8 anys: 6 € \nInformació Oficina de Turisme de la Pl. de Tarragona.  977 81 09 78 . turisme@mont-roig.com
URL:https://mont-roig.cat/acte/una-posta-de-sol-a-lareny/2018-07-14/
CATEGORIES:Ajuntament,Turisme
ATTACH;FMTTYPE=image/jpeg:https://mont-roig.cat/wp-content/uploads/areny.jpg
END:VEVENT
END:VCALENDAR