BEGIN:VCALENDAR
VERSION:2.0
PRODID:-//Ajuntament de Mont-roig del Camp - ECPv5.16.3.1//NONSGML v1.0//EN
CALSCALE:GREGORIAN
METHOD:PUBLISH
X-WR-CALNAME:Ajuntament de Mont-roig del Camp
X-ORIGINAL-URL:https://mont-roig.cat
X-WR-CALDESC:Esdeveniments per Ajuntament de Mont-roig del Camp
BEGIN:VTIMEZONE
TZID:Europe/Madrid
BEGIN:DAYLIGHT
TZOFFSETFROM:+0100
TZOFFSETTO:+0200
TZNAME:CEST
DTSTART:20180325T010000
END:DAYLIGHT
BEGIN:STANDARD
TZOFFSETFROM:+0200
TZOFFSETTO:+0100
TZNAME:CET
DTSTART:20181028T010000
END:STANDARD
END:VTIMEZONE
BEGIN:VEVENT
DTSTART;VALUE=DATE:20180625
DTEND;VALUE=DATE:20180901
DTSTAMP:20260423T125209
CREATED:20180530T174732Z
LAST-MODIFIED:20180530T174732Z
UID:28068-1529884800-1535759999@mont-roig.cat
SUMMARY:Activitats esportives d’estiu
DESCRIPTION:Nova temporada de les activitats esportives d’estiu amb els casals infantils i la programació esportiva especial a la platja. Inscripcions fins al 15 de juny o durant tot l’estiu en cas de quedar places disponibles. \nMés info: https://mont-roig.cat/lajuntament/arees/esports/activitats-esportives-estiu/
URL:https://mont-roig.cat/acte/activitats-esportives-destiu/
LOCATION:Poliesportius de Miami Platja i Mont-roig
END:VEVENT
BEGIN:VEVENT
DTSTART;VALUE=DATE:20180720
DTEND;VALUE=DATE:20180729
DTSTAMP:20260423T125209
CREATED:20180710T153133Z
LAST-MODIFIED:20180710T153256Z
UID:28953-1532044800-1532822399@mont-roig.cat
SUMMARY:Festa Major de Sant Jaume de Miami Platja
DESCRIPTION:Consulta el programa d’actes de la Festa Major de Sant Jaume de Miami Platja aquí: \nPrograma de la Festa Major de Sant Jaume de Miami Platja
URL:https://mont-roig.cat/acte/festa-major-de-sant-jaume-de-miami-platja/
LOCATION:Miami Platja
CATEGORIES:Ajuntament,Festes
ATTACH;FMTTYPE=image/jpeg:https://mont-roig.cat/wp-content/uploads/Sant-Jaume-2018.jpg
END:VEVENT
BEGIN:VEVENT
DTSTART;VALUE=DATE:20180720
DTEND;VALUE=DATE:20180811
DTSTAMP:20260423T125209
CREATED:20180801T144809Z
LAST-MODIFIED:20180801T144809Z
UID:29365-1532044800-1533945599@mont-roig.cat
SUMMARY:S’exposen a Miami Platja els dibuixos dels nens i nenes que han participat al Pla Estratègic
DESCRIPTION:S’exposen els dibuixos dels nens i nenes que han participat al Pla Estratègic. \nMés info a: https://mont-roig.cat/pla-estrategic/ \n\nLa participació dels infants al Pla Estratègic s’ha dut a terme gràcies a la col·laboració de les tres escoles del municipi. L’Ajuntament va repartir plantilles on els infants havien d’imaginar\, dibuixar i descriure en una frase com voldrien que fos el seu municipi al 2030. \nEl resultat es pot veure des d’avui\, 20 de juliol fins al 10 d’agost al Centre polivalent de Miami Platja i del 24 d’agost al 14 de setembre a la Casa de Cultura de Mont-roig. La mostra permet conèixer a través dels ulls dels infants quins creuen que són els aspectes importants que han de formar part del nostre municipi del futur\,
URL:https://mont-roig.cat/acte/sexposen-a-miami-platja-els-dibuixos-dels-nens-i-nenes-que-han-participat-al-pla-estrategic/
LOCATION:Centre Polivalent Sant Jaume\, Carrer de Sòria\, 18\, Miami Platja\, Tarragona\, 43892\, Spain
CATEGORIES:Ajuntament
ATTACH;FMTTYPE=image/jpeg:https://mont-roig.cat/wp-content/uploads/pla-estrategic.jpg
END:VEVENT
BEGIN:VEVENT
DTSTART;TZID=Europe/Madrid:20180728T193000
DTEND;TZID=Europe/Madrid:20180728T213000
DTSTAMP:20260423T125209
CREATED:20180709T094505Z
LAST-MODIFIED:20180709T094532Z
UID:28863-1532806200-1532813400@mont-roig.cat
SUMMARY:Una posta de sol a l'Areny.
DESCRIPTION:Excursió guiada a peu fins a l’Espai d’Interès Natural de la Mare de Déu de la Roca\, on podràs gaudir d’una càlida posta de sol\, sopar a la fresca\, i si el temps ho permet\, observar els estels en aquest entorn únic i singular. \nÉs imprescindible portar calçat adequat per caminar\, aigua\, llanterna i sopar. \nLloc: Parc de l’Era de Mont-roig del Camp \nHora: 19.30 h \nDies: 14 i 28 de juliol i 11 i 25 d’agost \nIdiomes: Català\, castellà\, anglès i francès \nPreu: + 8 anys: 6 € \nInformació Oficina de Turisme de la Pl. de Tarragona.  977 81 09 78 . turisme@mont-roig.com
URL:https://mont-roig.cat/acte/una-posta-de-sol-a-lareny-2/
LOCATION:Parc de l’Era
CATEGORIES:Ajuntament,Turisme
ATTACH;FMTTYPE=image/jpeg:https://mont-roig.cat/wp-content/uploads/areny.jpg
END:VEVENT
BEGIN:VEVENT
DTSTART;TZID=Europe/Madrid:20180728T213000
DTEND;TZID=Europe/Madrid:20180728T233000
DTSTAMP:20260423T125209
CREATED:20180709T101013Z
LAST-MODIFIED:20180709T101013Z
UID:28893-1532813400-1532820600@mont-roig.cat
SUMMARY:Caiac a la llum de la lluna
DESCRIPTION:Viu una experiència única i gaudeix del mar a la\nllum de la lluna.. \n• Més informació: 675 982 632 – marnaturamiami@gmail.com
URL:https://mont-roig.cat/acte/caiac-a-la-llum-de-la-lluna-2/
LOCATION:Base Nàutica\, Carrer D\, 2\, Miami Platja\, tarragona\, 43892\, Espanya
CATEGORIES:Ajuntament,Turisme
ATTACH;FMTTYPE=image/jpeg:https://mont-roig.cat/wp-content/uploads/Caiac.1.jpg
GEO:41.0028215;0.9361938
X-APPLE-STRUCTURED-LOCATION;VALUE=URI;X-ADDRESS=Base Nàutica Carrer D 2 Miami Platja tarragona 43892 Espanya;X-APPLE-RADIUS=500;X-TITLE=Carrer D\, 2:geo:0.9361938,41.0028215
END:VEVENT
BEGIN:VEVENT
DTSTART;TZID=Europe/Madrid:20180728T220000
DTEND;TZID=Europe/Madrid:20180728T233000
DTSTAMP:20260423T125209
CREATED:20180626T124746Z
LAST-MODIFIED:20180709T104356Z
UID:28508-1532815200-1532820600@mont-roig.cat
SUMMARY:Sons de nit amb el duet Laia Masdéu-Jorge Varela
DESCRIPTION:Concert amb el duo format per la cantant Laia Masdeu i el pianista Jorge Varela.
URL:https://mont-roig.cat/acte/sons-de-nit-amb-el-duet-laia-masdeu-jorge-varela/
LOCATION:Ermita Mare de Déu de la Roca
CATEGORIES:Ajuntament,Cultura
ATTACH;FMTTYPE=image/jpeg:https://mont-roig.cat/wp-content/uploads/Jorge-Varela-i-Laia-Másdeu.jpg
END:VEVENT
END:VCALENDAR