BEGIN:VCALENDAR
VERSION:2.0
PRODID:-//Ajuntament de Mont-roig del Camp - ECPv5.16.3.1//NONSGML v1.0//EN
CALSCALE:GREGORIAN
METHOD:PUBLISH
X-WR-CALNAME:Ajuntament de Mont-roig del Camp
X-ORIGINAL-URL:https://mont-roig.cat
X-WR-CALDESC:Esdeveniments per Ajuntament de Mont-roig del Camp
BEGIN:VTIMEZONE
TZID:Europe/Madrid
BEGIN:DAYLIGHT
TZOFFSETFROM:+0100
TZOFFSETTO:+0200
TZNAME:CEST
DTSTART:20180325T010000
END:DAYLIGHT
BEGIN:STANDARD
TZOFFSETFROM:+0200
TZOFFSETTO:+0100
TZNAME:CET
DTSTART:20181028T010000
END:STANDARD
END:VTIMEZONE
BEGIN:VEVENT
DTSTART;VALUE=DATE:20180625
DTEND;VALUE=DATE:20180901
DTSTAMP:20260423T180712
CREATED:20180530T174732Z
LAST-MODIFIED:20180530T174732Z
UID:28068-1529884800-1535759999@mont-roig.cat
SUMMARY:Activitats esportives d’estiu
DESCRIPTION:Nova temporada de les activitats esportives d’estiu amb els casals infantils i la programació esportiva especial a la platja. Inscripcions fins al 15 de juny o durant tot l’estiu en cas de quedar places disponibles. \nMés info: https://mont-roig.cat/lajuntament/arees/esports/activitats-esportives-estiu/
URL:https://mont-roig.cat/acte/activitats-esportives-destiu/
LOCATION:Poliesportius de Miami Platja i Mont-roig
END:VEVENT
BEGIN:VEVENT
DTSTART;VALUE=DATE:20180720
DTEND;VALUE=DATE:20180811
DTSTAMP:20260423T180712
CREATED:20180801T144809Z
LAST-MODIFIED:20180801T144809Z
UID:29365-1532044800-1533945599@mont-roig.cat
SUMMARY:S’exposen a Miami Platja els dibuixos dels nens i nenes que han participat al Pla Estratègic
DESCRIPTION:S’exposen els dibuixos dels nens i nenes que han participat al Pla Estratègic. \nMés info a: https://mont-roig.cat/pla-estrategic/ \n\nLa participació dels infants al Pla Estratègic s’ha dut a terme gràcies a la col·laboració de les tres escoles del municipi. L’Ajuntament va repartir plantilles on els infants havien d’imaginar\, dibuixar i descriure en una frase com voldrien que fos el seu municipi al 2030. \nEl resultat es pot veure des d’avui\, 20 de juliol fins al 10 d’agost al Centre polivalent de Miami Platja i del 24 d’agost al 14 de setembre a la Casa de Cultura de Mont-roig. La mostra permet conèixer a través dels ulls dels infants quins creuen que són els aspectes importants que han de formar part del nostre municipi del futur\,
URL:https://mont-roig.cat/acte/sexposen-a-miami-platja-els-dibuixos-dels-nens-i-nenes-que-han-participat-al-pla-estrategic/
LOCATION:Centre Polivalent Sant Jaume\, Carrer de Sòria\, 18\, Miami Platja\, Tarragona\, 43892\, Spain
CATEGORIES:Ajuntament
ATTACH;FMTTYPE=image/jpeg:https://mont-roig.cat/wp-content/uploads/pla-estrategic.jpg
END:VEVENT
BEGIN:VEVENT
DTSTART;VALUE=DATE:20180802
DTEND;VALUE=DATE:20180806
DTSTAMP:20260423T180712
CREATED:20180709T111717Z
LAST-MODIFIED:20180727T081652Z
UID:28928-1533168000-1533513599@mont-roig.cat
SUMMARY:137a Fira de Mont-roig 2018.
DESCRIPTION:Torna la Fira de Mont-roig amb la seva edició 137 i també l’espai de gastronomia singular Cullerada 2018 \nConsulta totes les activitats al programa adjunt. \n(descarrega’t el programa) \n  \nBases concurs de cuina. \nBases Concurs de Cuina de la Fira complet \nBases concurs Instagram i Facebook. \nBases Concurs Instagram i Facebook La Fira 2018 \n 
URL:https://mont-roig.cat/acte/fira-cullerada/
LOCATION:Mont-roig
CATEGORIES:Ajuntament,Impuls Econòmic i Ocupació
ATTACH;FMTTYPE=image/jpeg:https://mont-roig.cat/wp-content/uploads/Facebook_Fira2018_500x262px.jpg
END:VEVENT
BEGIN:VEVENT
DTSTART;TZID=Europe/Madrid:20180805T103000
DTEND;TZID=Europe/Madrid:20180805T140000
DTSTAMP:20260423T180712
CREATED:20180709T095723Z
LAST-MODIFIED:20180709T095834Z
UID:28877-1533465000-1533477600@mont-roig.cat
SUMMARY:Escape room. Operació Joan Miró
DESCRIPTION:Preparats per viure una experiència única?\nArriba a Mont-roig Miami el primer Escape Room Outdoor a l’aire lliure i en plena natura.\nUna activitat que combina la intriga de resoldre enigmes amb la vinculació i obra del genial\nartista. Atreviu-vos a resoldre l’operació Joan Miró mentre descobriu el territori. \n+ 8 anys: 10 euros \n• Informació i venda de tiquets: Oficina de Turisme de Pl. de Tarragona. 977 810 978 / turisme@mont-roig.com
URL:https://mont-roig.cat/acte/escape-romm-operacio-joan-miro/
LOCATION:Parc de l’Era
CATEGORIES:Ajuntament,Turisme
ATTACH;FMTTYPE=image/jpeg:https://mont-roig.cat/wp-content/uploads/3_escape_room-1.jpg
END:VEVENT
BEGIN:VEVENT
DTSTART;TZID=Europe/Madrid:20180805T190000
DTEND;TZID=Europe/Madrid:20180805T203000
DTSTAMP:20260423T180712
CREATED:20180709T090809Z
LAST-MODIFIED:20180709T090941Z
UID:28828-1533495600-1533501000@mont-roig.cat
SUMMARY:Animacions infantils: Festa de l'Escuma
DESCRIPTION:
URL:https://mont-roig.cat/acte/animacions-infantils-festa-de-lescuma/
LOCATION:Pèrgola Platja Cristall\, Platja Cristall\, Miami Platja \, 43892
CATEGORIES:Ajuntament,Turisme
ATTACH;FMTTYPE=image/jpeg:https://mont-roig.cat/wp-content/uploads/animacio2-1.jpg
GEO:40.998277;0.9350433
X-APPLE-STRUCTURED-LOCATION;VALUE=URI;X-ADDRESS=Pèrgola Platja Cristall Platja Cristall Miami Platja  43892;X-APPLE-RADIUS=500;X-TITLE=Platja Cristall:geo:0.9350433,40.998277
END:VEVENT
END:VCALENDAR