BEGIN:VCALENDAR
VERSION:2.0
PRODID:-//Ajuntament de Mont-roig del Camp - ECPv5.16.3.1//NONSGML v1.0//EN
CALSCALE:GREGORIAN
METHOD:PUBLISH
X-WR-CALNAME:Ajuntament de Mont-roig del Camp
X-ORIGINAL-URL:https://mont-roig.cat
X-WR-CALDESC:Esdeveniments per Ajuntament de Mont-roig del Camp
BEGIN:VTIMEZONE
TZID:Europe/Madrid
BEGIN:DAYLIGHT
TZOFFSETFROM:+0100
TZOFFSETTO:+0200
TZNAME:CEST
DTSTART:20180325T010000
END:DAYLIGHT
BEGIN:STANDARD
TZOFFSETFROM:+0200
TZOFFSETTO:+0100
TZNAME:CET
DTSTART:20181028T010000
END:STANDARD
END:VTIMEZONE
BEGIN:VEVENT
DTSTART;VALUE=DATE:20180625
DTEND;VALUE=DATE:20180901
DTSTAMP:20260423T195207
CREATED:20180530T174732Z
LAST-MODIFIED:20180530T174732Z
UID:28068-1529884800-1535759999@mont-roig.cat
SUMMARY:Activitats esportives d’estiu
DESCRIPTION:Nova temporada de les activitats esportives d’estiu amb els casals infantils i la programació esportiva especial a la platja. Inscripcions fins al 15 de juny o durant tot l’estiu en cas de quedar places disponibles. \nMés info: https://mont-roig.cat/lajuntament/arees/esports/activitats-esportives-estiu/
URL:https://mont-roig.cat/acte/activitats-esportives-destiu/
LOCATION:Poliesportius de Miami Platja i Mont-roig
END:VEVENT
BEGIN:VEVENT
DTSTART;VALUE=DATE:20180822
DTEND;VALUE=DATE:20180827
DTSTAMP:20260423T195207
CREATED:20180626T123346Z
LAST-MODIFIED:20180816T115737Z
UID:28487-1534896000-1535327999@mont-roig.cat
SUMMARY:Nomad Festival
DESCRIPTION:
URL:https://mont-roig.cat/acte/nomad-festival/
LOCATION:Punta del Riu\, carrer Ponent\, 8\, Miami Platja\, Espanya
CATEGORIES:Ajuntament,Festes
ATTACH;FMTTYPE=image/jpeg:https://mont-roig.cat/wp-content/uploads/PROGRAMA_MIAMI-001.jpg
GEO:40.9931741;0.931027
X-APPLE-STRUCTURED-LOCATION;VALUE=URI;X-ADDRESS=Punta del Riu carrer Ponent 8 Miami Platja Espanya;X-APPLE-RADIUS=500;X-TITLE=carrer Ponent\, 8:geo:0.931027,40.9931741
END:VEVENT
BEGIN:VEVENT
DTSTART;VALUE=DATE:20180824
DTEND;VALUE=DATE:20180915
DTSTAMP:20260423T195207
CREATED:20180801T145016Z
LAST-MODIFIED:20180823T143714Z
UID:29369-1535068800-1536969599@mont-roig.cat
SUMMARY:S’exposen a Mont-roig els dibuixos dels nens i nenes que han participat al Pla Estratègic
DESCRIPTION:S’exposen els dibuixos dels nens i nenes que han participat al Pla Estratègic. \nMés info a: https://mont-roig.cat/pla-estrategic/ \n\nLa participació dels infants al Pla Estratègic s’ha dut a terme gràcies a la col·laboració de les tres escoles del municipi. L’Ajuntament va repartir plantilles on els infants havien d’imaginar\, dibuixar i descriure en una frase com voldrien que fos el seu municipi al 2030. \nEl resultat es pot veure des d’avui\, 20 de juliol fins al 10 d’agost al Centre polivalent de Miami Platja i del 24 d’agost al 14 de setembre a la Casa de Cultura de Mont-roig. La mostra permet conèixer a través dels ulls dels infants quins creuen que són els aspectes importants que han de formar part del nostre municipi del futur
URL:https://mont-roig.cat/acte/sexposen-a-mont-roig-els-dibuixos-dels-nens-i-nenes-que-han-participat-al-pla-estrategic/
LOCATION:Casa de la Cultura\, Carrer Mare de Déu de la Roca\, 5\, Mont-roig del Camp\, Tarragona\, 43300\, Spain
CATEGORIES:Ajuntament
ATTACH;FMTTYPE=image/jpeg:https://mont-roig.cat/wp-content/uploads/Pla-Estratègic-dibuixos-infants-Casa-Cultura.jpg
GEO:41.08714;0.958
X-APPLE-STRUCTURED-LOCATION;VALUE=URI;X-ADDRESS=Casa de la Cultura Carrer Mare de Déu de la Roca 5 Mont-roig del Camp Tarragona 43300 Spain;X-APPLE-RADIUS=500;X-TITLE=Carrer Mare de Déu de la Roca\, 5:geo:0.958,41.08714
END:VEVENT
BEGIN:VEVENT
DTSTART;VALUE=DATE:20180825
DTEND;VALUE=DATE:20180826
DTSTAMP:20260423T195207
CREATED:20180626T124127Z
LAST-MODIFIED:20180626T124127Z
UID:28498-1535155200-1535241599@mont-roig.cat
SUMMARY:Festes del Rovell de l'Ou i Carnaval d'estiu
DESCRIPTION:Rua pels carrers del poble
URL:https://mont-roig.cat/acte/festes-del-rovell-de-lou-i-carnaval-destiu/
LOCATION:Mont-roig
CATEGORIES:Ajuntament
END:VEVENT
BEGIN:VEVENT
DTSTART;TZID=Europe/Madrid:20180825T190000
DTEND;TZID=Europe/Madrid:20180825T230000
DTSTAMP:20260423T195207
CREATED:20180709T094934Z
LAST-MODIFIED:20180709T094934Z
UID:28870-1535223600-1535238000@mont-roig.cat
SUMMARY:Una posta de sol a l'Areny
DESCRIPTION:Excursió guiada a peu fins a l’Espai d’Interès Natural de la Mare de Déu de la Roca\, on podràs gaudir d’una càlida posta de sol\, sopar a la fresca\, i si el temps ho permet\, observar els estels en aquest entorn únic i singular. \nÉs imprescindible portar calçat adequat per caminar\, aigua\, llanterna i sopar. \nLloc: Parc de l’Era de Mont-roig del Camp \nHora: 19.30 h \nDies: 14 i 28 de juliol i 11 i 25 d’agost \nIdiomes: Català\, castellà\, anglès i francès \nPreu: + 8 anys: 6 € \nInformació Oficina de Turisme de la Pl. de Tarragona.  977 81 09 78 . turisme@mont-roig.com
URL:https://mont-roig.cat/acte/una-posta-de-sol-a-lareny-4/
LOCATION:Parc de l’Era
CATEGORIES:Ajuntament,Turisme
ATTACH;FMTTYPE=image/jpeg:https://mont-roig.cat/wp-content/uploads/areny.jpg
END:VEVENT
BEGIN:VEVENT
DTSTART;TZID=Europe/Madrid:20180825T220000
DTEND;TZID=Europe/Madrid:20180825T233000
DTSTAMP:20260423T195207
CREATED:20180626T125149Z
LAST-MODIFIED:20180709T111227Z
UID:28515-1535234400-1535239800@mont-roig.cat
SUMMARY:Sons de nit amb el duet Georgina Llauradó-Marc Torres
DESCRIPTION:Música de musicals amb Georgina Llauradó i Marc Torres.
URL:https://mont-roig.cat/acte/sons-de-nit-amb-el-duet-georgina-llaurado-marc-torres/
LOCATION:Ermita Mare de Déu de la Roca
CATEGORIES:Ajuntament,Cultura
ATTACH;FMTTYPE=image/jpeg:https://mont-roig.cat/wp-content/uploads/Georgina-Llauradó-i-Marc-Torres-2.jpg
END:VEVENT
END:VCALENDAR