BEGIN:VCALENDAR
VERSION:2.0
PRODID:-//Ajuntament de Mont-roig del Camp - ECPv5.16.3.1//NONSGML v1.0//EN
CALSCALE:GREGORIAN
METHOD:PUBLISH
X-WR-CALNAME:Ajuntament de Mont-roig del Camp
X-ORIGINAL-URL:https://mont-roig.cat
X-WR-CALDESC:Esdeveniments per Ajuntament de Mont-roig del Camp
BEGIN:VTIMEZONE
TZID:Europe/Madrid
BEGIN:DAYLIGHT
TZOFFSETFROM:+0100
TZOFFSETTO:+0200
TZNAME:CEST
DTSTART:20180325T010000
END:DAYLIGHT
BEGIN:STANDARD
TZOFFSETFROM:+0200
TZOFFSETTO:+0100
TZNAME:CET
DTSTART:20181028T010000
END:STANDARD
END:VTIMEZONE
BEGIN:VEVENT
DTSTART;VALUE=DATE:20180625
DTEND;VALUE=DATE:20180901
DTSTAMP:20260423T143631
CREATED:20180530T174732Z
LAST-MODIFIED:20180530T174732Z
UID:28068-1529884800-1535759999@mont-roig.cat
SUMMARY:Activitats esportives d’estiu
DESCRIPTION:Nova temporada de les activitats esportives d’estiu amb els casals infantils i la programació esportiva especial a la platja. Inscripcions fins al 15 de juny o durant tot l’estiu en cas de quedar places disponibles. \nMés info: https://mont-roig.cat/lajuntament/arees/esports/activitats-esportives-estiu/
URL:https://mont-roig.cat/acte/activitats-esportives-destiu/
LOCATION:Poliesportius de Miami Platja i Mont-roig
END:VEVENT
BEGIN:VEVENT
DTSTART;VALUE=DATE:20180824
DTEND;VALUE=DATE:20180915
DTSTAMP:20260423T143631
CREATED:20180801T145016Z
LAST-MODIFIED:20180823T143714Z
UID:29369-1535068800-1536969599@mont-roig.cat
SUMMARY:S’exposen a Mont-roig els dibuixos dels nens i nenes que han participat al Pla Estratègic
DESCRIPTION:S’exposen els dibuixos dels nens i nenes que han participat al Pla Estratègic. \nMés info a: https://mont-roig.cat/pla-estrategic/ \n\nLa participació dels infants al Pla Estratègic s’ha dut a terme gràcies a la col·laboració de les tres escoles del municipi. L’Ajuntament va repartir plantilles on els infants havien d’imaginar\, dibuixar i descriure en una frase com voldrien que fos el seu municipi al 2030. \nEl resultat es pot veure des d’avui\, 20 de juliol fins al 10 d’agost al Centre polivalent de Miami Platja i del 24 d’agost al 14 de setembre a la Casa de Cultura de Mont-roig. La mostra permet conèixer a través dels ulls dels infants quins creuen que són els aspectes importants que han de formar part del nostre municipi del futur
URL:https://mont-roig.cat/acte/sexposen-a-mont-roig-els-dibuixos-dels-nens-i-nenes-que-han-participat-al-pla-estrategic/
LOCATION:Casa de la Cultura\, Carrer Mare de Déu de la Roca\, 5\, Mont-roig del Camp\, Tarragona\, 43300\, Spain
CATEGORIES:Ajuntament
ATTACH;FMTTYPE=image/jpeg:https://mont-roig.cat/wp-content/uploads/Pla-Estratègic-dibuixos-infants-Casa-Cultura.jpg
GEO:41.08714;0.958
X-APPLE-STRUCTURED-LOCATION;VALUE=URI;X-ADDRESS=Casa de la Cultura Carrer Mare de Déu de la Roca 5 Mont-roig del Camp Tarragona 43300 Spain;X-APPLE-RADIUS=500;X-TITLE=Carrer Mare de Déu de la Roca\, 5:geo:0.958,41.08714
END:VEVENT
BEGIN:VEVENT
DTSTART;TZID=Europe/Madrid:20180831T173000
DTEND;TZID=Europe/Madrid:20180831T213000
DTSTAMP:20260423T143631
CREATED:20180822T141045Z
LAST-MODIFIED:20180822T141045Z
UID:29635-1535736600-1535751000@mont-roig.cat
SUMMARY:Donació voluntària de sang
DESCRIPTION:El divendres 31 d’agost de 17.30 h a 21.30 h es podrà fer donació voluntària de sang al Centre de Rehabilitació i Fisioteràpia de Mont-roig del Camp.
URL:https://mont-roig.cat/acte/donacio-voluntaria-de-sang/
LOCATION:Centre Rehabilitació i Fisioteràpia\, Carrer d'Aureli Escarré\, 28\, Mont-roig del Camp\, Tarragona\, 43300\, Espanya
CATEGORIES:Salut
ATTACH;FMTTYPE=image/jpeg:https://mont-roig.cat/wp-content/uploads/bannersangre_1.jpg
GEO:41.0846593;0.9635846
X-APPLE-STRUCTURED-LOCATION;VALUE=URI;X-ADDRESS=Centre Rehabilitació i Fisioteràpia Carrer d'Aureli Escarré 28 Mont-roig del Camp Tarragona 43300 Espanya;X-APPLE-RADIUS=500;X-TITLE=Carrer d'Aureli Escarré\, 28:geo:0.9635846,41.0846593
END:VEVENT
BEGIN:VEVENT
DTSTART;TZID=Europe/Madrid:20180831T180000
DTEND;TZID=Europe/Madrid:20180831T200000
DTSTAMP:20260423T143631
CREATED:20180731T114535Z
LAST-MODIFIED:20180731T114535Z
UID:29319-1535738400-1535745600@mont-roig.cat
SUMMARY:Taller de batuts
DESCRIPTION:Aprèn a fer batuts dolços i senzills; per llepar-te’n els dits!
URL:https://mont-roig.cat/acte/taller-de-batuts-3/
LOCATION:Casal de Joves K1\, c/ Aureli Escarré\, Mont-roig del Camp
CATEGORIES:Ajuntament,Joventut
GEO:41.07825;0.9768931
X-APPLE-STRUCTURED-LOCATION;VALUE=URI;X-ADDRESS=Casal de Joves K1 c/ Aureli Escarré Mont-roig del Camp;X-APPLE-RADIUS=500;X-TITLE=c/ Aureli Escarré:geo:0.9768931,41.07825
END:VEVENT
BEGIN:VEVENT
DTSTART;TZID=Europe/Madrid:20180831T200000
DTEND;TZID=Europe/Madrid:20180831T220000
DTSTAMP:20260423T143631
CREATED:20180709T093319Z
LAST-MODIFIED:20180709T093319Z
UID:28851-1535745600-1535752800@mont-roig.cat
SUMMARY:Històries de pirates. El saqueig de Miramar!
DESCRIPTION:Si us apassiona l’interessant món dels pirates que solcaven el mar Mediterrani al segle XV\, no us podeu perdre aquesta visita guiada. Un intèrpret de patrimoni històric us traslladarà a un episodi real d’atac pirata més ben documentat de la Costa Daurada\, l’atac dels pirates a Miramar! \nPreu: 5 € adults/ 2 € nens de 7 a 12 anys \nVisita en castellà i català \nPlaces limitades \nInformació i venda de tiquets: Oficina de Turisme de la Pl. Tarragona. turisme@mont-roig.com. \n977 810 978
URL:https://mont-roig.cat/acte/histories-de-pirates-el-saqueig-de-miramar-3/
LOCATION:Torreó de Miami Platja\, Passeig Marítim\, 57\, Miami Platja\, Tarragona\, 43892
CATEGORIES:Ajuntament,Turisme
ATTACH;FMTTYPE=image/jpeg:https://mont-roig.cat/wp-content/uploads/PIRATES-7.jpg
GEO:41.0122799;0.94643
X-APPLE-STRUCTURED-LOCATION;VALUE=URI;X-ADDRESS=Torreó de Miami Platja Passeig Marítim 57 Miami Platja Tarragona 43892;X-APPLE-RADIUS=500;X-TITLE=Passeig Marítim\, 57:geo:0.94643,41.0122799
END:VEVENT
BEGIN:VEVENT
DTSTART;TZID=Europe/Madrid:20180831T220000
DTEND;TZID=Europe/Madrid:20180831T233000
DTSTAMP:20260423T143631
CREATED:20180709T085953Z
LAST-MODIFIED:20180709T085953Z
UID:28815-1535752800-1535758200@mont-roig.cat
SUMMARY:Cinema a la fresca: Coco
DESCRIPTION:
URL:https://mont-roig.cat/acte/cinema-a-la-fresca-coco/
LOCATION:Pèrgola Platja Cristall\, Platja Cristall\, Miami Platja \, 43892
CATEGORIES:Ajuntament,Turisme
ATTACH;FMTTYPE=image/jpeg:https://mont-roig.cat/wp-content/uploads/coco2.jpg
GEO:40.998277;0.9350433
X-APPLE-STRUCTURED-LOCATION;VALUE=URI;X-ADDRESS=Pèrgola Platja Cristall Platja Cristall Miami Platja  43892;X-APPLE-RADIUS=500;X-TITLE=Platja Cristall:geo:0.9350433,40.998277
END:VEVENT
END:VCALENDAR