BEGIN:VCALENDAR
VERSION:2.0
PRODID:-//Ajuntament de Mont-roig del Camp - ECPv5.16.3.1//NONSGML v1.0//EN
CALSCALE:GREGORIAN
METHOD:PUBLISH
X-WR-CALNAME:Ajuntament de Mont-roig del Camp
X-ORIGINAL-URL:https://mont-roig.cat
X-WR-CALDESC:Esdeveniments per Ajuntament de Mont-roig del Camp
BEGIN:VTIMEZONE
TZID:Europe/Madrid
BEGIN:DAYLIGHT
TZOFFSETFROM:+0100
TZOFFSETTO:+0200
TZNAME:CEST
DTSTART:20180325T010000
END:DAYLIGHT
BEGIN:STANDARD
TZOFFSETFROM:+0200
TZOFFSETTO:+0100
TZNAME:CET
DTSTART:20181028T010000
END:STANDARD
END:VTIMEZONE
BEGIN:VEVENT
DTSTART;TZID=Europe/Madrid:20180915T090000
DTEND;TZID=Europe/Madrid:20180915T143000
DTSTAMP:20260423T164311
CREATED:20180904T180454Z
LAST-MODIFIED:20180904T180454Z
UID:29873-1537002000-1537021800@mont-roig.cat
SUMMARY:Curs d’Esport Educatiu Extraescolar
DESCRIPTION:Una formació pensada per aquells joves que tenen ganes de treballar en l’àmbit esportiu.
URL:https://mont-roig.cat/acte/curs-desport-educatiu-extraescolar/2018-09-15/
LOCATION:Casal de Joves K1\, c/ Aureli Escarré\, Mont-roig del Camp
CATEGORIES:Ajuntament,Joventut
GEO:41.07825;0.9768931
X-APPLE-STRUCTURED-LOCATION;VALUE=URI;X-ADDRESS=Casal de Joves K1 c/ Aureli Escarré Mont-roig del Camp;X-APPLE-RADIUS=500;X-TITLE=c/ Aureli Escarré:geo:0.9768931,41.07825
END:VEVENT
BEGIN:VEVENT
DTSTART;TZID=Europe/Madrid:20180915T170000
DTEND;TZID=Europe/Madrid:20180915T210000
DTSTAMP:20260423T164311
CREATED:20180904T175134Z
LAST-MODIFIED:20180904T175134Z
UID:29859-1537030800-1537045200@mont-roig.cat
SUMMARY:Photo Pànic
DESCRIPTION:Mostra’ns la teva cara més espantosa i podràs ser la imatge del cartell del Passatge del Terror 2018.
URL:https://mont-roig.cat/acte/photo-panic-2/
LOCATION:Casal de Joves K1\, c/ Aureli Escarré\, Mont-roig del Camp
CATEGORIES:Ajuntament,Joventut
ATTACH;FMTTYPE=image/jpeg:https://mont-roig.cat/wp-content/uploads/photo-panic.jpg
GEO:41.07825;0.9768931
X-APPLE-STRUCTURED-LOCATION;VALUE=URI;X-ADDRESS=Casal de Joves K1 c/ Aureli Escarré Mont-roig del Camp;X-APPLE-RADIUS=500;X-TITLE=c/ Aureli Escarré:geo:0.9768931,41.07825
END:VEVENT
END:VCALENDAR