BEGIN:VCALENDAR
VERSION:2.0
PRODID:-//Ajuntament de Mont-roig del Camp - ECPv5.16.3.1//NONSGML v1.0//EN
CALSCALE:GREGORIAN
METHOD:PUBLISH
X-WR-CALNAME:Ajuntament de Mont-roig del Camp
X-ORIGINAL-URL:https://mont-roig.cat
X-WR-CALDESC:Esdeveniments per Ajuntament de Mont-roig del Camp
BEGIN:VTIMEZONE
TZID:Europe/Madrid
BEGIN:DAYLIGHT
TZOFFSETFROM:+0100
TZOFFSETTO:+0200
TZNAME:CEST
DTSTART:20180325T010000
END:DAYLIGHT
BEGIN:STANDARD
TZOFFSETFROM:+0200
TZOFFSETTO:+0100
TZNAME:CET
DTSTART:20181028T010000
END:STANDARD
END:VTIMEZONE
BEGIN:VEVENT
DTSTART;VALUE=DATE:20180922
DTEND;VALUE=DATE:20181001
DTSTAMP:20260423T111415
CREATED:20180917T225639Z
LAST-MODIFIED:20180917T225935Z
UID:30053-1537574400-1538351999@mont-roig.cat
SUMMARY:Festa Major de Sant Miquel de Mont-roig
DESCRIPTION:Del 22 al 30 de setembre tindrà lloc la Festa Major de Sant Miquel de Mont-roig. \nPrograma Sant Miquel (descarrega-te’l aquí) \nUna de les més rellevants és l’organització del primer Concurs de Guarniment de balcons i façanes amb plantes naturals del nucli antic de Mont-roig. L’objectiu de la iniciativa és promoure la participació ciutadana en l’embelliment del nucli antic durant les festes però sobretot que aquests guarniments es puguin mantenir el màxim de temps possible en el marc d’un projecte global que inclourà altres accions per ornamentar el centre històric. Destaca d’aquest concurs el premi popular que convidarà als veïns i veïnes a votar la proposta que més els hi agradi a les urnes ubicades a la Mostra d’Entitats\, al Mercat a l’Antiga i a l’OMAC de Mont-roig. \nBases reguladores concurs guarniment de balcons i façanes \nBases Concurs Instagram i Facebook Sant Miquel 2018
URL:https://mont-roig.cat/acte/festa-major-de-sant-miquel-de-mont-roig/
LOCATION:Mont-roig
CATEGORIES:Ajuntament,Festes
ATTACH;FMTTYPE=image/jpeg:https://mont-roig.cat/wp-content/uploads/SMIQUEL_2018_w-1.jpg
END:VEVENT
END:VCALENDAR