BEGIN:VCALENDAR
VERSION:2.0
PRODID:-//Ajuntament de Mont-roig del Camp - ECPv5.16.3.1//NONSGML v1.0//EN
CALSCALE:GREGORIAN
METHOD:PUBLISH
X-WR-CALNAME:Ajuntament de Mont-roig del Camp
X-ORIGINAL-URL:https://mont-roig.cat
X-WR-CALDESC:Esdeveniments per Ajuntament de Mont-roig del Camp
BEGIN:VTIMEZONE
TZID:Europe/Madrid
BEGIN:DAYLIGHT
TZOFFSETFROM:+0100
TZOFFSETTO:+0200
TZNAME:CEST
DTSTART:20180325T010000
END:DAYLIGHT
BEGIN:STANDARD
TZOFFSETFROM:+0200
TZOFFSETTO:+0100
TZNAME:CET
DTSTART:20181028T010000
END:STANDARD
END:VTIMEZONE
BEGIN:VEVENT
DTSTART;VALUE=DATE:20181006
DTEND;VALUE=DATE:20181022
DTSTAMP:20260423T093233
CREATED:20181004T155244Z
LAST-MODIFIED:20181004T155244Z
UID:30823-1538784000-1540166399@mont-roig.cat
SUMMARY:Jornades Gastronòmiques de la Cuina de l'Arròs de Tardor
DESCRIPTION:La segona edició de les jornades gastronòmiques de la Cuina de l’Arròs de Tardor arrenca aquest cap de setmana amb les propostes culinàries de 16 restaurants de Mont-roig i Miami Platja. Del 6 al 21 d’octubre oferiran plats i menús amb l’arròs com a protagonista acompanyat dels productes típics d’aquesta època. Arròs melós amb llagostins i carxofa\, arròs caldós amb secret ibèric i rovellons\, arròs de cranc blau i bolets\, risotto de bolets amb pernil i poma o arròs amb bacallà i verdures a la brasa\, que s’ha pogut degustar a l’acte de presentació\, aquest matí\, al restaurant Limonero\, són algunes de les propostes d’aquesta edició. \nEl catàleg de les jornades. (descarrega’t el pdf)
URL:https://mont-roig.cat/acte/jornades-gastronomiques-de-la-cuina-de-larros-de-tardor/
LOCATION:Mont-roig i Miami
CATEGORIES:Ajuntament,Turisme
ATTACH;FMTTYPE=image/jpeg:https://mont-roig.cat/wp-content/uploads/cuina-tardor.jpg
END:VEVENT
BEGIN:VEVENT
DTSTART;TZID=Europe/Madrid:20181006T210000
DTEND;TZID=Europe/Madrid:20181006T230000
DTSTAMP:20260423T093233
CREATED:20180904T182426Z
LAST-MODIFIED:20180904T182605Z
UID:29906-1538859600-1538866800@mont-roig.cat
SUMMARY:Festival Accents: Joan Reig presenta 'La culpa'
DESCRIPTION:Joan Reig\, bateria d’Els Pets\,  amb el seu trio presentarà el seu primer treball discogràfic en solitari\, La culpa\, un vinil LP 10 polzades que inclou sis cançons\, en un concert que servirà per inaugurar oficialment la cinquena edició del Festival Accents. El disc inclou tres versions i tres cançons de nova creació. Entre les versions hi ha el One Too Many Mornings de Dylan\, que Reig ha titulat Massa Matinades\, i No et puc acompanyar\, del grup dels anys seixanta Els 4 Gats. A més\, Joan Reig ha inclòs una versió inèdita del seu tema Reprenc el vol\, publicat a L’àrea petita\, l’últim disc d’Els Pets\, per mostrar com era la cançó abans de passar pel sedàs del grup i el productor musical. Junt amb les versions\, Reig ofereix tres cançons inèdites: Litúrgia del Rock’n’roll\, Póker i La Culpa\, que dóna nom al disc. \n 
URL:https://mont-roig.cat/acte/festival-accents-joan-reig-presenta-la-culpa/
LOCATION:Casal de Joves K1\, c/ Aureli Escarré\, Mont-roig del Camp
CATEGORIES:Ajuntament,Cultura
ATTACH;FMTTYPE=image/jpeg:https://mont-roig.cat/wp-content/uploads/CicleTeatre_Tardor2018_CARTELL_03.jpg
GEO:41.07825;0.9768931
X-APPLE-STRUCTURED-LOCATION;VALUE=URI;X-ADDRESS=Casal de Joves K1 c/ Aureli Escarré Mont-roig del Camp;X-APPLE-RADIUS=500;X-TITLE=c/ Aureli Escarré:geo:0.9768931,41.07825
END:VEVENT
END:VCALENDAR