BEGIN:VCALENDAR
VERSION:2.0
PRODID:-//Ajuntament de Mont-roig del Camp - ECPv5.16.3.1//NONSGML v1.0//EN
CALSCALE:GREGORIAN
METHOD:PUBLISH
X-WR-CALNAME:Ajuntament de Mont-roig del Camp
X-ORIGINAL-URL:https://mont-roig.cat
X-WR-CALDESC:Esdeveniments per Ajuntament de Mont-roig del Camp
BEGIN:VTIMEZONE
TZID:Europe/Madrid
BEGIN:DAYLIGHT
TZOFFSETFROM:+0100
TZOFFSETTO:+0200
TZNAME:CEST
DTSTART:20180325T010000
END:DAYLIGHT
BEGIN:STANDARD
TZOFFSETFROM:+0200
TZOFFSETTO:+0100
TZNAME:CET
DTSTART:20181028T010000
END:STANDARD
END:VTIMEZONE
BEGIN:VEVENT
DTSTART;VALUE=DATE:20181029
DTEND;VALUE=DATE:20181115
DTSTAMP:20260423T125143
CREATED:20181009T173934Z
LAST-MODIFIED:20181009T173934Z
UID:30960-1540771200-1542239999@mont-roig.cat
SUMMARY:Exposició sobre Prudenci Bertrana i Aurora Bertrana.
DESCRIPTION:Exposició “Prudenci Bertrana\, L’ideari bàrbar” i “Aurora Bertrana\, el virus de l’aventura” \nEn commemoració del l’Any Bertrana.
URL:https://mont-roig.cat/acte/exposicio-sobre-prudenci-bertrana-i-aurora-bertrana/
LOCATION:Biblioteca Miramar\, Carrer Soria\, 16\, Miami Platja\, Tarragona\, 43892\, Spain
CATEGORIES:Ajuntament,Biblioteca
ATTACH;FMTTYPE=image/jpeg:https://mont-roig.cat/wp-content/uploads/EXPOSICIÓ-BERTRANA.jpg
GEO:41.0027012;0.9276747
X-APPLE-STRUCTURED-LOCATION;VALUE=URI;X-ADDRESS=Biblioteca Miramar Carrer Soria 16 Miami Platja Tarragona 43892 Spain;X-APPLE-RADIUS=500;X-TITLE=Carrer Soria\, 16:geo:0.9276747,41.0027012
END:VEVENT
BEGIN:VEVENT
DTSTART;TZID=Europe/Madrid:20181106T173000
DTEND;TZID=Europe/Madrid:20181106T193000
DTSTAMP:20260423T125143
CREATED:20181031T132855Z
LAST-MODIFIED:20181102T121847Z
UID:31556-1541525400-1541532600@mont-roig.cat
SUMMARY:Xerrada autoestima i optimisme.
DESCRIPTION:Xerrada que oferirà eines per ser persones positives i entusiastes. Col·laboren Unió de Dones de Mont-roig. \nCartell Mont-roig \nTriptic Dones Salut 2018
URL:https://mont-roig.cat/acte/xerrada-autoestima-i-optimisme/
LOCATION:Casal de la Gent Gran Mont-roig\, C. Aureli M. Escarré\, s/n\, Mont-roig del Camp\, Tarragona\, 43300\, Spain
CATEGORIES:Ajuntament,Cultura
ATTACH;FMTTYPE=image/png:https://mont-roig.cat/wp-content/uploads/cartell-dones-i-salut.png
END:VEVENT
END:VCALENDAR