BEGIN:VCALENDAR
VERSION:2.0
PRODID:-//Ajuntament de Mont-roig del Camp - ECPv5.16.3.1//NONSGML v1.0//EN
CALSCALE:GREGORIAN
METHOD:PUBLISH
X-WR-CALNAME:Ajuntament de Mont-roig del Camp
X-ORIGINAL-URL:https://mont-roig.cat
X-WR-CALDESC:Esdeveniments per Ajuntament de Mont-roig del Camp
BEGIN:VTIMEZONE
TZID:Europe/Madrid
BEGIN:DAYLIGHT
TZOFFSETFROM:+0100
TZOFFSETTO:+0200
TZNAME:CEST
DTSTART:20180325T010000
END:DAYLIGHT
BEGIN:STANDARD
TZOFFSETFROM:+0200
TZOFFSETTO:+0100
TZNAME:CET
DTSTART:20181028T010000
END:STANDARD
END:VTIMEZONE
BEGIN:VEVENT
DTSTART;VALUE=DATE:20181110
DTEND;VALUE=DATE:20181202
DTSTAMP:20260423T045211
CREATED:20181102T073020Z
LAST-MODIFIED:20181109T104735Z
UID:31572-1541808000-1543708799@mont-roig.cat
SUMMARY:Pedrolo més enllà dels límits.
DESCRIPTION:Exposició. Del 10 de novembre a l’1 de desembre.
URL:https://mont-roig.cat/acte/pedrolo-mes-enlla-dels-limits/
LOCATION:Biblioteca Joan Miró Mont-roig\, Carrer Mare de Déu de la Roca\, 5\, Mont-roig del Camp
CATEGORIES:Ajuntament,Biblioteca
ATTACH;FMTTYPE=image/jpeg:https://mont-roig.cat/wp-content/uploads/EXPOSICIÓ-PEDROLO2.jpg
GEO:41.08714;0.958
X-APPLE-STRUCTURED-LOCATION;VALUE=URI;X-ADDRESS=Biblioteca Joan Miró Mont-roig Carrer Mare de Déu de la Roca 5 Mont-roig del Camp;X-APPLE-RADIUS=500;X-TITLE=Carrer Mare de Déu de la Roca\, 5:geo:0.958,41.08714
END:VEVENT
BEGIN:VEVENT
DTSTART;TZID=Europe/Madrid:20181116T180000
DTEND;TZID=Europe/Madrid:20181116T200000
DTSTAMP:20260423T045211
CREATED:20181102T082315Z
LAST-MODIFIED:20181102T082315Z
UID:31589-1542391200-1542398400@mont-roig.cat
SUMMARY:Club de Lectura infantil
DESCRIPTION:Un niu de formigues.
URL:https://mont-roig.cat/acte/club-de-lectura-infantil-2/
LOCATION:Biblioteca Miramar\, Carrer Soria\, 16\, Miami Platja\, Tarragona\, 43892\, Spain
CATEGORIES:Ajuntament,Biblioteca
GEO:41.0027012;0.9276747
X-APPLE-STRUCTURED-LOCATION;VALUE=URI;X-ADDRESS=Biblioteca Miramar Carrer Soria 16 Miami Platja Tarragona 43892 Spain;X-APPLE-RADIUS=500;X-TITLE=Carrer Soria\, 16:geo:0.9276747,41.0027012
END:VEVENT
BEGIN:VEVENT
DTSTART;TZID=Europe/Madrid:20181116T200000
DTEND;TZID=Europe/Madrid:20181116T220000
DTSTAMP:20260423T045211
CREATED:20181102T083235Z
LAST-MODIFIED:20181115T134528Z
UID:31591-1542398400-1542405600@mont-roig.cat
SUMMARY:Presentació Centre Cultural Església Vella\, rebuda per part del grup de teatre Els Xuts i concert amb Laia Masdeu i Jorge Varela.
DESCRIPTION:Presentació de la programació cultural del Centre Cultural Església Vella.
URL:https://mont-roig.cat/acte/presentacio-centre-cultural-esglesia-vella-rebuda-per-part-del-grup-de-teatre-els-xuts-i-concert-amb-laia-masdeu-i-jorge-varela/
LOCATION:Església Vella\, Carrer Major\, 2\, MONT-ROIG\, TARRAGONA\, 43300\, Espanya
CATEGORIES:Ajuntament
ATTACH;FMTTYPE=image/jpeg:https://mont-roig.cat/wp-content/uploads/CCEV_baner_facebook_Hivern2018.jpg
GEO:41.0877788;0.958854
X-APPLE-STRUCTURED-LOCATION;VALUE=URI;X-ADDRESS=Església Vella Carrer Major 2 MONT-ROIG TARRAGONA 43300 Espanya;X-APPLE-RADIUS=500;X-TITLE=Carrer Major\, 2:geo:0.958854,41.0877788
END:VEVENT
END:VCALENDAR