BEGIN:VCALENDAR
VERSION:2.0
PRODID:-//Ajuntament de Mont-roig del Camp - ECPv5.16.3.1//NONSGML v1.0//EN
CALSCALE:GREGORIAN
METHOD:PUBLISH
X-WR-CALNAME:Ajuntament de Mont-roig del Camp
X-ORIGINAL-URL:https://mont-roig.cat
X-WR-CALDESC:Esdeveniments per Ajuntament de Mont-roig del Camp
BEGIN:VTIMEZONE
TZID:Europe/Madrid
BEGIN:DAYLIGHT
TZOFFSETFROM:+0100
TZOFFSETTO:+0200
TZNAME:CEST
DTSTART:20180325T010000
END:DAYLIGHT
BEGIN:STANDARD
TZOFFSETFROM:+0200
TZOFFSETTO:+0100
TZNAME:CET
DTSTART:20181028T010000
END:STANDARD
END:VTIMEZONE
BEGIN:VEVENT
DTSTART;VALUE=DATE:20181110
DTEND;VALUE=DATE:20181202
DTSTAMP:20260423T045149
CREATED:20181102T073020Z
LAST-MODIFIED:20181109T104735Z
UID:31572-1541808000-1543708799@mont-roig.cat
SUMMARY:Pedrolo més enllà dels límits.
DESCRIPTION:Exposició. Del 10 de novembre a l’1 de desembre.
URL:https://mont-roig.cat/acte/pedrolo-mes-enlla-dels-limits/
LOCATION:Biblioteca Joan Miró Mont-roig\, Carrer Mare de Déu de la Roca\, 5\, Mont-roig del Camp
CATEGORIES:Ajuntament,Biblioteca
ATTACH;FMTTYPE=image/jpeg:https://mont-roig.cat/wp-content/uploads/EXPOSICIÓ-PEDROLO2.jpg
GEO:41.08714;0.958
X-APPLE-STRUCTURED-LOCATION;VALUE=URI;X-ADDRESS=Biblioteca Joan Miró Mont-roig Carrer Mare de Déu de la Roca 5 Mont-roig del Camp;X-APPLE-RADIUS=500;X-TITLE=Carrer Mare de Déu de la Roca\, 5:geo:0.958,41.08714
END:VEVENT
BEGIN:VEVENT
DTSTART;VALUE=DATE:20181117
DTEND;VALUE=DATE:20181126
DTSTAMP:20260423T045149
CREATED:20181102T100827Z
LAST-MODIFIED:20181102T100827Z
UID:31646-1542412800-1543190399@mont-roig.cat
SUMMARY:Setmana Europea de la prevenció de residus.
DESCRIPTION:Taller de compostatge: Realitzar taller de compostatge a nens i joves del municipi de Mont-roig del Camp explicant com es realitza compost\, amb l’objectiu de reduir la generació orgánica.
URL:https://mont-roig.cat/acte/setmana-europea-de-la-prevencio-de-residus-3/
LOCATION:Mont-roig i Miami
CATEGORIES:Ajuntament,Recollida residus
END:VEVENT
BEGIN:VEVENT
DTSTART;TZID=Europe/Madrid:20181119T160000
DTEND;TZID=Europe/Madrid:20181123T200000
DTSTAMP:20260423T045149
CREATED:20181102T085145Z
LAST-MODIFIED:20181105T091128Z
UID:31602-1542643200-1543003200@mont-roig.cat
SUMMARY:Setmana de la Salut Jove. Desigualtats de gènere. “Princeses cansades de tantes històries”
DESCRIPTION:Aquest any la Setmana de la Salut Jove tracta de les desigualtats de gènere\, sota el lema “Princeses cansades de tantes històries”. Es realitzaran activitats\, tallers\, teatre i dinàmiques on es tractaran temes com el masclisme\, la violència de gènere i l’amor romàntic al cinema d’animació\, a la música actual i als còmics. \nCartell Mont-roig \nCartell Miami Platja \nTriptic Dones Salut 2018
URL:https://mont-roig.cat/acte/setmana-de-la-salut-jove-desigualtats-de-genere-princeses-cansades-de-tantes-histories/
LOCATION:Casals de joves K1 i K2\, Mont-roig i Miami
CATEGORIES:Ajuntament,Joventut
ATTACH;FMTTYPE=image/png:https://mont-roig.cat/wp-content/uploads/cartell-dones-i-salut.png
GEO:41.0332086;0.9631065
X-APPLE-STRUCTURED-LOCATION;VALUE=URI;X-ADDRESS=Casals de joves K1 i K2 Mont-roig i Miami;X-APPLE-RADIUS=500;X-TITLE=Mont-roig i Miami:geo:0.9631065,41.0332086
END:VEVENT
BEGIN:VEVENT
DTSTART;TZID=Europe/Madrid:20181120T080000
DTEND;TZID=Europe/Madrid:20181120T090000
DTSTAMP:20260423T045149
CREATED:20181120T122537Z
LAST-MODIFIED:20181120T122537Z
UID:32108-1542700800-1542704400@mont-roig.cat
SUMMARY:Visita amb el Director dels Serveis Territorials d'Esneyament a Tarragona
DESCRIPTION:
URL:https://mont-roig.cat/acte/visita-amb-el-director-dels-serveis-territorials-desneyament-a-tarragona/
LOCATION:Oficines Municipals\, Carrer de Sòria\, 14\, Miami Platja\, Tarragona\, 43892\, Espanya
CATEGORIES:Ajuntament
GEO:41.00385;0.92879
X-APPLE-STRUCTURED-LOCATION;VALUE=URI;X-ADDRESS=Oficines Municipals Carrer de Sòria 14 Miami Platja Tarragona 43892 Espanya;X-APPLE-RADIUS=500;X-TITLE=Carrer de Sòria\, 14:geo:0.92879,41.00385
END:VEVENT
BEGIN:VEVENT
DTSTART;TZID=Europe/Madrid:20181120T160000
DTEND;TZID=Europe/Madrid:20181121T200000
DTSTAMP:20260423T045149
CREATED:20181121T074017Z
LAST-MODIFIED:20181121T074443Z
UID:32178-1542729600-1542830400@mont-roig.cat
SUMMARY:Exposició "La violència de gènere al món del còmic"
DESCRIPTION:Cedida per la Unitat d’Igualtat d’Homes i Dones de la Universitat de Cadis
URL:https://mont-roig.cat/acte/exposicio-la-violencia-de-genere-al-mon-del-comic/
LOCATION:Casal de Joves K1\, c/ Aureli Escarré\, Mont-roig del Camp
CATEGORIES:Ajuntament,Joventut
ATTACH;FMTTYPE=image/jpeg:https://mont-roig.cat/wp-content/uploads/Setmana-de-la-Salut-Jove.jpg
GEO:41.07825;0.9768931
X-APPLE-STRUCTURED-LOCATION;VALUE=URI;X-ADDRESS=Casal de Joves K1 c/ Aureli Escarré Mont-roig del Camp;X-APPLE-RADIUS=500;X-TITLE=c/ Aureli Escarré:geo:0.9768931,41.07825
END:VEVENT
BEGIN:VEVENT
DTSTART;TZID=Europe/Madrid:20181120T180000
DTEND;TZID=Europe/Madrid:20181120T200000
DTSTAMP:20260423T045149
CREATED:20181102T085420Z
LAST-MODIFIED:20181102T122710Z
UID:31604-1542736800-1542744000@mont-roig.cat
SUMMARY:El tresor del Drac Rebuf.
DESCRIPTION:Conta Contes a càrrec de Sílvia Palazón. En motiu del dia 25 de novembre “Dia internacional contra la violència de gènere”. \n  \nCartell Mont-roig \nTriptic Dones Salut 2018
URL:https://mont-roig.cat/acte/el-tresor-del-drac-rebuf/
LOCATION:Biblioteca Joan Miró Mont-roig\, Carrer Mare de Déu de la Roca\, 5\, Mont-roig del Camp
CATEGORIES:Ajuntament,Biblioteca
ATTACH;FMTTYPE=image/jpeg:https://mont-roig.cat/wp-content/uploads/ESPECTACLEDRACREBUF.jpg
GEO:41.08714;0.958
X-APPLE-STRUCTURED-LOCATION;VALUE=URI;X-ADDRESS=Biblioteca Joan Miró Mont-roig Carrer Mare de Déu de la Roca 5 Mont-roig del Camp;X-APPLE-RADIUS=500;X-TITLE=Carrer Mare de Déu de la Roca\, 5:geo:0.958,41.08714
END:VEVENT
BEGIN:VEVENT
DTSTART;TZID=Europe/Madrid:20181120T183000
DTEND;TZID=Europe/Madrid:20181120T203000
DTSTAMP:20260423T045149
CREATED:20181102T090323Z
LAST-MODIFIED:20181102T124958Z
UID:31609-1542738600-1542745800@mont-roig.cat
SUMMARY:Enfocar la vida a partir dels 60.
DESCRIPTION:Ja heu fet 60 anys? I ara què us podeu preguntar. Conferència per ajudar-nos a enfocar la nostra vida a partir d’aquesta edat. \n \nCartell Miami Platja \nTriptic Dones Salut 2018
URL:https://mont-roig.cat/acte/enfocar-la-vida-a-partir-dels-60/
LOCATION:Centre Polivalent Sant Jaume\, Carrer de Sòria\, 18\, Miami Platja\, Tarragona\, 43892\, Spain
CATEGORIES:Ajuntament,Cultura
ATTACH;FMTTYPE=image/png:https://mont-roig.cat/wp-content/uploads/cartell-dones-i-salut.png
END:VEVENT
END:VCALENDAR