BEGIN:VCALENDAR
VERSION:2.0
PRODID:-//Ajuntament de Mont-roig del Camp - ECPv5.16.3.1//NONSGML v1.0//EN
CALSCALE:GREGORIAN
METHOD:PUBLISH
X-WR-CALNAME:Ajuntament de Mont-roig del Camp
X-ORIGINAL-URL:https://mont-roig.cat
X-WR-CALDESC:Esdeveniments per Ajuntament de Mont-roig del Camp
BEGIN:VTIMEZONE
TZID:Europe/Madrid
BEGIN:DAYLIGHT
TZOFFSETFROM:+0100
TZOFFSETTO:+0200
TZNAME:CEST
DTSTART:20180325T010000
END:DAYLIGHT
BEGIN:STANDARD
TZOFFSETFROM:+0200
TZOFFSETTO:+0100
TZNAME:CET
DTSTART:20181028T010000
END:STANDARD
END:VTIMEZONE
BEGIN:VEVENT
DTSTART;VALUE=DATE:20181110
DTEND;VALUE=DATE:20181202
DTSTAMP:20260423T045334
CREATED:20181102T073020Z
LAST-MODIFIED:20181109T104735Z
UID:31572-1541808000-1543708799@mont-roig.cat
SUMMARY:Pedrolo més enllà dels límits.
DESCRIPTION:Exposició. Del 10 de novembre a l’1 de desembre.
URL:https://mont-roig.cat/acte/pedrolo-mes-enlla-dels-limits/
LOCATION:Biblioteca Joan Miró Mont-roig\, Carrer Mare de Déu de la Roca\, 5\, Mont-roig del Camp
CATEGORIES:Ajuntament,Biblioteca
ATTACH;FMTTYPE=image/jpeg:https://mont-roig.cat/wp-content/uploads/EXPOSICIÓ-PEDROLO2.jpg
GEO:41.08714;0.958
X-APPLE-STRUCTURED-LOCATION;VALUE=URI;X-ADDRESS=Biblioteca Joan Miró Mont-roig Carrer Mare de Déu de la Roca 5 Mont-roig del Camp;X-APPLE-RADIUS=500;X-TITLE=Carrer Mare de Déu de la Roca\, 5:geo:0.958,41.08714
END:VEVENT
BEGIN:VEVENT
DTSTART;VALUE=DATE:20181117
DTEND;VALUE=DATE:20181126
DTSTAMP:20260423T045334
CREATED:20181102T100827Z
LAST-MODIFIED:20181102T100827Z
UID:31646-1542412800-1543190399@mont-roig.cat
SUMMARY:Setmana Europea de la prevenció de residus.
DESCRIPTION:Taller de compostatge: Realitzar taller de compostatge a nens i joves del municipi de Mont-roig del Camp explicant com es realitza compost\, amb l’objectiu de reduir la generació orgánica.
URL:https://mont-roig.cat/acte/setmana-europea-de-la-prevencio-de-residus-3/
LOCATION:Mont-roig i Miami
CATEGORIES:Ajuntament,Recollida residus
END:VEVENT
BEGIN:VEVENT
DTSTART;TZID=Europe/Madrid:20181119T160000
DTEND;TZID=Europe/Madrid:20181123T200000
DTSTAMP:20260423T045334
CREATED:20181102T085145Z
LAST-MODIFIED:20181105T091128Z
UID:31602-1542643200-1543003200@mont-roig.cat
SUMMARY:Setmana de la Salut Jove. Desigualtats de gènere. “Princeses cansades de tantes històries”
DESCRIPTION:Aquest any la Setmana de la Salut Jove tracta de les desigualtats de gènere\, sota el lema “Princeses cansades de tantes històries”. Es realitzaran activitats\, tallers\, teatre i dinàmiques on es tractaran temes com el masclisme\, la violència de gènere i l’amor romàntic al cinema d’animació\, a la música actual i als còmics. \nCartell Mont-roig \nCartell Miami Platja \nTriptic Dones Salut 2018
URL:https://mont-roig.cat/acte/setmana-de-la-salut-jove-desigualtats-de-genere-princeses-cansades-de-tantes-histories/
LOCATION:Casals de joves K1 i K2\, Mont-roig i Miami
CATEGORIES:Ajuntament,Joventut
ATTACH;FMTTYPE=image/png:https://mont-roig.cat/wp-content/uploads/cartell-dones-i-salut.png
GEO:41.0332086;0.9631065
X-APPLE-STRUCTURED-LOCATION;VALUE=URI;X-ADDRESS=Casals de joves K1 i K2 Mont-roig i Miami;X-APPLE-RADIUS=500;X-TITLE=Mont-roig i Miami:geo:0.9631065,41.0332086
END:VEVENT
BEGIN:VEVENT
DTSTART;TZID=Europe/Madrid:20181122T110000
DTEND;TZID=Europe/Madrid:20181122T130000
DTSTAMP:20260423T045334
CREATED:20181102T090847Z
LAST-MODIFIED:20181121T082006Z
UID:31613-1542884400-1542891600@mont-roig.cat
SUMMARY:Espectacle Prou! de la companyia Impacta't.
DESCRIPTION:Teatre – fòrum per reflexionar sobre l’assetjament sexual. Dirigit a l’alumnat de l’Institut Antoni Ballester i de l’Institut Miami. \nCartell Mont-roig \nCartell Miami Platja \nTriptic Dones Salut 2018 \n \n 
URL:https://mont-roig.cat/acte/espectacle-prou-de-la-companyia-impactat/
LOCATION:Casal de Joves K1\, c/ Aureli Escarré\, Mont-roig del Camp
CATEGORIES:Ajuntament,Cultura
ATTACH;FMTTYPE=image/jpeg:https://mont-roig.cat/wp-content/uploads/CARTELLS_CicleTeatre_Tardor2018_v3-008.jpg
GEO:41.07825;0.9768931
X-APPLE-STRUCTURED-LOCATION;VALUE=URI;X-ADDRESS=Casal de Joves K1 c/ Aureli Escarré Mont-roig del Camp;X-APPLE-RADIUS=500;X-TITLE=c/ Aureli Escarré:geo:0.9768931,41.07825
END:VEVENT
BEGIN:VEVENT
DTSTART;TZID=Europe/Madrid:20181122T160000
DTEND;TZID=Europe/Madrid:20181123T200000
DTSTAMP:20260423T045334
CREATED:20181121T074654Z
LAST-MODIFIED:20181121T082603Z
UID:32184-1542902400-1543003200@mont-roig.cat
SUMMARY:Exposició "La violència de gènere al món del còmic"
DESCRIPTION:Cedida per la Unitat d’Igualtat d’Homes i Dones de la Universitat de Cadis
URL:https://mont-roig.cat/acte/exposicio-la-violencia-de-genere-al-mon-del-comic-2/
LOCATION:Casal de Joves K2\, Carrer Granada\, 48\, Miami Platja
CATEGORIES:Ajuntament,Joventut
ATTACH;FMTTYPE=image/jpeg:https://mont-roig.cat/wp-content/uploads/Setmana-de-la-Salut-Jove.jpg
GEO:41.00419;0.92892
X-APPLE-STRUCTURED-LOCATION;VALUE=URI;X-ADDRESS=Casal de Joves K2 Carrer Granada 48 Miami Platja;X-APPLE-RADIUS=500;X-TITLE=Carrer Granada\, 48:geo:0.92892,41.00419
END:VEVENT
BEGIN:VEVENT
DTSTART;TZID=Europe/Madrid:20181122T180000
DTEND;TZID=Europe/Madrid:20181122T200000
DTSTAMP:20260423T045334
CREATED:20181121T075837Z
LAST-MODIFIED:20181121T082539Z
UID:32193-1542909600-1542916800@mont-roig.cat
SUMMARY:Cinefòrum
DESCRIPTION:
URL:https://mont-roig.cat/acte/cineforum-2/
LOCATION:Casal de Joves K1\, c/ Aureli Escarré\, Mont-roig del Camp
CATEGORIES:Ajuntament,Joventut
ATTACH;FMTTYPE=image/jpeg:https://mont-roig.cat/wp-content/uploads/Setmana-de-la-Salut-Jove.jpg
GEO:41.07825;0.9768931
X-APPLE-STRUCTURED-LOCATION;VALUE=URI;X-ADDRESS=Casal de Joves K1 c/ Aureli Escarré Mont-roig del Camp;X-APPLE-RADIUS=500;X-TITLE=c/ Aureli Escarré:geo:0.9768931,41.07825
END:VEVENT
BEGIN:VEVENT
DTSTART;TZID=Europe/Madrid:20181122T190000
DTEND;TZID=Europe/Madrid:20181122T210000
DTSTAMP:20260423T045334
CREATED:20181102T091128Z
LAST-MODIFIED:20181102T102938Z
UID:31615-1542913200-1542920400@mont-roig.cat
SUMMARY:Espectacle Poètic musical\, “Mai no és de nit”
DESCRIPTION:Dedicat a l’any Pedrolo a càrrec de Jaume Calatayud i Vicente Morera. Patrocinat pel Servei de Biblioteques de la Generalitat de Catalunya. Conjuntament amb el Centre d’Estudis Mont-rogencs.
URL:https://mont-roig.cat/acte/espectacle-poetic-musical-mai-no-es-de-nit/
LOCATION:Biblioteca Joan Miró Mont-roig\, Carrer Mare de Déu de la Roca\, 5\, Mont-roig del Camp
CATEGORIES:Ajuntament,Biblioteca
ATTACH;FMTTYPE=image/jpeg:https://mont-roig.cat/wp-content/uploads/COMPOSICIÓPOETICOMUSICAL.jpg
GEO:41.08714;0.958
X-APPLE-STRUCTURED-LOCATION;VALUE=URI;X-ADDRESS=Biblioteca Joan Miró Mont-roig Carrer Mare de Déu de la Roca 5 Mont-roig del Camp;X-APPLE-RADIUS=500;X-TITLE=Carrer Mare de Déu de la Roca\, 5:geo:0.958,41.08714
END:VEVENT
END:VCALENDAR