BEGIN:VCALENDAR
VERSION:2.0
PRODID:-//Ajuntament de Mont-roig del Camp - ECPv5.16.3.1//NONSGML v1.0//EN
CALSCALE:GREGORIAN
METHOD:PUBLISH
X-WR-CALNAME:Ajuntament de Mont-roig del Camp
X-ORIGINAL-URL:https://mont-roig.cat
X-WR-CALDESC:Esdeveniments per Ajuntament de Mont-roig del Camp
BEGIN:VTIMEZONE
TZID:Europe/Madrid
BEGIN:DAYLIGHT
TZOFFSETFROM:+0100
TZOFFSETTO:+0200
TZNAME:CEST
DTSTART:20180325T010000
END:DAYLIGHT
BEGIN:STANDARD
TZOFFSETFROM:+0200
TZOFFSETTO:+0100
TZNAME:CET
DTSTART:20181028T010000
END:STANDARD
END:VTIMEZONE
BEGIN:VEVENT
DTSTART;VALUE=DATE:20181110
DTEND;VALUE=DATE:20181202
DTSTAMP:20260423T084512
CREATED:20181102T073020Z
LAST-MODIFIED:20181109T104735Z
UID:31572-1541808000-1543708799@mont-roig.cat
SUMMARY:Pedrolo més enllà dels límits.
DESCRIPTION:Exposició. Del 10 de novembre a l’1 de desembre.
URL:https://mont-roig.cat/acte/pedrolo-mes-enlla-dels-limits/
LOCATION:Biblioteca Joan Miró Mont-roig\, Carrer Mare de Déu de la Roca\, 5\, Mont-roig del Camp
CATEGORIES:Ajuntament,Biblioteca
ATTACH;FMTTYPE=image/jpeg:https://mont-roig.cat/wp-content/uploads/EXPOSICIÓ-PEDROLO2.jpg
GEO:41.08714;0.958
X-APPLE-STRUCTURED-LOCATION;VALUE=URI;X-ADDRESS=Biblioteca Joan Miró Mont-roig Carrer Mare de Déu de la Roca 5 Mont-roig del Camp;X-APPLE-RADIUS=500;X-TITLE=Carrer Mare de Déu de la Roca\, 5:geo:0.958,41.08714
END:VEVENT
BEGIN:VEVENT
DTSTART;TZID=Europe/Madrid:20181129T190000
DTEND;TZID=Europe/Madrid:20181129T210000
DTSTAMP:20260423T084512
CREATED:20181102T093906Z
LAST-MODIFIED:20181102T104425Z
UID:31632-1543518000-1543525200@mont-roig.cat
SUMMARY:Presentació de llibre.
DESCRIPTION:Presentació del llibre “La noche sin memoria” de l’autor local Jordi Ledesma Álvarez. Conjuntament amb el Centre d’Estudis Mont-rogencs.
URL:https://mont-roig.cat/acte/presentacio-de-llibre/
LOCATION:Biblioteca Joan Miró Mont-roig\, Carrer Mare de Déu de la Roca\, 5\, Mont-roig del Camp
CATEGORIES:Ajuntament,Biblioteca
ATTACH;FMTTYPE=image/jpeg:https://mont-roig.cat/wp-content/uploads/JORDILEDESMA.jpg
GEO:41.08714;0.958
X-APPLE-STRUCTURED-LOCATION;VALUE=URI;X-ADDRESS=Biblioteca Joan Miró Mont-roig Carrer Mare de Déu de la Roca 5 Mont-roig del Camp;X-APPLE-RADIUS=500;X-TITLE=Carrer Mare de Déu de la Roca\, 5:geo:0.958,41.08714
END:VEVENT
BEGIN:VEVENT
DTSTART;TZID=Europe/Madrid:20181129T190000
DTEND;TZID=Europe/Madrid:20181129T210000
DTSTAMP:20260423T084512
CREATED:20181102T094337Z
LAST-MODIFIED:20181102T102051Z
UID:31630-1543518000-1543525200@mont-roig.cat
SUMMARY:Taller “Reputació en línia”.
DESCRIPTION:Gestionar\, analitzar i millorar la imatge de la nostra empresa a la xarxa per incrementar la comercialització de productes i serveis. Ponent: Jaume Boldú.
URL:https://mont-roig.cat/acte/taller-reputacio-en-linia/
LOCATION:Centre de Treball Compartit l’Espai\, Av. de Màlaga\, 32\, Miami Platja
CATEGORIES:Ajuntament,Impuls Econòmic i Ocupació
ATTACH;FMTTYPE=image/jpeg:https://mont-roig.cat/wp-content/uploads/Cartell-Taller-Reputació-en-línia.jpg
GEO:41.0035903;0.9290676
X-APPLE-STRUCTURED-LOCATION;VALUE=URI;X-ADDRESS=Centre de Treball Compartit l’Espai Av. de Màlaga 32 Miami Platja;X-APPLE-RADIUS=500;X-TITLE=Av. de Màlaga\, 32:geo:0.9290676,41.0035903
END:VEVENT
END:VCALENDAR