BEGIN:VCALENDAR
VERSION:2.0
PRODID:-//Ajuntament de Mont-roig del Camp - ECPv5.16.3.1//NONSGML v1.0//EN
CALSCALE:GREGORIAN
METHOD:PUBLISH
X-WR-CALNAME:Ajuntament de Mont-roig del Camp
X-ORIGINAL-URL:https://mont-roig.cat
X-WR-CALDESC:Esdeveniments per Ajuntament de Mont-roig del Camp
BEGIN:VTIMEZONE
TZID:Europe/Madrid
BEGIN:DAYLIGHT
TZOFFSETFROM:+0100
TZOFFSETTO:+0200
TZNAME:CEST
DTSTART:20180325T010000
END:DAYLIGHT
BEGIN:STANDARD
TZOFFSETFROM:+0200
TZOFFSETTO:+0100
TZNAME:CET
DTSTART:20181028T010000
END:STANDARD
END:VTIMEZONE
BEGIN:VEVENT
DTSTART;TZID=Europe/Madrid:20181202T190000
DTEND;TZID=Europe/Madrid:20181202T190000
DTSTAMP:20260423T163019
CREATED:20181123T112032Z
LAST-MODIFIED:20181123T112032Z
UID:32416-1543777200-1543777200@mont-roig.cat
SUMMARY:Acte d’encesa de llums Mont-roig
DESCRIPTION:Vine a l’encesa de llums. Inaugura el Nadal a Mont-roig. \n\nEncesa de llums de Nadal\nActuació dels infants de l’Aula de Música Baptista Nogués\nActuació de la Coral Sant Miquel de Mont-roig\nXocolata desfeta per a tothom\n\nCol·labora: Coral Sant Miquel de Mont-roig i Aula de Música Baptista Nogués \nPrograma Nadal 2018 Miami Platja \nPrograma Nadal 2018 Mont-roig
URL:https://mont-roig.cat/acte/acte-dencesa-de-llums-mont-roig/
LOCATION:Plaça Joan Miró
CATEGORIES:Ajuntament,Impuls Econòmic i Ocupació
ATTACH;FMTTYPE=image/jpeg:https://mont-roig.cat/wp-content/uploads/MM_ENCESA_MONTROIG.jpeg
END:VEVENT
END:VCALENDAR