BEGIN:VCALENDAR
VERSION:2.0
PRODID:-//Ajuntament de Mont-roig del Camp - ECPv5.16.3.1//NONSGML v1.0//EN
CALSCALE:GREGORIAN
METHOD:PUBLISH
X-WR-CALNAME:Ajuntament de Mont-roig del Camp
X-ORIGINAL-URL:https://mont-roig.cat
X-WR-CALDESC:Esdeveniments per Ajuntament de Mont-roig del Camp
BEGIN:VTIMEZONE
TZID:Europe/Madrid
BEGIN:DAYLIGHT
TZOFFSETFROM:+0100
TZOFFSETTO:+0200
TZNAME:CEST
DTSTART:20180325T010000
END:DAYLIGHT
BEGIN:STANDARD
TZOFFSETFROM:+0200
TZOFFSETTO:+0100
TZNAME:CET
DTSTART:20181028T010000
END:STANDARD
END:VTIMEZONE
BEGIN:VEVENT
DTSTART;TZID=Europe/Madrid:20181211T170000
DTEND;TZID=Europe/Madrid:20181211T193000
DTSTAMP:20260423T121126
CREATED:20181123T074848Z
LAST-MODIFIED:20181123T080009Z
UID:32287-1544547600-1544556600@mont-roig.cat
SUMMARY:Tornejos de Nadal
DESCRIPTION:Toreig de Ping-pong individual i Torneig de Futbolí. \nPrograma Nadal 2018 Miami Platja \nPrograma Nadal 2018 Mont-roig
URL:https://mont-roig.cat/acte/tornejos-de-nadal/
LOCATION:Casals de joves K1 i K2\, Mont-roig i Miami
CATEGORIES:Ajuntament,Joventut
ATTACH;FMTTYPE=image/jpeg:https://mont-roig.cat/wp-content/uploads/MM_GENERIC_NADAL2018.jpeg
GEO:41.0332086;0.9631065
X-APPLE-STRUCTURED-LOCATION;VALUE=URI;X-ADDRESS=Casals de joves K1 i K2 Mont-roig i Miami;X-APPLE-RADIUS=500;X-TITLE=Mont-roig i Miami:geo:0.9631065,41.0332086
END:VEVENT
BEGIN:VEVENT
DTSTART;TZID=Europe/Madrid:20181211T180000
DTEND;TZID=Europe/Madrid:20181211T200000
DTSTAMP:20260423T121126
CREATED:20181123T075108Z
LAST-MODIFIED:20181129T080122Z
UID:32288-1544551200-1544558400@mont-roig.cat
SUMMARY:Taller de Nadal
DESCRIPTION:La caseta dels somnis! \nPrograma Nadal 2018 Miami Platja \nPrograma Nadal 2018 Mont-roig
URL:https://mont-roig.cat/acte/taller-de-nadal/
LOCATION:Biblioteca Miramar\, Carrer Soria\, 16\, Miami Platja\, Tarragona\, 43892\, Spain
CATEGORIES:Ajuntament,Cultura
ATTACH;FMTTYPE=image/jpeg:https://mont-roig.cat/wp-content/uploads/MM_GENERIC_NADAL2018.jpeg
GEO:41.0027012;0.9276747
X-APPLE-STRUCTURED-LOCATION;VALUE=URI;X-ADDRESS=Biblioteca Miramar Carrer Soria 16 Miami Platja Tarragona 43892 Spain;X-APPLE-RADIUS=500;X-TITLE=Carrer Soria\, 16:geo:0.9276747,41.0027012
END:VEVENT
END:VCALENDAR