BEGIN:VCALENDAR
VERSION:2.0
PRODID:-//Ajuntament de Mont-roig del Camp - ECPv5.16.3.1//NONSGML v1.0//EN
CALSCALE:GREGORIAN
METHOD:PUBLISH
X-WR-CALNAME:Ajuntament de Mont-roig del Camp
X-ORIGINAL-URL:https://mont-roig.cat
X-WR-CALDESC:Esdeveniments per Ajuntament de Mont-roig del Camp
BEGIN:VTIMEZONE
TZID:Europe/Madrid
BEGIN:DAYLIGHT
TZOFFSETFROM:+0100
TZOFFSETTO:+0200
TZNAME:CEST
DTSTART:20180325T010000
END:DAYLIGHT
BEGIN:STANDARD
TZOFFSETFROM:+0200
TZOFFSETTO:+0100
TZNAME:CET
DTSTART:20181028T010000
END:STANDARD
END:VTIMEZONE
BEGIN:VEVENT
DTSTART;TZID=Europe/Madrid:20181229T190000
DTEND;TZID=Europe/Madrid:20181230T210000
DTSTAMP:20260423T084459
CREATED:20181126T100849Z
LAST-MODIFIED:20181126T135145Z
UID:32487-1546110000-1546203600@mont-roig.cat
SUMMARY:Conte de Nadal de Charles Dickens
DESCRIPTION:Els joves del Grup de Teatre Els Xuts representaran l’obra El Conte de Nadal\, amb versió d’Adelaida Frias. \nPrograma Nadal 2018 Miami Platja \nPrograma Nadal 2018 Mont-roig
URL:https://mont-roig.cat/acte/conte-de-nadal-de-charles-dickens/
LOCATION:Casal de Joves K1\, c/ Aureli Escarré\, Mont-roig del Camp
CATEGORIES:Ajuntament,Festes
ATTACH;FMTTYPE=image/jpeg:https://mont-roig.cat/wp-content/uploads/MM_GENERIC_NADAL2018.jpeg
GEO:41.07825;0.9768931
X-APPLE-STRUCTURED-LOCATION;VALUE=URI;X-ADDRESS=Casal de Joves K1 c/ Aureli Escarré Mont-roig del Camp;X-APPLE-RADIUS=500;X-TITLE=c/ Aureli Escarré:geo:0.9768931,41.07825
END:VEVENT
BEGIN:VEVENT
DTSTART;TZID=Europe/Madrid:20181230T103000
DTEND;TZID=Europe/Madrid:20181230T123000
DTSTAMP:20260423T084459
CREATED:20181126T115734Z
LAST-MODIFIED:20181126T115734Z
UID:32486-1546165800-1546173000@mont-roig.cat
SUMMARY:7ª Cursa dels Nassos
DESCRIPTION:Cursa popular de circuit mixt d’uns 5 km. En acabar\, hi haurà la Cursa dels Nassets pels més petits. Organitza: C.E. L’Areny. \nPrograma Nadal 2018 Miami Platja \nPrograma Nadal 2018 Mont-roig
URL:https://mont-roig.cat/acte/7a-cursa-dels-nassos/
LOCATION:Poliesportiu de Mont-roig del Camp\, Carrer Aureli Maria Escarré\, 3\, Mont-roig del Camp\, Tarragona\, 43300\, Spain
CATEGORIES:Ajuntament,Esports
ATTACH;FMTTYPE=image/jpeg:https://mont-roig.cat/wp-content/uploads/MM_GENERIC_NADAL2018.jpeg
GEO:41.0865513;0.9606138
X-APPLE-STRUCTURED-LOCATION;VALUE=URI;X-ADDRESS=Poliesportiu de Mont-roig del Camp Carrer Aureli Maria Escarré 3 Mont-roig del Camp Tarragona 43300 Spain;X-APPLE-RADIUS=500;X-TITLE=Carrer Aureli Maria Escarré\, 3:geo:0.9606138,41.0865513
END:VEVENT
BEGIN:VEVENT
DTSTART;TZID=Europe/Madrid:20181230T110000
DTEND;TZID=Europe/Madrid:20181230T130000
DTSTAMP:20260423T084459
CREATED:20181123T095504Z
LAST-MODIFIED:20181123T095504Z
UID:32375-1546167600-1546174800@mont-roig.cat
SUMMARY:Vermut pre-cap any
DESCRIPTION:Anticipa’t a la festa de Cap d’Any i vine a celebrar les campanades a les 12 del migdia amb els dj’s Maiol Navarro\, D-Lort resident del Tropical Salou i dj convidat del Mar Musik. Preu vermut socis: 1€\, no socis: 2€. Organitza: Associació Mitjanit. \nPrograma Nadal 2018 Miami Platja \nPrograma Nadal 2018 Mont-roig
URL:https://mont-roig.cat/acte/vermut-pre-cap-any/
LOCATION:Centre Polivalent Sant Jaume\, Carrer de Sòria\, 18\, Miami Platja\, Tarragona\, 43892\, Spain
CATEGORIES:Ajuntament,Festes
ATTACH;FMTTYPE=image/jpeg:https://mont-roig.cat/wp-content/uploads/MM_GENERIC_NADAL2018.jpeg
END:VEVENT
BEGIN:VEVENT
DTSTART;TZID=Europe/Madrid:20181230T110000
DTEND;TZID=Europe/Madrid:20181230T140000
DTSTAMP:20260423T084459
CREATED:20181126T120820Z
LAST-MODIFIED:20181126T120820Z
UID:32485-1546167600-1546178400@mont-roig.cat
SUMMARY:Cap d’any anticipat
DESCRIPTION:Celebra abans que ningú l’arribada de l’any nou\, a les 12 del migdia\, amb un vermut electrònic. \nPrograma Nadal 2018 Miami Platja \nPrograma Nadal 2018 Mont-roig
URL:https://mont-roig.cat/acte/cap-dany-anticipat/
LOCATION:Poliesportiu de Mont-roig del Camp\, Carrer Aureli Maria Escarré\, 3\, Mont-roig del Camp\, Tarragona\, 43300\, Spain
CATEGORIES:Ajuntament,Festes
ATTACH;FMTTYPE=image/jpeg:https://mont-roig.cat/wp-content/uploads/MM_GENERIC_NADAL2018.jpeg
GEO:41.0865513;0.9606138
X-APPLE-STRUCTURED-LOCATION;VALUE=URI;X-ADDRESS=Poliesportiu de Mont-roig del Camp Carrer Aureli Maria Escarré 3 Mont-roig del Camp Tarragona 43300 Spain;X-APPLE-RADIUS=500;X-TITLE=Carrer Aureli Maria Escarré\, 3:geo:0.9606138,41.0865513
END:VEVENT
END:VCALENDAR