BEGIN:VCALENDAR
VERSION:2.0
PRODID:-//Ajuntament de Mont-roig del Camp - ECPv5.16.3.1//NONSGML v1.0//EN
CALSCALE:GREGORIAN
METHOD:PUBLISH
X-WR-CALNAME:Ajuntament de Mont-roig del Camp
X-ORIGINAL-URL:https://mont-roig.cat
X-WR-CALDESC:Esdeveniments per Ajuntament de Mont-roig del Camp
BEGIN:VTIMEZONE
TZID:Europe/Madrid
BEGIN:DAYLIGHT
TZOFFSETFROM:+0100
TZOFFSETTO:+0200
TZNAME:CEST
DTSTART:20180325T010000
END:DAYLIGHT
BEGIN:STANDARD
TZOFFSETFROM:+0200
TZOFFSETTO:+0100
TZNAME:CET
DTSTART:20181028T010000
END:STANDARD
END:VTIMEZONE
BEGIN:VEVENT
DTSTART;TZID=Europe/Madrid:20181231T180000
DTEND;TZID=Europe/Madrid:20181231T200000
DTSTAMP:20260423T033629
CREATED:20181126T121103Z
LAST-MODIFIED:20181126T121103Z
UID:32507-1546279200-1546286400@mont-roig.cat
SUMMARY:L’Home dels Nassos
DESCRIPTION:Visita d’aquest tradicional personatge que té tants nassos com dies li  falten a l’any. \nPrograma Nadal 2018 Miami Platja \nPrograma Nadal 2018 Mont-roig
URL:https://mont-roig.cat/acte/lhome-dels-nassos/
LOCATION:Centre Cultural Església Vella
CATEGORIES:Ajuntament,Festes
ATTACH;FMTTYPE=image/jpeg:https://mont-roig.cat/wp-content/uploads/MM_GENERIC_NADAL2018.jpeg
END:VEVENT
BEGIN:VEVENT
DTSTART;TZID=Europe/Madrid:20181231T220000
DTEND;TZID=Europe/Madrid:20181231T233000
DTSTAMP:20260423T033629
CREATED:20181123T095733Z
LAST-MODIFIED:20181205T092727Z
UID:32374-1546293600-1546299000@mont-roig.cat
SUMMARY:Sopar de Cap d’Any
DESCRIPTION:Preu del sopar: 50 €. Elaborat pel restaurant La Cuina. \nInscripcions limitades fins al 27 de desembre al telèfon 692 315 021. \nCol·labora: Casal d’Avis Sant Jaume de Miami Platja \nPrograma Nadal 2018 Miami Platja \nPrograma Nadal 2018 Mont-roig
URL:https://mont-roig.cat/acte/sopar-de-cap-dany/
LOCATION:Casal d’Avis Sant Jaume
CATEGORIES:Ajuntament,Festes
ATTACH;FMTTYPE=image/jpeg:https://mont-roig.cat/wp-content/uploads/MM_GENERIC_NADAL2018.jpeg
END:VEVENT
END:VCALENDAR