BEGIN:VCALENDAR
VERSION:2.0
PRODID:-//Ajuntament de Mont-roig del Camp - ECPv5.16.3.1//NONSGML v1.0//EN
CALSCALE:GREGORIAN
METHOD:PUBLISH
X-WR-CALNAME:Ajuntament de Mont-roig del Camp
X-ORIGINAL-URL:https://mont-roig.cat
X-WR-CALDESC:Esdeveniments per Ajuntament de Mont-roig del Camp
BEGIN:VTIMEZONE
TZID:Europe/Madrid
BEGIN:DAYLIGHT
TZOFFSETFROM:+0100
TZOFFSETTO:+0200
TZNAME:CEST
DTSTART:20190331T010000
END:DAYLIGHT
BEGIN:STANDARD
TZOFFSETFROM:+0200
TZOFFSETTO:+0100
TZNAME:CET
DTSTART:20191027T010000
END:STANDARD
END:VTIMEZONE
BEGIN:VEVENT
DTSTART;TZID=Europe/Madrid:20190101T003000
DTEND;TZID=Europe/Madrid:20190101T030000
DTSTAMP:20260423T014956
CREATED:20181123T100132Z
LAST-MODIFIED:20181123T100132Z
UID:32383-1546302600-1546311600@mont-roig.cat
SUMMARY:Revetlla de Cap d’Any amb el Trio Persuasión
DESCRIPTION:Per donar la benvinguda al nou any de la millor manera possible. \nPrograma Nadal 2018 Miami Platja \nPrograma Nadal 2018 Mont-roig
URL:https://mont-roig.cat/acte/revetlla-de-cap-dany-amb-el-trio-persuasion/
LOCATION:Centre Polivalent Sant Jaume\, Carrer de Sòria\, 18\, Miami Platja\, Tarragona\, 43892\, Spain
CATEGORIES:Ajuntament,Festes
ATTACH;FMTTYPE=image/jpeg:https://mont-roig.cat/wp-content/uploads/MM_GENERIC_NADAL2018.jpeg
END:VEVENT
BEGIN:VEVENT
DTSTART;TZID=Europe/Madrid:20190101T003000
DTEND;TZID=Europe/Madrid:20190101T033000
DTSTAMP:20260423T014956
CREATED:20181126T121521Z
LAST-MODIFIED:20181126T121521Z
UID:32506-1546302600-1546313400@mont-roig.cat
SUMMARY:Revetlla de Cap d’Any
DESCRIPTION:Show Menéalo On Tour amb Más & Más i Dj Nacho Lascasas. Servei de bar a càrrec dels Kintus/es. \nPrograma Nadal 2018 Miami Platja \nPrograma Nadal 2018 Mont-roig
URL:https://mont-roig.cat/acte/revetlla-de-cap-dany/
LOCATION:Poliesportiu de Mont-roig del Camp\, Carrer Aureli Maria Escarré\, 3\, Mont-roig del Camp\, Tarragona\, 43300\, Spain
CATEGORIES:Ajuntament,Festes
ATTACH;FMTTYPE=image/jpeg:https://mont-roig.cat/wp-content/uploads/MM_GENERIC_NADAL2018.jpeg
GEO:41.0865513;0.9606138
X-APPLE-STRUCTURED-LOCATION;VALUE=URI;X-ADDRESS=Poliesportiu de Mont-roig del Camp Carrer Aureli Maria Escarré 3 Mont-roig del Camp Tarragona 43300 Spain;X-APPLE-RADIUS=500;X-TITLE=Carrer Aureli Maria Escarré\, 3:geo:0.9606138,41.0865513
END:VEVENT
BEGIN:VEVENT
DTSTART;TZID=Europe/Madrid:20190101T113000
DTEND;TZID=Europe/Madrid:20190101T130000
DTSTAMP:20260423T014956
CREATED:20181123T100513Z
LAST-MODIFIED:20181123T100555Z
UID:32382-1546342200-1546347600@mont-roig.cat
SUMMARY:Missa de Cap d’Any
DESCRIPTION:Programa Nadal 2018 Miami Platja \nPrograma Nadal 2018 Mont-roig
URL:https://mont-roig.cat/acte/missa-de-cap-dany/
LOCATION:Església Santa M. Magdalena
CATEGORIES:Ajuntament,Festes
ATTACH;FMTTYPE=image/jpeg:https://mont-roig.cat/wp-content/uploads/MM_GENERIC_NADAL2018.jpeg
END:VEVENT
BEGIN:VEVENT
DTSTART;TZID=Europe/Madrid:20190101T120000
DTEND;TZID=Europe/Madrid:20190101T140000
DTSTAMP:20260423T014956
CREATED:20181123T100821Z
LAST-MODIFIED:20181123T100821Z
UID:32381-1546344000-1546351200@mont-roig.cat
SUMMARY:Primer bany de l’any
DESCRIPTION:Vine disfressat\, la millor vestimenta tindrà premi. Et podràs escalfar amb la sopa típica holandesa i vermut. \nPrograma Nadal 2018 Miami Platja \nPrograma Nadal 2018 Mont-roig
URL:https://mont-roig.cat/acte/primer-bany-de-lany-3/
LOCATION:Pèrgola Platja Cristall\, Platja Cristall\, Miami Platja \, 43892
CATEGORIES:Ajuntament,Festes
ATTACH;FMTTYPE=image/jpeg:https://mont-roig.cat/wp-content/uploads/MM_GENERIC_NADAL2018.jpeg
GEO:40.998277;0.9350433
X-APPLE-STRUCTURED-LOCATION;VALUE=URI;X-ADDRESS=Pèrgola Platja Cristall Platja Cristall Miami Platja  43892;X-APPLE-RADIUS=500;X-TITLE=Platja Cristall:geo:0.9350433,40.998277
END:VEVENT
BEGIN:VEVENT
DTSTART;TZID=Europe/Madrid:20190101T130000
DTEND;TZID=Europe/Madrid:20190101T150000
DTSTAMP:20260423T014956
CREATED:20181126T121841Z
LAST-MODIFIED:20181126T121841Z
UID:32505-1546347600-1546354800@mont-roig.cat
SUMMARY:Missa de Cap d’Any
DESCRIPTION:Programa Nadal 2018 Miami Platja \nPrograma Nadal 2018 Mont-roig
URL:https://mont-roig.cat/acte/missa-de-cap-dany-2/
LOCATION:Església Sant Miquel Arcàngel de Mont-roig\, Carrer Bisbe Macià\, 5\, Mont-roig\, Tarragona\, 43300\, Espanya
CATEGORIES:Ajuntament,Festes
ATTACH;FMTTYPE=image/jpeg:https://mont-roig.cat/wp-content/uploads/MM_GENERIC_NADAL2018.jpeg
GEO:41.0876607;0.9584243
X-APPLE-STRUCTURED-LOCATION;VALUE=URI;X-ADDRESS=Església Sant Miquel Arcàngel de Mont-roig Carrer Bisbe Macià 5 Mont-roig Tarragona 43300 Espanya;X-APPLE-RADIUS=500;X-TITLE=Carrer Bisbe Macià\, 5:geo:0.9584243,41.0876607
END:VEVENT
BEGIN:VEVENT
DTSTART;TZID=Europe/Madrid:20190101T180000
DTEND;TZID=Europe/Madrid:20190101T200000
DTSTAMP:20260423T014956
CREATED:20181126T122314Z
LAST-MODIFIED:20181126T122314Z
UID:32513-1546365600-1546372800@mont-roig.cat
SUMMARY:Pessebre vivent i recollida de cartes
DESCRIPTION:Durant la tarda hi haurà els Emissaris de Ses Majestats els Reis Mags d’Orient que recolliran les cartes. \nOrganitza: Alumnes de 6è de primària de l’Escola Mare de Déu de la Roca. \nPrograma Nadal 2018 Miami Platja \nPrograma Nadal 2018 Mont-roig
URL:https://mont-roig.cat/acte/pessebre-vivent-i-recollida-de-cartes-2/
LOCATION:Rentadors
CATEGORIES:Ajuntament,Esports
ATTACH;FMTTYPE=image/jpeg:https://mont-roig.cat/wp-content/uploads/MM_GENERIC_NADAL2018.jpeg
END:VEVENT
END:VCALENDAR