BEGIN:VCALENDAR
VERSION:2.0
PRODID:-//Ajuntament de Mont-roig del Camp - ECPv5.16.3.1//NONSGML v1.0//EN
CALSCALE:GREGORIAN
METHOD:PUBLISH
X-WR-CALNAME:Ajuntament de Mont-roig del Camp
X-ORIGINAL-URL:https://mont-roig.cat
X-WR-CALDESC:Esdeveniments per Ajuntament de Mont-roig del Camp
BEGIN:VTIMEZONE
TZID:Europe/Madrid
BEGIN:DAYLIGHT
TZOFFSETFROM:+0100
TZOFFSETTO:+0200
TZNAME:CEST
DTSTART:20190331T010000
END:DAYLIGHT
BEGIN:STANDARD
TZOFFSETFROM:+0200
TZOFFSETTO:+0100
TZNAME:CET
DTSTART:20191027T010000
END:STANDARD
END:VTIMEZONE
BEGIN:VEVENT
DTSTART;TZID=Europe/Madrid:20190103T180000
DTEND;TZID=Europe/Madrid:20190103T200000
DTSTAMP:20260423T002328
CREATED:20181123T101136Z
LAST-MODIFIED:20181221T092840Z
UID:32390-1546538400-1546545600@mont-roig.cat
SUMMARY:Taller de cuina per a petits Xefs
DESCRIPTION:Activitat adreçada a infants de 3\, 4 i 5 anys acompanyats d’un adult. Places limitades. Inscripcions fins al 28 de desembre a: festes@mont-roig.cat. \nPrograma Nadal 2018 Miami Platja \nPrograma Nadal 2018 Mont-roig \n 
URL:https://mont-roig.cat/acte/taller-de-cuina-per-a-petits-xefs/
LOCATION:Centre Polivalent Sant Jaume\, Carrer de Sòria\, 18\, Miami Platja\, Tarragona\, 43892\, Spain
CATEGORIES:Ajuntament,Festes
ATTACH;FMTTYPE=image/jpeg:https://mont-roig.cat/wp-content/uploads/MM_GENERIC_NADAL2018.jpeg
END:VEVENT
BEGIN:VEVENT
DTSTART;TZID=Europe/Madrid:20190103T180000
DTEND;TZID=Europe/Madrid:20190103T200000
DTSTAMP:20260423T002328
CREATED:20181126T122908Z
LAST-MODIFIED:20181126T122908Z
UID:32515-1546538400-1546545600@mont-roig.cat
SUMMARY:Entrega dels premis del Concurs de Pessebres 2018.
DESCRIPTION:L’Ajuntament entregarà els premis als guanyadors del concurs de pessebres de l’any 2018. \nPrograma Nadal 2018 Miami Platja \nPrograma Nadal 2018 Mont-roig
URL:https://mont-roig.cat/acte/entrega-dels-premis-del-concurs-de-pessebres-2018/
LOCATION:Casa de la Cultura\, Carrer Mare de Déu de la Roca\, 5\, Mont-roig del Camp\, Tarragona\, 43300\, Spain
CATEGORIES:Ajuntament,Biblioteca
ATTACH;FMTTYPE=image/jpeg:https://mont-roig.cat/wp-content/uploads/MM_GENERIC_NADAL2018.jpeg
GEO:41.08714;0.958
X-APPLE-STRUCTURED-LOCATION;VALUE=URI;X-ADDRESS=Casa de la Cultura Carrer Mare de Déu de la Roca 5 Mont-roig del Camp Tarragona 43300 Spain;X-APPLE-RADIUS=500;X-TITLE=Carrer Mare de Déu de la Roca\, 5:geo:0.958,41.08714
END:VEVENT
BEGIN:VEVENT
DTSTART;TZID=Europe/Madrid:20190103T180000
DTEND;TZID=Europe/Madrid:20190103T190000
DTSTAMP:20260423T002328
CREATED:20181227T131925Z
LAST-MODIFIED:20181227T131925Z
UID:33055-1546538400-1546542000@mont-roig.cat
SUMMARY:Entrega de premis de pessebres
DESCRIPTION:
URL:https://mont-roig.cat/acte/entrega-de-premis-de-pessebres/
LOCATION:Casa de Cultura
END:VEVENT
END:VCALENDAR