BEGIN:VCALENDAR
VERSION:2.0
PRODID:-//Ajuntament de Mont-roig del Camp - ECPv5.16.3.1//NONSGML v1.0//EN
CALSCALE:GREGORIAN
METHOD:PUBLISH
X-WR-CALNAME:Ajuntament de Mont-roig del Camp
X-ORIGINAL-URL:https://mont-roig.cat
X-WR-CALDESC:Esdeveniments per Ajuntament de Mont-roig del Camp
BEGIN:VTIMEZONE
TZID:Europe/Madrid
BEGIN:DAYLIGHT
TZOFFSETFROM:+0100
TZOFFSETTO:+0200
TZNAME:CEST
DTSTART:20190331T010000
END:DAYLIGHT
BEGIN:STANDARD
TZOFFSETFROM:+0200
TZOFFSETTO:+0100
TZNAME:CET
DTSTART:20191027T010000
END:STANDARD
END:VTIMEZONE
BEGIN:VEVENT
DTSTART;TZID=Europe/Madrid:20190123T100000
DTEND;TZID=Europe/Madrid:20190123T123000
DTSTAMP:20260423T083924
CREATED:20190114T122334Z
LAST-MODIFIED:20190114T122426Z
UID:33310-1548237600-1548246600@mont-roig.cat
SUMMARY:Renovació del DNI a Miami Platja
DESCRIPTION:Us informem que agents de la Policia Nacional vindran a Miami Platja el proper dia 23 de gener per renovar el DNI. El dia 25 els ciutadans podran tornar a passar per recollir. Prèviament cal passar per les oficines municipals de Miami Platja per reservar hora per renovar el DNI o fer-ho trucant al 977 170 440.\n➡️ També es pot fer a través de la web: https://mont-roig.cat/…/atencio-ciuta…/tramits-i-instancies/
URL:https://mont-roig.cat/acte/renovacio-del-dni-a-miami-platja-2/
LOCATION:Biblioteca Miramar\, Carrer Soria\, 16\, Miami Platja\, Tarragona\, 43892\, Spain
CATEGORIES:Ajuntament
ATTACH;FMTTYPE=image/jpeg:https://mont-roig.cat/wp-content/uploads/dni_imatge-1.jpg
GEO:41.0027012;0.9276747
X-APPLE-STRUCTURED-LOCATION;VALUE=URI;X-ADDRESS=Biblioteca Miramar Carrer Soria 16 Miami Platja Tarragona 43892 Spain;X-APPLE-RADIUS=500;X-TITLE=Carrer Soria\, 16:geo:0.9276747,41.0027012
END:VEVENT
BEGIN:VEVENT
DTSTART;TZID=Europe/Madrid:20190123T180000
DTEND;TZID=Europe/Madrid:20190123T200000
DTSTAMP:20260423T083924
CREATED:20190114T071004Z
LAST-MODIFIED:20190114T071218Z
UID:33297-1548266400-1548273600@mont-roig.cat
SUMMARY:Contes i més contes!
DESCRIPTION:Els fantàstics llibres voladors del sr. Morris Lessmore.
URL:https://mont-roig.cat/acte/contes-i-mes-contes-5/
LOCATION:Biblioteca Joan Miró Mont-roig\, Carrer Mare de Déu de la Roca\, 5\, Mont-roig del Camp
CATEGORIES:Ajuntament,Biblioteca
ATTACH;FMTTYPE=image/jpeg:https://mont-roig.cat/wp-content/uploads/CONTES-GENER-MONT-ROIG.jpg
GEO:41.08714;0.958
X-APPLE-STRUCTURED-LOCATION;VALUE=URI;X-ADDRESS=Biblioteca Joan Miró Mont-roig Carrer Mare de Déu de la Roca 5 Mont-roig del Camp;X-APPLE-RADIUS=500;X-TITLE=Carrer Mare de Déu de la Roca\, 5:geo:0.958,41.08714
END:VEVENT
END:VCALENDAR