BEGIN:VCALENDAR
VERSION:2.0
PRODID:-//Ajuntament de Mont-roig del Camp - ECPv5.16.3.1//NONSGML v1.0//EN
CALSCALE:GREGORIAN
METHOD:PUBLISH
X-WR-CALNAME:Ajuntament de Mont-roig del Camp
X-ORIGINAL-URL:https://mont-roig.cat
X-WR-CALDESC:Esdeveniments per Ajuntament de Mont-roig del Camp
BEGIN:VTIMEZONE
TZID:Europe/Madrid
BEGIN:DAYLIGHT
TZOFFSETFROM:+0100
TZOFFSETTO:+0200
TZNAME:CEST
DTSTART:20190331T010000
END:DAYLIGHT
BEGIN:STANDARD
TZOFFSETFROM:+0200
TZOFFSETTO:+0100
TZNAME:CET
DTSTART:20191027T010000
END:STANDARD
END:VTIMEZONE
BEGIN:VEVENT
DTSTART;TZID=Europe/Madrid:20190209T090000
DTEND;TZID=Europe/Madrid:20190209T140000
DTSTAMP:20260422T200004
CREATED:20190117T104027Z
LAST-MODIFIED:20190117T104027Z
UID:33439-1549702800-1549720800@mont-roig.cat
SUMMARY:Mercat Trastos Fora
DESCRIPTION:Campanya de Foment del reciclatge\, reducció de residus i reutilització.
URL:https://mont-roig.cat/acte/mercat-trastos-fora-14/
LOCATION:Plaça Mossèn Gaietà Ivern\, Plaça Mossèn Gaietà Ivern\, Mont-roig del Camp\, Tarragona\, 43300\, Spain
CATEGORIES:Ajuntament,Recollida residus
ATTACH;FMTTYPE=image/jpeg:https://mont-roig.cat/wp-content/uploads/Cartell-trastos-fora-MONT-ROIG-09-02-19.jpg
GEO:41.0880839;0.9576999
X-APPLE-STRUCTURED-LOCATION;VALUE=URI;X-ADDRESS=Plaça Mossèn Gaietà Ivern Plaça Mossèn Gaietà Ivern Mont-roig del Camp Tarragona 43300 Spain;X-APPLE-RADIUS=500;X-TITLE=Plaça Mossèn Gaietà Ivern:geo:0.9576999,41.0880839
END:VEVENT
BEGIN:VEVENT
DTSTART;TZID=Europe/Madrid:20190209T190000
DTEND;TZID=Europe/Madrid:20190209T210000
DTSTAMP:20260422T200004
CREATED:20190130T084503Z
LAST-MODIFIED:20190205T113524Z
UID:33677-1549738800-1549746000@mont-roig.cat
SUMMARY:Espectacle de màgia amb la Melanie
DESCRIPTION:Màgia\, aparicions\, desaparicions… i molt més amb la il·lusionista Melanie. Espectacle dirigit pel Mag Lari.
URL:https://mont-roig.cat/acte/enchantee-amb-la-maga-melanie/
LOCATION:Centre Polivalent Sant Jaume\, Carrer de Sòria\, 18\, Miami Platja\, Tarragona\, 43892\, Spain
CATEGORIES:Ajuntament,Cultura
ATTACH;FMTTYPE=image/jpeg:https://mont-roig.cat/wp-content/uploads/Cartell-Enchantée.jpg
END:VEVENT
END:VCALENDAR