BEGIN:VCALENDAR
VERSION:2.0
PRODID:-//Ajuntament de Mont-roig del Camp - ECPv5.16.3.1//NONSGML v1.0//EN
CALSCALE:GREGORIAN
METHOD:PUBLISH
X-WR-CALNAME:Ajuntament de Mont-roig del Camp
X-ORIGINAL-URL:https://mont-roig.cat
X-WR-CALDESC:Esdeveniments per Ajuntament de Mont-roig del Camp
BEGIN:VTIMEZONE
TZID:Europe/Madrid
BEGIN:DAYLIGHT
TZOFFSETFROM:+0100
TZOFFSETTO:+0200
TZNAME:CEST
DTSTART:20190331T010000
END:DAYLIGHT
BEGIN:STANDARD
TZOFFSETFROM:+0200
TZOFFSETTO:+0100
TZNAME:CET
DTSTART:20191027T010000
END:STANDARD
END:VTIMEZONE
BEGIN:VEVENT
DTSTART;VALUE=DATE:20190212
DTEND;VALUE=DATE:20190217
DTSTAMP:20260423T133727
CREATED:20190130T070845Z
LAST-MODIFIED:20190206T085900Z
UID:33649-1549929600-1550361599@mont-roig.cat
SUMMARY:Exposició "Treu-li suc a la sexualitat"
DESCRIPTION:Coincidint amb l’exposició el Casal acollirà diversos debats per parlar sobre la sexualitat.
URL:https://mont-roig.cat/acte/exposicio-treu-li-suc-a-la-sexualitat/
LOCATION:Casal de Joves K1\, c/ Aureli Escarré\, Mont-roig del Camp
CATEGORIES:Ajuntament,Joventut
ATTACH;FMTTYPE=image/jpeg:https://mont-roig.cat/wp-content/uploads/SEXUALITAT.jpg
GEO:41.07825;0.9768931
X-APPLE-STRUCTURED-LOCATION;VALUE=URI;X-ADDRESS=Casal de Joves K1 c/ Aureli Escarré Mont-roig del Camp;X-APPLE-RADIUS=500;X-TITLE=c/ Aureli Escarré:geo:0.9768931,41.07825
END:VEVENT
BEGIN:VEVENT
DTSTART;VALUE=DATE:20190215
DTEND;VALUE=DATE:20190304
DTSTAMP:20260423T133727
CREATED:20190130T084850Z
LAST-MODIFIED:20190205T081513Z
UID:33692-1550188800-1551657599@mont-roig.cat
SUMMARY:II Jornades Gastronòmiques del Calçot
DESCRIPTION:Diversos restaurants del municipi oferiran plats\, menús o bé calçotades amb el calçot com a ingredient principal. \n  \nConsulta tot el programa aquí. \n 
URL:https://mont-roig.cat/acte/ii-jornades-gastronomiques-del-calcot/
CATEGORIES:Ajuntament,Turisme
ATTACH;FMTTYPE=image/jpeg:https://mont-roig.cat/wp-content/uploads/II-jornades-gastronòmiques-del-calçot.jpg
END:VEVENT
END:VCALENDAR