BEGIN:VCALENDAR
VERSION:2.0
PRODID:-//Ajuntament de Mont-roig del Camp - ECPv5.16.3.1//NONSGML v1.0//EN
CALSCALE:GREGORIAN
METHOD:PUBLISH
X-WR-CALNAME:Ajuntament de Mont-roig del Camp
X-ORIGINAL-URL:https://mont-roig.cat
X-WR-CALDESC:Esdeveniments per Ajuntament de Mont-roig del Camp
BEGIN:VTIMEZONE
TZID:Europe/Madrid
BEGIN:DAYLIGHT
TZOFFSETFROM:+0100
TZOFFSETTO:+0200
TZNAME:CEST
DTSTART:20190331T010000
END:DAYLIGHT
BEGIN:STANDARD
TZOFFSETFROM:+0200
TZOFFSETTO:+0100
TZNAME:CET
DTSTART:20191027T010000
END:STANDARD
END:VTIMEZONE
BEGIN:VEVENT
DTSTART;VALUE=DATE:20190215
DTEND;VALUE=DATE:20190304
DTSTAMP:20260423T035901
CREATED:20190130T084850Z
LAST-MODIFIED:20190205T081513Z
UID:33692-1550188800-1551657599@mont-roig.cat
SUMMARY:II Jornades Gastronòmiques del Calçot
DESCRIPTION:Diversos restaurants del municipi oferiran plats\, menús o bé calçotades amb el calçot com a ingredient principal. \n  \nConsulta tot el programa aquí. \n 
URL:https://mont-roig.cat/acte/ii-jornades-gastronomiques-del-calcot/
CATEGORIES:Ajuntament,Turisme
ATTACH;FMTTYPE=image/jpeg:https://mont-roig.cat/wp-content/uploads/II-jornades-gastronòmiques-del-calçot.jpg
END:VEVENT
BEGIN:VEVENT
DTSTART;TZID=Europe/Madrid:20190301T220000
DTEND;TZID=Europe/Madrid:20190302T020000
DTSTAMP:20260423T035901
CREATED:20190227T111455Z
LAST-MODIFIED:20190301T084252Z
UID:34722-1551477600-1551492000@mont-roig.cat
SUMMARY:Ball de parelles del Carnaval de Mont-roig
DESCRIPTION:Ball de Parelles amb Quartet Costa Daurada. Servei de bar dels Kintus/es 2019 \n 
URL:https://mont-roig.cat/acte/ball-de-parelles-del-carnaval-de-mont-roig/
LOCATION:Poliesportiu de Mont-roig del Camp\, Carrer Aureli Maria Escarré\, 3\, Mont-roig del Camp\, Tarragona\, 43300\, Spain
ATTACH;FMTTYPE=image/jpeg:https://mont-roig.cat/wp-content/uploads/Carnaval-Mont-roig-2019-1-1.jpg
GEO:41.0865513;0.9606138
X-APPLE-STRUCTURED-LOCATION;VALUE=URI;X-ADDRESS=Poliesportiu de Mont-roig del Camp Carrer Aureli Maria Escarré 3 Mont-roig del Camp Tarragona 43300 Spain;X-APPLE-RADIUS=500;X-TITLE=Carrer Aureli Maria Escarré\, 3:geo:0.9606138,41.0865513
END:VEVENT
BEGIN:VEVENT
DTSTART;TZID=Europe/Madrid:20190302T160000
DTEND;TZID=Europe/Madrid:20190303T160000
DTSTAMP:20260423T035901
CREATED:20190227T112122Z
LAST-MODIFIED:20190227T113229Z
UID:34724-1551542400-1551628800@mont-roig.cat
SUMMARY:Carnaval de Mont-roig
DESCRIPTION:16 h – Avinguda de Catalunya \nPLANTADA DE CARROSSES INFANTILS \n16.30 h – Diversos carrers \nRUA INFANTIL \nEn arribar al poliesportiu\, \nBALL INFANTIL amb Más & Más i convidats especials. \nDurant la tarda\, es repartirà coca de sucre i xocolatines per a la mainada. \n22 h – Avinguda de Catalunya \nPLANTADA DE CARROSSES \n22.30 h. Diversos carrers* \nRUA DE LLUÏMENT \nEn arribar al poliesportiu\, \nBALL DE DISFRESSES amb el Show Menéalo On Tour de Más & Más i Dj Nacho Lascassas. \nA més\, LLIURAMENT DE PREMIS del concurs de comparses i carrosses\, a càrrec del II Rei Carnestoltes\, Jordi Martí Caballé i la Reina\, Clarís Baiges Llaó\, traspàs del regnat i NOMENAMENT DEL III Rei i Reina Carnestoltes. \nServei de bar a càrrec dels Kintus/es. \n*Recorregut de la RUA: Av. de Catalunya\, c. de Vinyols\, Av. de Reus\, c. d’Agustí Sardà\, c. de Cristòfol Colom\, c. de la Indústria\, Av. de Catalunya i c. de Cambrils fins arribar al poliesportiu.
URL:https://mont-roig.cat/acte/carnaval-de-mont-roig/
LOCATION:Mont-roig
CATEGORIES:Ajuntament,Festes
ATTACH;FMTTYPE=image/jpeg:https://mont-roig.cat/wp-content/uploads/Carnaval-Mont-roig-2019-1-1.jpg
END:VEVENT
BEGIN:VEVENT
DTSTART;TZID=Europe/Madrid:20190302T183000
DTEND;TZID=Europe/Madrid:20190303T020000
DTSTAMP:20260423T035901
CREATED:20190227T121224Z
LAST-MODIFIED:20190301T083518Z
UID:34732-1551551400-1551578400@mont-roig.cat
SUMMARY:Carnaval de Miami Platja
DESCRIPTION:Dissabte 2 de març \n18.30 h – Avinguda del Mar \nPLANTADA DE CARROSSES \n19 h. Diversos carrers* \nRUA DE LLUÏMENT \n  \nIII MIAMODROMO\, amb els balls d’exhibició de les comparses i carrosses participants. \nEn arribar al poliesportiu\, \nSOPAR DE CARNAVAL\, porta’l de casa. \nSeguidament\, \nBALL DE DISFRESSES amb el Show de Más & Más. \nA més\, LLIURAMENT DE PREMIS del concurs de comparses i carrosses\, a càrrec del II Rei Carnestoltes\, Carlos Corominas Rodríguez i la Reina\, Marisol Marteles Remiro\, traspàs del seu regnat i NOMENAMENT DEL III Rei i Reina Carnestoltes. \nServei de bar a càrrec dels alumnes de 4rt d’ESO de l’Institut Miami. \n  \n*Recorregut de la RUA: Finalment la plantada de les carrosses i la trobada de comparses es farà a l’avinguda del Mar i continuarà pel carrer de la Diputació\, Av. Príncep d’Espanya i Av. de Granada fins al Poliesportiu Municipal de Miami Platja.
URL:https://mont-roig.cat/acte/carnaval-de-miami-platja/
CATEGORIES:Ajuntament,Festes
ATTACH;FMTTYPE=image/jpeg:https://mont-roig.cat/wp-content/uploads/Carnaval-Miami-2019-2.jpg
END:VEVENT
END:VCALENDAR