BEGIN:VCALENDAR
VERSION:2.0
PRODID:-//Ajuntament de Mont-roig del Camp - ECPv5.16.3.1//NONSGML v1.0//EN
CALSCALE:GREGORIAN
METHOD:PUBLISH
X-WR-CALNAME:Ajuntament de Mont-roig del Camp
X-ORIGINAL-URL:https://mont-roig.cat
X-WR-CALDESC:Esdeveniments per Ajuntament de Mont-roig del Camp
BEGIN:VTIMEZONE
TZID:Europe/Madrid
BEGIN:DAYLIGHT
TZOFFSETFROM:+0100
TZOFFSETTO:+0200
TZNAME:CEST
DTSTART:20190331T010000
END:DAYLIGHT
BEGIN:STANDARD
TZOFFSETFROM:+0200
TZOFFSETTO:+0100
TZNAME:CET
DTSTART:20191027T010000
END:STANDARD
END:VTIMEZONE
BEGIN:VEVENT
DTSTART;TZID=Europe/Madrid:20190306T090000
DTEND;TZID=Europe/Madrid:20190306T123000
DTSTAMP:20260422T195855
CREATED:20190220T100532Z
LAST-MODIFIED:20190221T080517Z
UID:34417-1551862800-1551875400@mont-roig.cat
SUMMARY:Xerrada de dones i cooperatives
DESCRIPTION:Ajuda i suport a dones\, atenció a domicili\, teràpies alternatives… \nConsulta aquí tot el programa
URL:https://mont-roig.cat/acte/xerrada-de-dones-i-cooperatives/
LOCATION:Centre Polivalent Sant Jaume\, Carrer de Sòria\, 18\, Miami Platja\, Tarragona\, 43892\, Spain
ATTACH;FMTTYPE=image/png:https://mont-roig.cat/wp-content/uploads/Dia-internacional-de-les-dones_1.png
END:VEVENT
BEGIN:VEVENT
DTSTART;TZID=Europe/Madrid:20190306T140000
DTEND;TZID=Europe/Madrid:20190306T180000
DTSTAMP:20260422T195855
CREATED:20190301T121519Z
LAST-MODIFIED:20190301T121519Z
UID:34757-1551880800-1551895200@mont-roig.cat
SUMMARY:Master-class de tècniques d'aparadorisme
DESCRIPTION:
URL:https://mont-roig.cat/acte/master-class-de-tecniques-daparadorisme/
LOCATION:Centre de Treball Compartit l’Espai\, Av. de Màlaga\, 32\, Miami Platja
CATEGORIES:Ajuntament,Impuls Econòmic i Ocupació
ATTACH;FMTTYPE=image/jpeg:https://mont-roig.cat/wp-content/uploads/Master-class-aparadors.jpg
GEO:41.0035903;0.9290676
X-APPLE-STRUCTURED-LOCATION;VALUE=URI;X-ADDRESS=Centre de Treball Compartit l’Espai Av. de Màlaga 32 Miami Platja;X-APPLE-RADIUS=500;X-TITLE=Av. de Màlaga\, 32:geo:0.9290676,41.0035903
END:VEVENT
BEGIN:VEVENT
DTSTART;TZID=Europe/Madrid:20190306T180000
DTEND;TZID=Europe/Madrid:20190306T200000
DTSTAMP:20260422T195855
CREATED:20190220T100540Z
LAST-MODIFIED:20190306T091543Z
UID:34418-1551895200-1551902400@mont-roig.cat
SUMMARY:Quan les nenes volen alt
DESCRIPTION:Conte a càrrec de Montserrat Parra \nConsulta aquí tot el programa
URL:https://mont-roig.cat/acte/quan-les-nenes-volen-alt/
LOCATION:Biblioteca Joan Miró Mont-roig\, Carrer Mare de Déu de la Roca\, 5\, Mont-roig del Camp
CATEGORIES:Biblioteca
GEO:41.08714;0.958
X-APPLE-STRUCTURED-LOCATION;VALUE=URI;X-ADDRESS=Biblioteca Joan Miró Mont-roig Carrer Mare de Déu de la Roca 5 Mont-roig del Camp;X-APPLE-RADIUS=500;X-TITLE=Carrer Mare de Déu de la Roca\, 5:geo:0.958,41.08714
END:VEVENT
END:VCALENDAR