BEGIN:VCALENDAR
VERSION:2.0
PRODID:-//Ajuntament de Mont-roig del Camp - ECPv5.16.3.1//NONSGML v1.0//EN
CALSCALE:GREGORIAN
METHOD:PUBLISH
X-WR-CALNAME:Ajuntament de Mont-roig del Camp
X-ORIGINAL-URL:https://mont-roig.cat
X-WR-CALDESC:Esdeveniments per Ajuntament de Mont-roig del Camp
BEGIN:VTIMEZONE
TZID:Europe/Madrid
BEGIN:DAYLIGHT
TZOFFSETFROM:+0100
TZOFFSETTO:+0200
TZNAME:CEST
DTSTART:20190331T010000
END:DAYLIGHT
BEGIN:STANDARD
TZOFFSETFROM:+0200
TZOFFSETTO:+0100
TZNAME:CET
DTSTART:20191027T010000
END:STANDARD
END:VTIMEZONE
BEGIN:VEVENT
DTSTART;TZID=Europe/Madrid:20190307T103000
DTEND;TZID=Europe/Madrid:20190307T123000
DTSTAMP:20260423T120534
CREATED:20190220T073452Z
LAST-MODIFIED:20190220T073452Z
UID:34389-1551954600-1551961800@mont-roig.cat
SUMMARY:Espectacle de Titelles
DESCRIPTION:Titelles per la igualtat de gènere amb l’obra “Angeleta” amb la companyia Tactilicuä.
URL:https://mont-roig.cat/acte/espectacle-de-titelles/
LOCATION:Centre Polivalent Sant Jaume\, Carrer de Sòria\, 18\, Miami Platja\, Tarragona\, 43892\, Spain
CATEGORIES:Ajuntament,Cultura
END:VEVENT
BEGIN:VEVENT
DTSTART;TZID=Europe/Madrid:20190307T130000
DTEND;TZID=Europe/Madrid:20190307T170000
DTSTAMP:20260423T120534
CREATED:20190220T100712Z
LAST-MODIFIED:20190221T080649Z
UID:34423-1551963600-1551978000@mont-roig.cat
SUMMARY:II Trobada de dones empresàries i directives
DESCRIPTION:Presentació de la jornada i tast de vins.\nA les 14.30 h\, dinar networking al Restaurant\nl’Ermita. \nPreu 20 €. Inscripcions obertes fins al 4/03/19 al\ntelèfon 977 172527 i a promocio@mont-roig.cat \nConsulta aquí tot el programa
URL:https://mont-roig.cat/acte/ii-trobada-de-dones-empresaries-i-directives/
LOCATION:Mas Miró\, Mont-roig\, Tarragona\, 43300
CATEGORIES:Impuls Econòmic i Ocupació
ATTACH;FMTTYPE=image/png:https://mont-roig.cat/wp-content/uploads/Dia-internacional-de-les-dones_1.png
END:VEVENT
BEGIN:VEVENT
DTSTART;TZID=Europe/Madrid:20190307T160000
DTEND;TZID=Europe/Madrid:20190307T180000
DTSTAMP:20260423T120534
CREATED:20190220T075717Z
LAST-MODIFIED:20190221T080750Z
UID:34383-1551974400-1551981600@mont-roig.cat
SUMMARY:Casos d'invisibilitat de dones en l'actualitat
DESCRIPTION:En motiu del dia de la dona es realitzarà una Dinàmica on es tracta sobre la invisibilitat de grans dones en l’actualitat. \nConsulta aquí tot el programa
URL:https://mont-roig.cat/acte/casos-dinvisibilitat-de-dones-en-lactualitat/
LOCATION:Casal de Joves K2\, Carrer Granada\, 48\, Miami Platja
CATEGORIES:Ajuntament,Joventut
ATTACH;FMTTYPE=image/png:https://mont-roig.cat/wp-content/uploads/Dia-internacional-de-les-dones_1.png
GEO:41.00419;0.92892
X-APPLE-STRUCTURED-LOCATION;VALUE=URI;X-ADDRESS=Casal de Joves K2 Carrer Granada 48 Miami Platja;X-APPLE-RADIUS=500;X-TITLE=Carrer Granada\, 48:geo:0.92892,41.00419
END:VEVENT
BEGIN:VEVENT
DTSTART;TZID=Europe/Madrid:20190307T180000
DTEND;TZID=Europe/Madrid:20190307T200000
DTSTAMP:20260423T120534
CREATED:20190220T100939Z
LAST-MODIFIED:20190221T120527Z
UID:34425-1551981600-1551988800@mont-roig.cat
SUMMARY:Un bosc ple de lluna (obrint finestres a la llum)
DESCRIPTION:Conte a càrrec de Muntsa Plana
URL:https://mont-roig.cat/acte/un-bosc-ple-de-lluna-obrint-finestres-a-la-llum/
LOCATION:Biblioteca Miramar\, Carrer Soria\, 16\, Miami Platja\, Tarragona\, 43892\, Spain
CATEGORIES:Biblioteca
ATTACH;FMTTYPE=image/jpeg:https://mont-roig.cat/wp-content/uploads/Dia-Internacional-de-la-Dona-Miami-infantil-7-març.jpg
GEO:41.0027012;0.9276747
X-APPLE-STRUCTURED-LOCATION;VALUE=URI;X-ADDRESS=Biblioteca Miramar Carrer Soria 16 Miami Platja Tarragona 43892 Spain;X-APPLE-RADIUS=500;X-TITLE=Carrer Soria\, 16:geo:0.9276747,41.0027012
END:VEVENT
BEGIN:VEVENT
DTSTART;TZID=Europe/Madrid:20190307T190000
DTEND;TZID=Europe/Madrid:20190307T203000
DTSTAMP:20260423T120534
CREATED:20190220T101250Z
LAST-MODIFIED:20190221T120343Z
UID:34424-1551985200-1551990600@mont-roig.cat
SUMMARY:Dones-Aucell (Obrint portes de bat a bat)
DESCRIPTION:Narracions per adults a càrrec de Muntsa Plana \nConsulta aquí tot el programa
URL:https://mont-roig.cat/acte/dones-aucell-obrint-portes-de-bat-a-bat/
LOCATION:Biblioteca Miramar\, Carrer Soria\, 16\, Miami Platja\, Tarragona\, 43892\, Spain
CATEGORIES:Biblioteca
ATTACH;FMTTYPE=image/jpeg:https://mont-roig.cat/wp-content/uploads/Dia-Internacional-de-la-Dona-Miami-adult-7-març.jpg
GEO:41.0027012;0.9276747
X-APPLE-STRUCTURED-LOCATION;VALUE=URI;X-ADDRESS=Biblioteca Miramar Carrer Soria 16 Miami Platja Tarragona 43892 Spain;X-APPLE-RADIUS=500;X-TITLE=Carrer Soria\, 16:geo:0.9276747,41.0027012
END:VEVENT
END:VCALENDAR