BEGIN:VCALENDAR
VERSION:2.0
PRODID:-//Ajuntament de Mont-roig del Camp - ECPv5.16.3.1//NONSGML v1.0//EN
CALSCALE:GREGORIAN
METHOD:PUBLISH
X-WR-CALNAME:Ajuntament de Mont-roig del Camp
X-ORIGINAL-URL:https://mont-roig.cat
X-WR-CALDESC:Esdeveniments per Ajuntament de Mont-roig del Camp
BEGIN:VTIMEZONE
TZID:Europe/Madrid
BEGIN:DAYLIGHT
TZOFFSETFROM:+0100
TZOFFSETTO:+0200
TZNAME:CEST
DTSTART:20190331T010000
END:DAYLIGHT
BEGIN:STANDARD
TZOFFSETFROM:+0200
TZOFFSETTO:+0100
TZNAME:CET
DTSTART:20191027T010000
END:STANDARD
END:VTIMEZONE
BEGIN:VEVENT
DTSTART;VALUE=DATE:20190308
DTEND;VALUE=DATE:20190311
DTSTAMP:20260423T052855
CREATED:20190220T073211Z
LAST-MODIFIED:20190220T073211Z
UID:34390-1552003200-1552262399@mont-roig.cat
SUMMARY:Esquiada Jove
DESCRIPTION:Tok’l2 et porta a practicar l’esport de l’esquí a Andorra tot un cap de setmana
URL:https://mont-roig.cat/acte/esquiada-jove/
LOCATION:Andorra
CATEGORIES:Ajuntament,Joventut
ATTACH;FMTTYPE=image/png:https://mont-roig.cat/wp-content/uploads/tokl2.png
END:VEVENT
BEGIN:VEVENT
DTSTART;TZID=Europe/Madrid:20190309T090000
DTEND;TZID=Europe/Madrid:20190309T140000
DTSTAMP:20260423T052855
CREATED:20190222T110842Z
LAST-MODIFIED:20190222T110842Z
UID:34625-1552122000-1552140000@mont-roig.cat
SUMMARY:Mercat trastos fora
DESCRIPTION:Campanya de Foment del reciclatge\, reducció de residus i reutilització.
URL:https://mont-roig.cat/acte/mercat-trastos-fora-15/
LOCATION:Plaça Mossèn Gaietà Ivern\, Plaça Mossèn Gaietà Ivern\, Mont-roig del Camp\, Tarragona\, 43300\, Spain
CATEGORIES:Recollida residus
GEO:41.0880839;0.9576999
X-APPLE-STRUCTURED-LOCATION;VALUE=URI;X-ADDRESS=Plaça Mossèn Gaietà Ivern Plaça Mossèn Gaietà Ivern Mont-roig del Camp Tarragona 43300 Spain;X-APPLE-RADIUS=500;X-TITLE=Plaça Mossèn Gaietà Ivern:geo:0.9576999,41.0880839
END:VEVENT
BEGIN:VEVENT
DTSTART;TZID=Europe/Madrid:20190309T100000
DTEND;TZID=Europe/Madrid:20190309T120000
DTSTAMP:20260423T052855
CREATED:20190220T081310Z
LAST-MODIFIED:20190221T081424Z
UID:34395-1552125600-1552132800@mont-roig.cat
SUMMARY:Classe de defensa personal per a dones
DESCRIPTION:Classe de defensa personal per a dones (majors de 16 anys) a càrrec del Club Esportiu Taekwondo de Mont-roig Miami \nClasse gratuïta amb inscripció prèvia a: gpolistina@yahoo.es
URL:https://mont-roig.cat/acte/classe-de-defensa-personal-per-a-dones/
LOCATION:Centre Polivalent Sant Jaume\, Carrer de Sòria\, 18\, Miami Platja\, Tarragona\, 43892\, Spain
CATEGORIES:Ajuntament,Cultura
ATTACH;FMTTYPE=image/png:https://mont-roig.cat/wp-content/uploads/Dia-internacional-de-les-dones_1.png
END:VEVENT
BEGIN:VEVENT
DTSTART;TZID=Europe/Madrid:20190309T103000
DTEND;TZID=Europe/Madrid:20190309T120000
DTSTAMP:20260423T052855
CREATED:20190220T101542Z
LAST-MODIFIED:20190221T081749Z
UID:34431-1552127400-1552132800@mont-roig.cat
SUMMARY:1 segon\, 360º
DESCRIPTION:Presentació del llibre “El Camí de la papallona: una història de superació” de Noe Gaya.
URL:https://mont-roig.cat/acte/1-segon-360o/
LOCATION:Biblioteca Joan Miró Mont-roig\, Carrer Mare de Déu de la Roca\, 5\, Mont-roig del Camp
CATEGORIES:Biblioteca
ATTACH;FMTTYPE=image/png:https://mont-roig.cat/wp-content/uploads/Dia-internacional-de-les-dones_1.png
GEO:41.08714;0.958
X-APPLE-STRUCTURED-LOCATION;VALUE=URI;X-ADDRESS=Biblioteca Joan Miró Mont-roig Carrer Mare de Déu de la Roca 5 Mont-roig del Camp;X-APPLE-RADIUS=500;X-TITLE=Carrer Mare de Déu de la Roca\, 5:geo:0.958,41.08714
END:VEVENT
BEGIN:VEVENT
DTSTART;TZID=Europe/Madrid:20190309T113000
DTEND;TZID=Europe/Madrid:20190309T130000
DTSTAMP:20260423T052855
CREATED:20190220T101747Z
LAST-MODIFIED:20190221T081956Z
UID:34433-1552131000-1552136400@mont-roig.cat
SUMMARY:Presentació del repte "Sempre endavant"
DESCRIPTION:A càrrec de Raul Arenas. A continuació\, ballada dels gegants Pitota i Pitot i xocolatada.\nOrganitza: C.E. l’Areny
URL:https://mont-roig.cat/acte/presentacio-del-repte-sempre-endavant/
LOCATION:Aparcament Casa de Cultura
ATTACH;FMTTYPE=image/png:https://mont-roig.cat/wp-content/uploads/Dia-internacional-de-les-dones_1.png
END:VEVENT
BEGIN:VEVENT
DTSTART;TZID=Europe/Madrid:20190309T173000
DTEND;TZID=Europe/Madrid:20190309T190000
DTSTAMP:20260423T052855
CREATED:20190221T074748Z
LAST-MODIFIED:20190221T082053Z
UID:34502-1552152600-1552158000@mont-roig.cat
SUMMARY:Classe de defensa personal femenina
DESCRIPTION:Una xerrada sobre la inseguretat que pateixen moltes dones quan estan soles i on després realitzarà una classe de defensa personal a càrrec de Raquel Duque.
URL:https://mont-roig.cat/acte/classe-de-defensa-personal-femenina/
LOCATION:Casal de Joves K1\, c/ Aureli Escarré\, Mont-roig del Camp
CATEGORIES:Cultura,Joventut
ATTACH;FMTTYPE=image/png:https://mont-roig.cat/wp-content/uploads/Dia-internacional-de-les-dones_1.png
GEO:41.07825;0.9768931
X-APPLE-STRUCTURED-LOCATION;VALUE=URI;X-ADDRESS=Casal de Joves K1 c/ Aureli Escarré Mont-roig del Camp;X-APPLE-RADIUS=500;X-TITLE=c/ Aureli Escarré:geo:0.9768931,41.07825
END:VEVENT
END:VCALENDAR