BEGIN:VCALENDAR
VERSION:2.0
PRODID:-//Ajuntament de Mont-roig del Camp - ECPv5.16.3.1//NONSGML v1.0//EN
CALSCALE:GREGORIAN
METHOD:PUBLISH
X-WR-CALNAME:Ajuntament de Mont-roig del Camp
X-ORIGINAL-URL:https://mont-roig.cat
X-WR-CALDESC:Esdeveniments per Ajuntament de Mont-roig del Camp
BEGIN:VTIMEZONE
TZID:Europe/Madrid
BEGIN:DAYLIGHT
TZOFFSETFROM:+0100
TZOFFSETTO:+0200
TZNAME:CEST
DTSTART:20190331T010000
END:DAYLIGHT
BEGIN:STANDARD
TZOFFSETFROM:+0200
TZOFFSETTO:+0100
TZNAME:CET
DTSTART:20191027T010000
END:STANDARD
END:VTIMEZONE
BEGIN:VEVENT
DTSTART;TZID=Europe/Madrid:20190312T160000
DTEND;TZID=Europe/Madrid:20190312T200000
DTSTAMP:20260423T070143
CREATED:20190301T122038Z
LAST-MODIFIED:20190301T122149Z
UID:34759-1552406400-1552420800@mont-roig.cat
SUMMARY:Curs d'ajudant/a de cuina
DESCRIPTION:dant
URL:https://mont-roig.cat/acte/curs-dajudant-a-de-cuina/2019-03-12/
LOCATION:Escola Hoteleria i Turisme de Cambrils
CATEGORIES:Ajuntament,Cultura
ATTACH;FMTTYPE=image/jpeg:https://mont-roig.cat/wp-content/uploads/Curs-ajudant-de-cuina-1.jpg
END:VEVENT
END:VCALENDAR