BEGIN:VCALENDAR
VERSION:2.0
PRODID:-//Ajuntament de Mont-roig del Camp - ECPv5.16.3.1//NONSGML v1.0//EN
CALSCALE:GREGORIAN
METHOD:PUBLISH
X-WR-CALNAME:Ajuntament de Mont-roig del Camp
X-ORIGINAL-URL:https://mont-roig.cat
X-WR-CALDESC:Esdeveniments per Ajuntament de Mont-roig del Camp
BEGIN:VTIMEZONE
TZID:Europe/Madrid
BEGIN:DAYLIGHT
TZOFFSETFROM:+0100
TZOFFSETTO:+0200
TZNAME:CEST
DTSTART:20190331T010000
END:DAYLIGHT
BEGIN:STANDARD
TZOFFSETFROM:+0200
TZOFFSETTO:+0100
TZNAME:CET
DTSTART:20191027T010000
END:STANDARD
END:VTIMEZONE
BEGIN:VEVENT
DTSTART;TZID=Europe/Madrid:20190403T093000
DTEND;TZID=Europe/Madrid:20190517T123000
DTSTAMP:20260419T151908
CREATED:20190320T161537Z
LAST-MODIFIED:20190402T074648Z
UID:35059-1554283800-1558096200@mont-roig.cat
SUMMARY:Curs d'atenció sociosanitària
DESCRIPTION: 
URL:https://mont-roig.cat/acte/curs-datencio-sociosanitaria/2019-04-03/
LOCATION:Centre Polivalent Sant Jaume\, Carrer de Sòria\, 18\, Miami Platja\, Tarragona\, 43892\, Spain
CATEGORIES:Ajuntament,Impuls Econòmic i Ocupació
ATTACH;FMTTYPE=image/jpeg:https://mont-roig.cat/wp-content/uploads/Curs-Atenció-Sociosanitària_page-0001.jpg
END:VEVENT
BEGIN:VEVENT
DTSTART;TZID=Europe/Madrid:20190403T160000
DTEND;TZID=Europe/Madrid:20190403T180000
DTSTAMP:20260419T151909
CREATED:20190330T105049Z
LAST-MODIFIED:20190403T053212Z
UID:35254-1554307200-1554314400@mont-roig.cat
SUMMARY:Taller de currículum
DESCRIPTION:Si tens ganes de treballar i tens dubtes de com realitzar el teu currículum\, vine en aquest taller
URL:https://mont-roig.cat/acte/taller-de-curriculum/
LOCATION:Casal de Joves K2\, Carrer Granada\, 48\, Miami Platja
CATEGORIES:Ajuntament,Joventut
GEO:41.00419;0.92892
X-APPLE-STRUCTURED-LOCATION;VALUE=URI;X-ADDRESS=Casal de Joves K2 Carrer Granada 48 Miami Platja;X-APPLE-RADIUS=500;X-TITLE=Carrer Granada\, 48:geo:0.92892,41.00419
END:VEVENT
BEGIN:VEVENT
DTSTART;TZID=Europe/Madrid:20190403T163000
DTEND;TZID=Europe/Madrid:20190403T203000
DTSTAMP:20260419T151909
CREATED:20190321T092645Z
LAST-MODIFIED:20190403T125434Z
UID:35085-1554309000-1554323400@mont-roig.cat
SUMMARY:Xerrada sobre gats ferals
DESCRIPTION:L’Ajuntament de Mont-roig del Camp\, amb la col·laboració de l’associació Mogatmi\, organitza una jornada divulgativa sobre el control de gats ferals i la salut pública.
URL:https://mont-roig.cat/acte/xerrada-sobre-gats-ferals-2/
LOCATION:Centre Polivalent Sant Jaume\, Carrer de Sòria\, 18\, Miami Platja\, Tarragona\, 43892\, Spain
CATEGORIES:Ajuntament,Salut
ATTACH;FMTTYPE=image/jpeg:https://mont-roig.cat/wp-content/uploads/Sessió-divulgativa-gats-ferals-1.jpg
END:VEVENT
BEGIN:VEVENT
DTSTART;TZID=Europe/Madrid:20190403T180000
DTEND;TZID=Europe/Madrid:20190403T190000
DTSTAMP:20260419T151909
CREATED:20190330T105422Z
LAST-MODIFIED:20190330T105422Z
UID:35256-1554314400-1554318000@mont-roig.cat
SUMMARY:Contes i més contes: La calçotada
DESCRIPTION:
URL:https://mont-roig.cat/acte/contes-i-mes-contes-la-calcotada/
LOCATION:Biblioteca Joan Miró Mont-roig\, Carrer Mare de Déu de la Roca\, 5\, Mont-roig del Camp
CATEGORIES:Ajuntament,Biblioteca
ATTACH;FMTTYPE=image/jpeg:https://mont-roig.cat/wp-content/uploads/CONTES-ABRIL.jpg
GEO:41.08714;0.958
X-APPLE-STRUCTURED-LOCATION;VALUE=URI;X-ADDRESS=Biblioteca Joan Miró Mont-roig Carrer Mare de Déu de la Roca 5 Mont-roig del Camp;X-APPLE-RADIUS=500;X-TITLE=Carrer Mare de Déu de la Roca\, 5:geo:0.958,41.08714
END:VEVENT
BEGIN:VEVENT
DTSTART;TZID=Europe/Madrid:20190403T190000
DTEND;TZID=Europe/Madrid:20190403T210000
DTSTAMP:20260419T151909
CREATED:20190320T161822Z
LAST-MODIFIED:20190320T161952Z
UID:35071-1554318000-1554325200@mont-roig.cat
SUMMARY:Curs de creació de cartes i menús
DESCRIPTION:
URL:https://mont-roig.cat/acte/curs-de-creacio-de-cartes-i-menus/
LOCATION:l’Espai
CATEGORIES:Ajuntament,Impuls Econòmic i Ocupació
END:VEVENT
END:VCALENDAR