BEGIN:VCALENDAR
VERSION:2.0
PRODID:-//Ajuntament de Mont-roig del Camp - ECPv5.16.3.1//NONSGML v1.0//EN
CALSCALE:GREGORIAN
METHOD:PUBLISH
X-WR-CALNAME:Ajuntament de Mont-roig del Camp
X-ORIGINAL-URL:https://mont-roig.cat
X-WR-CALDESC:Esdeveniments per Ajuntament de Mont-roig del Camp
BEGIN:VTIMEZONE
TZID:Europe/Madrid
BEGIN:DAYLIGHT
TZOFFSETFROM:+0100
TZOFFSETTO:+0200
TZNAME:CEST
DTSTART:20190331T010000
END:DAYLIGHT
BEGIN:STANDARD
TZOFFSETFROM:+0200
TZOFFSETTO:+0100
TZNAME:CET
DTSTART:20191027T010000
END:STANDARD
END:VTIMEZONE
BEGIN:VEVENT
DTSTART;TZID=Europe/Madrid:20190403T093000
DTEND;TZID=Europe/Madrid:20190517T123000
DTSTAMP:20260422T065524
CREATED:20190320T161537Z
LAST-MODIFIED:20190402T074648Z
UID:35059-1554283800-1558096200@mont-roig.cat
SUMMARY:Curs d'atenció sociosanitària
DESCRIPTION: 
URL:https://mont-roig.cat/acte/curs-datencio-sociosanitaria/2019-04-03/
LOCATION:Centre Polivalent Sant Jaume\, Carrer de Sòria\, 18\, Miami Platja\, Tarragona\, 43892\, Spain
CATEGORIES:Ajuntament,Impuls Econòmic i Ocupació
ATTACH;FMTTYPE=image/jpeg:https://mont-roig.cat/wp-content/uploads/Curs-Atenció-Sociosanitària_page-0001.jpg
END:VEVENT
BEGIN:VEVENT
DTSTART;TZID=Europe/Madrid:20190410T160000
DTEND;TZID=Europe/Madrid:20190410T180000
DTSTAMP:20260422T065524
CREATED:20190330T110917Z
LAST-MODIFIED:20190410T103319Z
UID:35270-1554912000-1554919200@mont-roig.cat
SUMMARY:Deco Pasqua
DESCRIPTION:Pinta el típics ous de pasqua en aquest taller original i divertit.
URL:https://mont-roig.cat/acte/deco-pasqua/
LOCATION:Casal de Joves K2\, Carrer Granada\, 48\, Miami Platja
CATEGORIES:Ajuntament,Joventut
ATTACH;FMTTYPE=image/jpeg:https://mont-roig.cat/wp-content/uploads/deco.jpg
GEO:41.00419;0.92892
X-APPLE-STRUCTURED-LOCATION;VALUE=URI;X-ADDRESS=Casal de Joves K2 Carrer Granada 48 Miami Platja;X-APPLE-RADIUS=500;X-TITLE=Carrer Granada\, 48:geo:0.92892,41.00419
END:VEVENT
BEGIN:VEVENT
DTSTART;TZID=Europe/Madrid:20190410T180000
DTEND;TZID=Europe/Madrid:20190410T190000
DTSTAMP:20260422T065524
CREATED:20190330T111210Z
LAST-MODIFIED:20190330T111210Z
UID:35272-1554919200-1554922800@mont-roig.cat
SUMMARY:Contes i més contes: 'El rei del cul vermell'
DESCRIPTION:
URL:https://mont-roig.cat/acte/contes-i-mes-contes-el-rei-del-cul-vermell/
LOCATION:Biblioteca Miramar\, Carrer Soria\, 16\, Miami Platja\, Tarragona\, 43892\, Spain
CATEGORIES:Ajuntament,Biblioteca
ATTACH;FMTTYPE=image/jpeg:https://mont-roig.cat/wp-content/uploads/CONTES-ABRIL.jpg
GEO:41.0027012;0.9276747
X-APPLE-STRUCTURED-LOCATION;VALUE=URI;X-ADDRESS=Biblioteca Miramar Carrer Soria 16 Miami Platja Tarragona 43892 Spain;X-APPLE-RADIUS=500;X-TITLE=Carrer Soria\, 16:geo:0.9276747,41.0027012
END:VEVENT
END:VCALENDAR