BEGIN:VCALENDAR
VERSION:2.0
PRODID:-//Ajuntament de Mont-roig del Camp - ECPv5.16.3.1//NONSGML v1.0//EN
CALSCALE:GREGORIAN
METHOD:PUBLISH
X-WR-CALNAME:Ajuntament de Mont-roig del Camp
X-ORIGINAL-URL:https://mont-roig.cat
X-WR-CALDESC:Esdeveniments per Ajuntament de Mont-roig del Camp
BEGIN:VTIMEZONE
TZID:Europe/Madrid
BEGIN:DAYLIGHT
TZOFFSETFROM:+0100
TZOFFSETTO:+0200
TZNAME:CEST
DTSTART:20190331T010000
END:DAYLIGHT
BEGIN:STANDARD
TZOFFSETFROM:+0200
TZOFFSETTO:+0100
TZNAME:CET
DTSTART:20191027T010000
END:STANDARD
END:VTIMEZONE
BEGIN:VEVENT
DTSTART;TZID=Europe/Madrid:20190403T093000
DTEND;TZID=Europe/Madrid:20190517T123000
DTSTAMP:20260422T065514
CREATED:20190320T161537Z
LAST-MODIFIED:20190402T074648Z
UID:35059-1554283800-1558096200@mont-roig.cat
SUMMARY:Curs d'atenció sociosanitària
DESCRIPTION: 
URL:https://mont-roig.cat/acte/curs-datencio-sociosanitaria/2019-04-03/
LOCATION:Centre Polivalent Sant Jaume\, Carrer de Sòria\, 18\, Miami Platja\, Tarragona\, 43892\, Spain
CATEGORIES:Ajuntament,Impuls Econòmic i Ocupació
ATTACH;FMTTYPE=image/jpeg:https://mont-roig.cat/wp-content/uploads/Curs-Atenció-Sociosanitària_page-0001.jpg
END:VEVENT
BEGIN:VEVENT
DTSTART;TZID=Europe/Madrid:20190413T080000
DTEND;TZID=Europe/Madrid:20190414T170000
DTSTAMP:20260422T065514
CREATED:20190330T111728Z
LAST-MODIFIED:20190330T111728Z
UID:35277-1555142400-1555261200@mont-roig.cat
SUMMARY:Fira del Vi de Miami Platja
DESCRIPTION:Els dies 13 i 14 d’abril es celebrarà la 1a edició de la Fira del Vi de Miami Platja. Es podran degustar els millors vins de les diferents D.O. del territori al nou tram de l’avinguda Barcelona. \n  \nMés informació: www.mont-roigmiami.cat
URL:https://mont-roig.cat/acte/fira-del-vi-de-miami-platja/
LOCATION:Avinguda Barcelona\, Avinguda Barcelona\, Miami Platja 
CATEGORIES:Ajuntament,Turisme
GEO:41.009761;0.9396429
X-APPLE-STRUCTURED-LOCATION;VALUE=URI;X-ADDRESS=Avinguda Barcelona Avinguda Barcelona Miami Platja;X-APPLE-RADIUS=500;X-TITLE=Avinguda Barcelona:geo:0.9396429,41.009761
END:VEVENT
BEGIN:VEVENT
DTSTART;TZID=Europe/Madrid:20190413T150000
DTEND;TZID=Europe/Madrid:20190413T200000
DTSTAMP:20260422T065514
CREATED:20190330T104912Z
LAST-MODIFIED:20190330T104912Z
UID:35252-1555167600-1555185600@mont-roig.cat
SUMMARY:Mercat Trastos Fora a Miami Platja
DESCRIPTION:
URL:https://mont-roig.cat/acte/mercat-trastos-fora-a-miami-platja-5/
LOCATION:Carrer Sòria\, Carrer Sòria\, Miami Platja \, Tarragona \, 43892
CATEGORIES:Ajuntament,Recollida residus
ATTACH;FMTTYPE=image/jpeg:https://mont-roig.cat/wp-content/uploads/01-Cartell-trastos-fora-MIAMI-13-04-19_page-0001.jpg
GEO:41.0033798;0.9285338
X-APPLE-STRUCTURED-LOCATION;VALUE=URI;X-ADDRESS=Carrer Sòria Carrer Sòria Miami Platja  Tarragona  43892;X-APPLE-RADIUS=500;X-TITLE=Carrer Sòria:geo:0.9285338,41.0033798
END:VEVENT
BEGIN:VEVENT
DTSTART;TZID=Europe/Madrid:20190413T200000
DTEND;TZID=Europe/Madrid:20190413T200000
DTSTAMP:20260422T065514
CREATED:20190411T103204Z
LAST-MODIFIED:20190411T103228Z
UID:35572-1555185600-1555185600@mont-roig.cat
SUMMARY:Impro Acatomba Show
DESCRIPTION:
URL:https://mont-roig.cat/acte/impro-acatomba-show/
LOCATION:Centre Polivalent Sant Jaume\, Carrer de Sòria\, 18\, Miami Platja\, Tarragona\, 43892\, Spain
CATEGORIES:Ajuntament,Cultura
ATTACH;FMTTYPE=image/jpeg:https://mont-roig.cat/wp-content/uploads/CicleTeatre_1r_Semestre_2019-1_page-0009.jpg
END:VEVENT
END:VCALENDAR