BEGIN:VCALENDAR
VERSION:2.0
PRODID:-//Ajuntament de Mont-roig del Camp - ECPv5.16.3.1//NONSGML v1.0//EN
CALSCALE:GREGORIAN
METHOD:PUBLISH
X-WR-CALNAME:Ajuntament de Mont-roig del Camp
X-ORIGINAL-URL:https://mont-roig.cat
X-WR-CALDESC:Esdeveniments per Ajuntament de Mont-roig del Camp
BEGIN:VTIMEZONE
TZID:Europe/Madrid
BEGIN:DAYLIGHT
TZOFFSETFROM:+0100
TZOFFSETTO:+0200
TZNAME:CEST
DTSTART:20190331T010000
END:DAYLIGHT
BEGIN:STANDARD
TZOFFSETFROM:+0200
TZOFFSETTO:+0100
TZNAME:CET
DTSTART:20191027T010000
END:STANDARD
END:VTIMEZONE
BEGIN:VEVENT
DTSTART;TZID=Europe/Madrid:20190403T093000
DTEND;TZID=Europe/Madrid:20190517T123000
DTSTAMP:20260421T164034
CREATED:20190320T161537Z
LAST-MODIFIED:20190402T074648Z
UID:35059-1554283800-1558096200@mont-roig.cat
SUMMARY:Curs d'atenció sociosanitària
DESCRIPTION: 
URL:https://mont-roig.cat/acte/curs-datencio-sociosanitaria/2019-04-03/
LOCATION:Centre Polivalent Sant Jaume\, Carrer de Sòria\, 18\, Miami Platja\, Tarragona\, 43892\, Spain
CATEGORIES:Ajuntament,Impuls Econòmic i Ocupació
ATTACH;FMTTYPE=image/jpeg:https://mont-roig.cat/wp-content/uploads/Curs-Atenció-Sociosanitària_page-0001.jpg
END:VEVENT
BEGIN:VEVENT
DTSTART;TZID=Europe/Madrid:20190423T163000
DTEND;TZID=Europe/Madrid:20190423T210000
DTSTAMP:20260421T164034
CREATED:20190208T094236Z
LAST-MODIFIED:20190411T094419Z
UID:34121-1556037000-1556053200@mont-roig.cat
SUMMARY:Diada de Sant Jordi a Miami Platja
DESCRIPTION:
URL:https://mont-roig.cat/acte/diada-de-sant-jordi/
LOCATION:Avinguda Barcelona\, Avinguda Barcelona\, Miami Platja 
CATEGORIES:Ajuntament,Cultura
ATTACH;FMTTYPE=image/jpeg:https://mont-roig.cat/wp-content/uploads/cartell_StJordi_ok_page-0001.jpg
GEO:41.009761;0.9396429
X-APPLE-STRUCTURED-LOCATION;VALUE=URI;X-ADDRESS=Avinguda Barcelona Avinguda Barcelona Miami Platja;X-APPLE-RADIUS=500;X-TITLE=Avinguda Barcelona:geo:0.9396429,41.009761
END:VEVENT
BEGIN:VEVENT
DTSTART;TZID=Europe/Madrid:20190423T163000
DTEND;TZID=Europe/Madrid:20190423T210000
DTSTAMP:20260421T164034
CREATED:20190208T095036Z
LAST-MODIFIED:20190411T095506Z
UID:34126-1556037000-1556053200@mont-roig.cat
SUMMARY:Diada de Sant Jordi a Mont-roig
DESCRIPTION:
URL:https://mont-roig.cat/acte/diada-de-sant-jordi-a-mont-roig-2/
LOCATION:Aparcament Casa de Cultura
CATEGORIES:Ajuntament,Cultura
ATTACH;FMTTYPE=image/jpeg:https://mont-roig.cat/wp-content/uploads/cartell_StJordi_ok_page-0001-1.jpg
END:VEVENT
BEGIN:VEVENT
DTSTART;TZID=Europe/Madrid:20190423T173000
DTEND;TZID=Europe/Madrid:20190423T193000
DTSTAMP:20260421T164034
CREATED:20190413T094635Z
LAST-MODIFIED:20190413T094705Z
UID:35631-1556040600-1556047800@mont-roig.cat
SUMMARY:Espectacle d'animació per Sant Jordi a Miami Platja
DESCRIPTION: . . . .
URL:https://mont-roig.cat/acte/espectacle-danimacio-per-sant-jordi/
LOCATION:Avinguda Barcelona\, Avinguda Barcelona\, Miami Platja 
CATEGORIES:Ajuntament,Cultura
ATTACH;FMTTYPE=image/jpeg:https://mont-roig.cat/wp-content/uploads/CicleTeatre_1r_Semestre_2019-1_page-0010.jpg
GEO:41.009761;0.9396429
X-APPLE-STRUCTURED-LOCATION;VALUE=URI;X-ADDRESS=Avinguda Barcelona Avinguda Barcelona Miami Platja;X-APPLE-RADIUS=500;X-TITLE=Avinguda Barcelona:geo:0.9396429,41.009761
END:VEVENT
BEGIN:VEVENT
DTSTART;TZID=Europe/Madrid:20190423T173000
DTEND;TZID=Europe/Madrid:20190423T190000
DTSTAMP:20260421T164034
CREATED:20190413T094939Z
LAST-MODIFIED:20190413T094939Z
UID:35645-1556040600-1556046000@mont-roig.cat
SUMMARY:Espectacle d'animació per Sant Jordi a Mont-roig
DESCRIPTION:
URL:https://mont-roig.cat/acte/espectacle-danimacio-per-sant-jordi-a-mont-roig/
LOCATION:Aparcament Casa de Cultura
CATEGORIES:Ajuntament,Cultura
ATTACH;FMTTYPE=image/jpeg:https://mont-roig.cat/wp-content/uploads/CicleTeatre_1r_Semestre_2019-1_page-0011.jpg
END:VEVENT
END:VCALENDAR