BEGIN:VCALENDAR
VERSION:2.0
PRODID:-//Ajuntament de Mont-roig del Camp - ECPv5.16.3.1//NONSGML v1.0//EN
CALSCALE:GREGORIAN
METHOD:PUBLISH
X-WR-CALNAME:Ajuntament de Mont-roig del Camp
X-ORIGINAL-URL:https://mont-roig.cat
X-WR-CALDESC:Esdeveniments per Ajuntament de Mont-roig del Camp
BEGIN:VTIMEZONE
TZID:Europe/Madrid
BEGIN:DAYLIGHT
TZOFFSETFROM:+0100
TZOFFSETTO:+0200
TZNAME:CEST
DTSTART:20190331T010000
END:DAYLIGHT
BEGIN:STANDARD
TZOFFSETFROM:+0200
TZOFFSETTO:+0100
TZNAME:CET
DTSTART:20191027T010000
END:STANDARD
END:VTIMEZONE
BEGIN:VEVENT
DTSTART;TZID=Europe/Madrid:20190403T093000
DTEND;TZID=Europe/Madrid:20190517T123000
DTSTAMP:20260422T132132
CREATED:20190320T161537Z
LAST-MODIFIED:20190402T074648Z
UID:35059-1554283800-1558096200@mont-roig.cat
SUMMARY:Curs d'atenció sociosanitària
DESCRIPTION: 
URL:https://mont-roig.cat/acte/curs-datencio-sociosanitaria/2019-04-03/
LOCATION:Centre Polivalent Sant Jaume\, Carrer de Sòria\, 18\, Miami Platja\, Tarragona\, 43892\, Spain
CATEGORIES:Ajuntament,Impuls Econòmic i Ocupació
ATTACH;FMTTYPE=image/jpeg:https://mont-roig.cat/wp-content/uploads/Curs-Atenció-Sociosanitària_page-0001.jpg
END:VEVENT
BEGIN:VEVENT
DTSTART;VALUE=DATE:20190503
DTEND;VALUE=DATE:20190520
DTSTAMP:20260422T132132
CREATED:20190502T080342Z
LAST-MODIFIED:20190502T080342Z
UID:36070-1556841600-1558310399@mont-roig.cat
SUMMARY:Ruta de la tapa de Miami Platja
DESCRIPTION:  \n 
URL:https://mont-roig.cat/acte/ruta-de-la-tapa-de-miami-platja/
LOCATION:Miami Platja
CATEGORIES:Ajuntament,Impuls Econòmic i Ocupació
ATTACH;FMTTYPE=image/png:https://mont-roig.cat/wp-content/uploads/Ruta-Tapa-2019.png
END:VEVENT
BEGIN:VEVENT
DTSTART;TZID=Europe/Madrid:20190503T180000
DTEND;TZID=Europe/Madrid:20190503T190000
DTSTAMP:20260422T132132
CREATED:20190502T075134Z
LAST-MODIFIED:20190502T075202Z
UID:36044-1556906400-1556910000@mont-roig.cat
SUMMARY:Club de lectura infantil: 'Operació Drac Groc de Julian Press'
DESCRIPTION:
URL:https://mont-roig.cat/acte/club-de-lectura-infantil-operacio-drac-groc-de-julian-press/
LOCATION:Biblioteca Miramar\, Carrer Soria\, 16\, Miami Platja\, Tarragona\, 43892\, Spain
CATEGORIES:Ajuntament,Biblioteca
ATTACH;FMTTYPE=image/jpeg:https://mont-roig.cat/wp-content/uploads/ClubsMiamiMaig.jpg
GEO:41.0027012;0.9276747
X-APPLE-STRUCTURED-LOCATION;VALUE=URI;X-ADDRESS=Biblioteca Miramar Carrer Soria 16 Miami Platja Tarragona 43892 Spain;X-APPLE-RADIUS=500;X-TITLE=Carrer Soria\, 16:geo:0.9276747,41.0027012
END:VEVENT
BEGIN:VEVENT
DTSTART;TZID=Europe/Madrid:20190503T190000
DTEND;TZID=Europe/Madrid:20190503T210000
DTSTAMP:20260422T132132
CREATED:20190502T075607Z
LAST-MODIFIED:20190502T075748Z
UID:36068-1556910000-1556917200@mont-roig.cat
SUMMARY:Club de lectura per adults amb 'Els privilegiats'\, de Núria Perpinyà
DESCRIPTION:
URL:https://mont-roig.cat/acte/club-de-lectura-per-adults-amb-els-privilegiats-de-nuria-perpinya/
LOCATION:Biblioteca Miramar\, Carrer Soria\, 16\, Miami Platja\, Tarragona\, 43892\, Spain
CATEGORIES:Ajuntament,Biblioteca
ATTACH;FMTTYPE=image/jpeg:https://mont-roig.cat/wp-content/uploads/ClubsMiamiMaig.jpg
GEO:41.0027012;0.9276747
X-APPLE-STRUCTURED-LOCATION;VALUE=URI;X-ADDRESS=Biblioteca Miramar Carrer Soria 16 Miami Platja Tarragona 43892 Spain;X-APPLE-RADIUS=500;X-TITLE=Carrer Soria\, 16:geo:0.9276747,41.0027012
END:VEVENT
END:VCALENDAR