BEGIN:VCALENDAR
VERSION:2.0
PRODID:-//Ajuntament de Mont-roig del Camp - ECPv5.16.3.1//NONSGML v1.0//EN
CALSCALE:GREGORIAN
METHOD:PUBLISH
X-WR-CALNAME:Ajuntament de Mont-roig del Camp
X-ORIGINAL-URL:https://mont-roig.cat
X-WR-CALDESC:Esdeveniments per Ajuntament de Mont-roig del Camp
BEGIN:VTIMEZONE
TZID:Europe/Madrid
BEGIN:DAYLIGHT
TZOFFSETFROM:+0100
TZOFFSETTO:+0200
TZNAME:CEST
DTSTART:20190331T010000
END:DAYLIGHT
BEGIN:STANDARD
TZOFFSETFROM:+0200
TZOFFSETTO:+0100
TZNAME:CET
DTSTART:20191027T010000
END:STANDARD
END:VTIMEZONE
BEGIN:VEVENT
DTSTART;TZID=Europe/Madrid:20190521T170000
DTEND;TZID=Europe/Madrid:20190521T180000
DTSTAMP:20260422T082320
CREATED:20190505T194147Z
LAST-MODIFIED:20190505T194147Z
UID:36234-1558458000-1558461600@mont-roig.cat
SUMMARY:Taller de Còmic
DESCRIPTION:Aprèn les tècniques bàsiques per dissenyar el teu propi còmic i dibuixar els teus superherois favorits
URL:https://mont-roig.cat/acte/taller-de-comic/
LOCATION:Casal de Joves K2\, Carrer Granada\, 48\, Miami Platja
CATEGORIES:Ajuntament,Joventut
ATTACH;FMTTYPE=image/jpeg:https://mont-roig.cat/wp-content/uploads/TALLER-CÒMIC.jpg
GEO:41.00419;0.92892
X-APPLE-STRUCTURED-LOCATION;VALUE=URI;X-ADDRESS=Casal de Joves K2 Carrer Granada 48 Miami Platja;X-APPLE-RADIUS=500;X-TITLE=Carrer Granada\, 48:geo:0.92892,41.00419
END:VEVENT
BEGIN:VEVENT
DTSTART;TZID=Europe/Madrid:20190521T180000
DTEND;TZID=Europe/Madrid:20190521T180000
DTSTAMP:20260422T082320
CREATED:20190505T190453Z
LAST-MODIFIED:20190505T190453Z
UID:36200-1558461600-1558461600@mont-roig.cat
SUMMARY:Una tarda d’òpera
DESCRIPTION:Darrere de cada Òpera sempre s’hi amaga una gran història. Vine a conèixer la part literària de 4 de les òperes  més famoses de tots els temps. \n 
URL:https://mont-roig.cat/acte/una-tarda-dopera-2/
LOCATION:Biblioteca Miramar\, Carrer Soria\, 16\, Miami Platja\, Tarragona\, 43892\, Spain
CATEGORIES:Ajuntament,Biblioteca
ATTACH;FMTTYPE=image/jpeg:https://mont-roig.cat/wp-content/uploads/Una-tarda-dÒpera_page-0001.jpg
GEO:41.0027012;0.9276747
X-APPLE-STRUCTURED-LOCATION;VALUE=URI;X-ADDRESS=Biblioteca Miramar Carrer Soria 16 Miami Platja Tarragona 43892 Spain;X-APPLE-RADIUS=500;X-TITLE=Carrer Soria\, 16:geo:0.9276747,41.0027012
END:VEVENT
END:VCALENDAR