BEGIN:VCALENDAR
VERSION:2.0
PRODID:-//Ajuntament de Mont-roig del Camp - ECPv5.16.3.1//NONSGML v1.0//EN
CALSCALE:GREGORIAN
METHOD:PUBLISH
X-WR-CALNAME:Ajuntament de Mont-roig del Camp
X-ORIGINAL-URL:https://mont-roig.cat
X-WR-CALDESC:Esdeveniments per Ajuntament de Mont-roig del Camp
BEGIN:VTIMEZONE
TZID:Europe/Madrid
BEGIN:DAYLIGHT
TZOFFSETFROM:+0100
TZOFFSETTO:+0200
TZNAME:CEST
DTSTART:20190331T010000
END:DAYLIGHT
BEGIN:STANDARD
TZOFFSETFROM:+0200
TZOFFSETTO:+0100
TZNAME:CET
DTSTART:20191027T010000
END:STANDARD
END:VTIMEZONE
BEGIN:VEVENT
DTSTART;VALUE=DATE:20190601
DTEND;VALUE=DATE:20190615
DTSTAMP:20260422T070352
CREATED:20190530T104531Z
LAST-MODIFIED:20190530T104556Z
UID:36642-1559347200-1560556799@mont-roig.cat
SUMMARY:Jornades Gastronòmiques del Pop
DESCRIPTION:Les Jornades Gastronòmiques del Pop van néixer l’any 2008 i s’han convertit en un referent gastronòmic a la Costa Daurada. Els restaurants participants introdueixen dins la seva carta diferents plats elaborats amb el producte estrella: el pop. Les seves propietats nutritives i alimentàries fan que sigui un producte amb un gran ventall de possibilitats gastronòmiques dins de la cuina mediterrània.
URL:https://mont-roig.cat/acte/jornades-gastronomiques-del-pop-2/
LOCATION:Mont-roig i Miami
CATEGORIES:Ajuntament,Turisme
ATTACH;FMTTYPE=image/jpeg:https://mont-roig.cat/wp-content/uploads/banner1.jpg
END:VEVENT
BEGIN:VEVENT
DTSTART;TZID=Europe/Madrid:20190601T190000
DTEND;TZID=Europe/Madrid:20190601T210000
DTSTAMP:20260422T070352
CREATED:20190208T101023Z
LAST-MODIFIED:20190208T101023Z
UID:34130-1559415600-1559422800@mont-roig.cat
SUMMARY:Rodolfo i Rita
DESCRIPTION:Acrobàcia\, il·lusionisme\, transformisme\, malabars\, humor i amor… En Rodolfo i la Rita no són una parella d’artistes: són la parella.
URL:https://mont-roig.cat/acte/rodolfo-i-rita/
LOCATION:Centre Polivalent Sant Jaume\, Carrer de Sòria\, 18\, Miami Platja\, Tarragona\, 43892\, Spain
CATEGORIES:Ajuntament,Cultura
ATTACH;FMTTYPE=image/jpeg:https://mont-roig.cat/wp-content/uploads/Rodolfo-i-Rita.jpg
END:VEVENT
BEGIN:VEVENT
DTSTART;TZID=Europe/Madrid:20190601T190000
DTEND;TZID=Europe/Madrid:20190601T203000
DTSTAMP:20260422T070352
CREATED:20190413T095703Z
LAST-MODIFIED:20190413T095703Z
UID:35647-1559415600-1559421000@mont-roig.cat
SUMMARY:Espectacle de circ amb Rodolfo i Rita
DESCRIPTION:
URL:https://mont-roig.cat/acte/espectacle-de-circ-amb-rodolfo-i-rita/
LOCATION:Centre Polivalent Sant Jaume\, Carrer de Sòria\, 18\, Miami Platja\, Tarragona\, 43892\, Spain
CATEGORIES:Ajuntament,Cultura
ATTACH;FMTTYPE=image/jpeg:https://mont-roig.cat/wp-content/uploads/CicleTeatre_1r_Semestre_2019-1_page-0012.jpg
END:VEVENT
END:VCALENDAR