BEGIN:VCALENDAR
VERSION:2.0
PRODID:-//Ajuntament de Mont-roig del Camp - ECPv5.16.3.1//NONSGML v1.0//EN
CALSCALE:GREGORIAN
METHOD:PUBLISH
X-WR-CALNAME:Ajuntament de Mont-roig del Camp
X-ORIGINAL-URL:https://mont-roig.cat
X-WR-CALDESC:Esdeveniments per Ajuntament de Mont-roig del Camp
BEGIN:VTIMEZONE
TZID:Europe/Madrid
BEGIN:DAYLIGHT
TZOFFSETFROM:+0100
TZOFFSETTO:+0200
TZNAME:CEST
DTSTART:20190331T010000
END:DAYLIGHT
BEGIN:STANDARD
TZOFFSETFROM:+0200
TZOFFSETTO:+0100
TZNAME:CET
DTSTART:20191027T010000
END:STANDARD
END:VTIMEZONE
BEGIN:VEVENT
DTSTART;TZID=Europe/Madrid:20190702T090000
DTEND;TZID=Europe/Madrid:20190702T100000
DTSTAMP:20260420T100834
CREATED:20190703T070932Z
LAST-MODIFIED:20190703T070932Z
UID:37653-1562058000-1562061600@mont-roig.cat
SUMMARY:Tai-txi-txuan
DESCRIPTION:
URL:https://mont-roig.cat/acte/tai-txi-txuan/2019-07-02/
LOCATION:Pèrgola Platja Cristall\, Platja Cristall\, Miami Platja \, 43892
CATEGORIES:Ajuntament,Turisme
ATTACH;FMTTYPE=image/jpeg:https://mont-roig.cat/wp-content/uploads/taichi.jpg
GEO:40.998277;0.9350433
X-APPLE-STRUCTURED-LOCATION;VALUE=URI;X-ADDRESS=Pèrgola Platja Cristall Platja Cristall Miami Platja  43892;X-APPLE-RADIUS=500;X-TITLE=Platja Cristall:geo:0.9350433,40.998277
END:VEVENT
BEGIN:VEVENT
DTSTART;TZID=Europe/Madrid:20190702T170000
DTEND;TZID=Europe/Madrid:20190702T200000
DTSTAMP:20260420T100834
CREATED:20190703T050327Z
LAST-MODIFIED:20190703T050327Z
UID:37467-1562086800-1562097600@mont-roig.cat
SUMMARY:Exposició Menys plàstics\, més vida!
DESCRIPTION:Amb motiu del dia mundial sense bosses de plàstic (3 de juliol) hi haurà l’exposició menys plàstic més vida\, per conscienciar sobre com reduir aquest material.
URL:https://mont-roig.cat/acte/exposicio-menys-plastics-mes-vida/2019-07-02/
LOCATION:Casal de Joves K1\, c/ Aureli Escarré\, Mont-roig del Camp
ATTACH;FMTTYPE=image/png:https://mont-roig.cat/wp-content/uploads/EXPOSICIÓ-CASALS-DE-JOVES.png
GEO:41.07825;0.9768931
X-APPLE-STRUCTURED-LOCATION;VALUE=URI;X-ADDRESS=Casal de Joves K1 c/ Aureli Escarré Mont-roig del Camp;X-APPLE-RADIUS=500;X-TITLE=c/ Aureli Escarré:geo:0.9768931,41.07825
END:VEVENT
BEGIN:VEVENT
DTSTART;TZID=Europe/Madrid:20190702T183000
DTEND;TZID=Europe/Madrid:20190702T183000
DTSTAMP:20260420T100834
CREATED:20190703T051201Z
LAST-MODIFIED:20190703T051254Z
UID:37495-1562092200-1562092200@mont-roig.cat
SUMMARY:Tallers infantils
DESCRIPTION:Tallers frescos\, creatius i divertits per a nens i nenes a partir de 6 anys. Aforament limitat. Inscripcions a la Family Area. \n18.30 h /19.30 h* \nEntrada gratuïta \n\n2 de juliol: Taller de clauers\n9 de juliol: Taller de pesca\n16 de juliol: Taller de ditets\n23 de juliol: Taller bombolles de sabó *\n30 de juliol: Taller de fang mariner*\n6 d’agost: Taller de peix articulat*\n13 d’agost: Taller ampolla creativa*\n20 d’agost: Taller de titelles de fil\n27 d’agost: Taller de litografies
URL:https://mont-roig.cat/acte/tallers-infantils-2/2019-07-02/
LOCATION:Family Area Platja Cristall
ATTACH;FMTTYPE=image/jpeg:https://mont-roig.cat/wp-content/uploads/Peix-articulat.jpg
END:VEVENT
END:VCALENDAR