BEGIN:VCALENDAR
VERSION:2.0
PRODID:-//Ajuntament de Mont-roig del Camp - ECPv5.16.3.1//NONSGML v1.0//EN
CALSCALE:GREGORIAN
METHOD:PUBLISH
X-WR-CALNAME:Ajuntament de Mont-roig del Camp
X-ORIGINAL-URL:https://mont-roig.cat
X-WR-CALDESC:Esdeveniments per Ajuntament de Mont-roig del Camp
BEGIN:VTIMEZONE
TZID:Europe/Madrid
BEGIN:DAYLIGHT
TZOFFSETFROM:+0100
TZOFFSETTO:+0200
TZNAME:CEST
DTSTART:20190331T010000
END:DAYLIGHT
BEGIN:STANDARD
TZOFFSETFROM:+0200
TZOFFSETTO:+0100
TZNAME:CET
DTSTART:20191027T010000
END:STANDARD
END:VTIMEZONE
BEGIN:VEVENT
DTSTART;TZID=Europe/Madrid:20190706T110000
DTEND;TZID=Europe/Madrid:20190706T130000
DTSTAMP:20260420T230837
CREATED:20190703T055519Z
LAST-MODIFIED:20190703T055546Z
UID:37561-1562410800-1562418000@mont-roig.cat
SUMMARY:Visita teatralitzada al Mas Miró
DESCRIPTION:Visita el Mas Miró acompanyat del seu masover. Ningú millor que ell coneix les anècdotes i històries que Joan Miró ha viscut a Mont-roig. Una manera única de conèixer el lloc i el geni. \nPreu: entrada estàndard 12€ / entrada reduïda: 10€ /nens fins a 13 anys 7€ / menors de 5 anys entrada gratuïta. \nMés informació i reserves: 977 179 158 – info@masmiro.com
URL:https://mont-roig.cat/acte/visita-teatralitzada-al-mas-miro-2/2019-07-06/
LOCATION:Mas Miró\, Mont-roig\, Tarragona\, 43300
CATEGORIES:Ajuntament,Turisme
ATTACH;FMTTYPE=image/jpeg:https://mont-roig.cat/wp-content/uploads/teatralitzada-visita.jpg
END:VEVENT
BEGIN:VEVENT
DTSTART;TZID=Europe/Madrid:20190706T190000
DTEND;TZID=Europe/Madrid:20190706T210000
DTSTAMP:20260420T230837
CREATED:20190703T053700Z
LAST-MODIFIED:20190706T071818Z
UID:37519-1562439600-1562446800@mont-roig.cat
SUMMARY:Espectacle itinerant 'El petit Lilo'
DESCRIPTION:Omple de vida\, alegria i gresca l’Avinguda Barcelona de Miami Platja! El gosset Lilo\, uns francesos esbojarrats i un càsting de televisió prendran els carrers per fer passar una tarda ben divertida i plena de sorpreses! \n 
URL:https://mont-roig.cat/acte/espectacle-itinerant-el-petit-lilo/
LOCATION:Avinguda Barcelona\, Avinguda Barcelona\, Miami Platja 
CATEGORIES:Ajuntament,Turisme
ATTACH;FMTTYPE=image/jpeg:https://mont-roig.cat/wp-content/uploads/lilo-1.jpg
GEO:41.009761;0.9396429
X-APPLE-STRUCTURED-LOCATION;VALUE=URI;X-ADDRESS=Avinguda Barcelona Avinguda Barcelona Miami Platja;X-APPLE-RADIUS=500;X-TITLE=Avinguda Barcelona:geo:0.9396429,41.009761
END:VEVENT
END:VCALENDAR