BEGIN:VCALENDAR
VERSION:2.0
PRODID:-//Ajuntament de Mont-roig del Camp - ECPv5.16.3.1//NONSGML v1.0//EN
CALSCALE:GREGORIAN
METHOD:PUBLISH
X-WR-CALNAME:Ajuntament de Mont-roig del Camp
X-ORIGINAL-URL:https://mont-roig.cat
X-WR-CALDESC:Esdeveniments per Ajuntament de Mont-roig del Camp
BEGIN:VTIMEZONE
TZID:Europe/Madrid
BEGIN:DAYLIGHT
TZOFFSETFROM:+0100
TZOFFSETTO:+0200
TZNAME:CEST
DTSTART:20190331T010000
END:DAYLIGHT
BEGIN:STANDARD
TZOFFSETFROM:+0200
TZOFFSETTO:+0100
TZNAME:CET
DTSTART:20191027T010000
END:STANDARD
END:VTIMEZONE
BEGIN:VEVENT
DTSTART;TZID=Europe/Madrid:20190707T110000
DTEND;TZID=Europe/Madrid:20190707T140000
DTSTAMP:20260420T195835
CREATED:20190703T054345Z
LAST-MODIFIED:20190703T054405Z
UID:37525-1562497200-1562508000@mont-roig.cat
SUMMARY:Descobreix el Mas Miró en família
DESCRIPTION:Una experiència per descobrir\, en família\, la casa d’estiu de la família Miró\, el Mas Miró. Recorrerem els diversos indrets del mas que van allotjar i inspirar a Joan Miró al llarg de tota la seva vida. On dormia? On treballava? Com s’inspirava? Totes les respostes les trobareu al Mas Miró! \nPreu: 7 € \nMés informació i reserves: 977 179 158 – info@masmiro.com
URL:https://mont-roig.cat/acte/descobreix-el-mas-miro-en-familia/2019-07-07/
LOCATION:Mas Miró\, Mont-roig\, Tarragona\, 43300
CATEGORIES:Ajuntament,Turisme
ATTACH;FMTTYPE=image/jpeg:https://mont-roig.cat/wp-content/uploads/visites-guiades_c_Arxiu_Fundació_Mas_Miró_2019.jpg
END:VEVENT
END:VCALENDAR