BEGIN:VCALENDAR
VERSION:2.0
PRODID:-//Ajuntament de Mont-roig del Camp - ECPv5.16.3.1//NONSGML v1.0//EN
CALSCALE:GREGORIAN
METHOD:PUBLISH
X-WR-CALNAME:Ajuntament de Mont-roig del Camp
X-ORIGINAL-URL:https://mont-roig.cat
X-WR-CALDESC:Esdeveniments per Ajuntament de Mont-roig del Camp
BEGIN:VTIMEZONE
TZID:Europe/Madrid
BEGIN:DAYLIGHT
TZOFFSETFROM:+0100
TZOFFSETTO:+0200
TZNAME:CEST
DTSTART:20190331T010000
END:DAYLIGHT
BEGIN:STANDARD
TZOFFSETFROM:+0200
TZOFFSETTO:+0100
TZNAME:CET
DTSTART:20191027T010000
END:STANDARD
END:VTIMEZONE
BEGIN:VEVENT
DTSTART;TZID=Europe/Madrid:20190718T080000
DTEND;TZID=Europe/Madrid:20190721T140000
DTSTAMP:20260420T115109
CREATED:20190718T155612Z
LAST-MODIFIED:20190718T155612Z
UID:38108-1563436800-1563717600@mont-roig.cat
SUMMARY:Cap de Setmana Diatònic a Mont-roig
DESCRIPTION:Nova edició del Cap de Setmana Diatònic al qual hi col·labora l’Ajuntament de Mont-roig del Camp. \n  \nTota la programació a: www.setdediatonic.cat
URL:https://mont-roig.cat/acte/cap-de-setmana-diatonic-a-mont-roig/
LOCATION:Mont-roig
CATEGORIES:Ajuntament,Altres
ATTACH;FMTTYPE=image/jpeg:https://mont-roig.cat/wp-content/uploads/Cartell-CSD-2019-1.jpg
END:VEVENT
BEGIN:VEVENT
DTSTART;VALUE=DATE:20190719
DTEND;VALUE=DATE:20190729
DTSTAMP:20260420T115109
CREATED:20190710T144601Z
LAST-MODIFIED:20190710T144619Z
UID:37963-1563494400-1564358399@mont-roig.cat
SUMMARY:Festa Major de Sant Jaume de Miami Platja
DESCRIPTION:Miami Platja viurà una nova edició de les Festes de Sant Jaume del 19 al 28 de juliol. \nPrograma festes en català. (descarrega’t el pdf) \nProgama festes en castellà. (descarga el pdf) \n  \nBase concurs xarxes socials: (descarrega’t el pdf amb les bases) \n 
URL:https://mont-roig.cat/acte/festa-major-de-sant-jaume-de-miami-platja-3/
LOCATION:Miami Platja
CATEGORIES:Ajuntament,Festes
ATTACH;FMTTYPE=image/png:https://mont-roig.cat/wp-content/uploads/Cartell-Sant-Jaume-2019.png
END:VEVENT
BEGIN:VEVENT
DTSTART;TZID=Europe/Madrid:20190719T160000
DTEND;TZID=Europe/Madrid:20190719T220000
DTSTAMP:20260420T115109
CREATED:20190703T044940Z
LAST-MODIFIED:20190703T044940Z
UID:37449-1563552000-1563573600@mont-roig.cat
SUMMARY:Tok'l2 Bolera + Cinema
DESCRIPTION:Tok’l2 et porta a la bolera i després al cinema per gaudir de l’estrena de la pel·lícula “El Rey León”
URL:https://mont-roig.cat/acte/tokl2-bolera-cinema/
LOCATION:Vila-seca
CATEGORIES:Ajuntament,Joventut
END:VEVENT
BEGIN:VEVENT
DTSTART;TZID=Europe/Madrid:20190719T193000
DTEND;TZID=Europe/Madrid:20190719T213000
DTSTAMP:20260420T115109
CREATED:20190703T060851Z
LAST-MODIFIED:20190703T064243Z
UID:37604-1563564600-1563571800@mont-roig.cat
SUMMARY:Divendres Divins amb Son2 i la DO Catalunya
DESCRIPTION:Un vespre de tasts al Mas Miró. Degustació de diversos vins de la DO Catalunya mentre es gaudeix d’una actuació als jardins del Mas Miró  del grup de boleros Son2. A més\, es podrà visitar el primer taller de Joan Miró tal i com el va deixar per última vegada el setembre de 1976. \nCol·labora: DO Catalunya\, el Departament de Cultura de la Generalitat de Catalunya i la Fundació Mas Miró \nIdioma: Català \nPreu: 5\,00 € \nMés informació i reserves: 977 328 103 – premsa@do-catalunya.com \n 
URL:https://mont-roig.cat/acte/divendres-divins-amb-son2-i-la-do-catalunya/
LOCATION:Mas Miró\, Mont-roig\, Tarragona\, 43300
CATEGORIES:Ajuntament
ATTACH;FMTTYPE=image/jpeg:https://mont-roig.cat/wp-content/uploads/son2-e1529971754250-561x321.jpg
END:VEVENT
END:VCALENDAR