BEGIN:VCALENDAR
VERSION:2.0
PRODID:-//Ajuntament de Mont-roig del Camp - ECPv5.16.3.1//NONSGML v1.0//EN
CALSCALE:GREGORIAN
METHOD:PUBLISH
X-WR-CALNAME:Ajuntament de Mont-roig del Camp
X-ORIGINAL-URL:https://mont-roig.cat
X-WR-CALDESC:Esdeveniments per Ajuntament de Mont-roig del Camp
BEGIN:VTIMEZONE
TZID:Europe/Madrid
BEGIN:DAYLIGHT
TZOFFSETFROM:+0100
TZOFFSETTO:+0200
TZNAME:CEST
DTSTART:20190331T010000
END:DAYLIGHT
BEGIN:STANDARD
TZOFFSETFROM:+0200
TZOFFSETTO:+0100
TZNAME:CET
DTSTART:20191027T010000
END:STANDARD
END:VTIMEZONE
BEGIN:VEVENT
DTSTART;VALUE=DATE:20190719
DTEND;VALUE=DATE:20190729
DTSTAMP:20260422T082456
CREATED:20190710T144601Z
LAST-MODIFIED:20190710T144619Z
UID:37963-1563494400-1564358399@mont-roig.cat
SUMMARY:Festa Major de Sant Jaume de Miami Platja
DESCRIPTION:Miami Platja viurà una nova edició de les Festes de Sant Jaume del 19 al 28 de juliol. \nPrograma festes en català. (descarrega’t el pdf) \nProgama festes en castellà. (descarga el pdf) \n  \nBase concurs xarxes socials: (descarrega’t el pdf amb les bases) \n 
URL:https://mont-roig.cat/acte/festa-major-de-sant-jaume-de-miami-platja-3/
LOCATION:Miami Platja
CATEGORIES:Ajuntament,Festes
ATTACH;FMTTYPE=image/png:https://mont-roig.cat/wp-content/uploads/Cartell-Sant-Jaume-2019.png
END:VEVENT
BEGIN:VEVENT
DTSTART;TZID=Europe/Madrid:20190723T110000
DTEND;TZID=Europe/Madrid:20190723T130000
DTSTAMP:20260422T082456
CREATED:20190703T045618Z
LAST-MODIFIED:20190703T045618Z
UID:37459-1563879600-1563886800@mont-roig.cat
SUMMARY:Taller de Batuts
DESCRIPTION:Taller per aprendre a realitzar els batuts més refrescants per aquest estiu.
URL:https://mont-roig.cat/acte/taller-de-batuts-5/
LOCATION:Casal de Joves K2\, Carrer Granada\, 48\, Miami Platja
CATEGORIES:Ajuntament,Joventut
ATTACH;FMTTYPE=image/png:https://mont-roig.cat/wp-content/uploads/BATUTS.png
GEO:41.00419;0.92892
X-APPLE-STRUCTURED-LOCATION;VALUE=URI;X-ADDRESS=Casal de Joves K2 Carrer Granada 48 Miami Platja;X-APPLE-RADIUS=500;X-TITLE=Carrer Granada\, 48:geo:0.92892,41.00419
END:VEVENT
BEGIN:VEVENT
DTSTART;TZID=Europe/Madrid:20190723T180000
DTEND;TZID=Europe/Madrid:20190723T200000
DTSTAMP:20260422T082456
CREATED:20190703T073752Z
LAST-MODIFIED:20190703T073752Z
UID:37712-1563904800-1563912000@mont-roig.cat
SUMMARY:Let’s play\, juguem en anglès
DESCRIPTION:Es tracta d’una sèrie de jocs seleccionats entre els jocs tradicionals i populars als que jugaven els nostres avantpassats. Els experimentarem en grup i treballarem també la cohesió i el joc en equip per a potenciar la pràctica de l’anglès de forma immersiva i espontània. \nADREÇAT: Infantil\, a partir dels 7 anys (cal inscripció)
URL:https://mont-roig.cat/acte/lets-play-juguem-en-angles/
LOCATION:Biblioteca Miramar\, Carrer Soria\, 16\, Miami Platja\, Tarragona\, 43892\, Spain
CATEGORIES:Ajuntament,Biblioteca
GEO:41.0027012;0.9276747
X-APPLE-STRUCTURED-LOCATION;VALUE=URI;X-ADDRESS=Biblioteca Miramar Carrer Soria 16 Miami Platja Tarragona 43892 Spain;X-APPLE-RADIUS=500;X-TITLE=Carrer Soria\, 16:geo:0.9276747,41.0027012
END:VEVENT
END:VCALENDAR