BEGIN:VCALENDAR
VERSION:2.0
PRODID:-//Ajuntament de Mont-roig del Camp - ECPv5.16.3.1//NONSGML v1.0//EN
CALSCALE:GREGORIAN
METHOD:PUBLISH
X-WR-CALNAME:Ajuntament de Mont-roig del Camp
X-ORIGINAL-URL:https://mont-roig.cat
X-WR-CALDESC:Esdeveniments per Ajuntament de Mont-roig del Camp
BEGIN:VTIMEZONE
TZID:Europe/Madrid
BEGIN:DAYLIGHT
TZOFFSETFROM:+0100
TZOFFSETTO:+0200
TZNAME:CEST
DTSTART:20190331T010000
END:DAYLIGHT
BEGIN:STANDARD
TZOFFSETFROM:+0200
TZOFFSETTO:+0100
TZNAME:CET
DTSTART:20191027T010000
END:STANDARD
END:VTIMEZONE
BEGIN:VEVENT
DTSTART;VALUE=DATE:20190802
DTEND;VALUE=DATE:20190805
DTSTAMP:20260420T115057
CREATED:20190703T065729Z
LAST-MODIFIED:20190729T065705Z
UID:37626-1564704000-1564963199@mont-roig.cat
SUMMARY:Fira de Mont-roig
DESCRIPTION:Sabíeu que la Fira de Mont-roig\, és una de les més antigues de Catalunya? Enguany es celebra la 138a edició\, no te la perdis! Hi trobaràs un espai gastronòmic\, zona de firetes a més dels actes tradicionals. \n\nConsulteu el programa d’actes: \n\n\n\nFira de Mont-roig del Camp\n\nAquest 2019\, una de les novetats és la posada en marxa de la ruta La TapaFira\, amb la participació de diversos establiments del nucli de Mont-roig. \nConsulteu els establiments participants i les seves propostes. \n\nRuta de tapes La Tapa Fira 2019\n\nPer segon any consecutiu s’organitza un concurs de cuina tradicional\, que tindrà lloc el diumenge 4 d’agost a les 19 hores al recinte firal.\nPodeu apuntar‐vos fins al dia 31/07/2019 omplint aquesta butlletí d’inscripció. Premi: Una estada per a dues persones a l’’Hotel The Westin Bonmont Golf Resort & Spa. \n\nFormulari inscripció Concurs de Cuina de la Fira 2019\nBases Concurs de Cuina de la Fira 2019\n\nA més\, també podeu participar al Concurs de fotografies de les Xarxes Socials (Facebook i Instagram) amb l’etiqueta #FiraMontroig19. \nPremis: \n• 1 sopar per a dues persones al Xiringuito Cueto\n• 2 pizzes i una ampolla de Lambrusco per emportar de la Pizzeria Gaietà\n• 1 lot de productes de Flors Ester\n• 1 esmorzar per dues persones al Bike & Coffee Megabici\n• 1 pack de dues entrades per l’Aquatònic de Montbrió \n\nBases Concurs Instagram i Facebook La Fira 2019\n\n\n 
URL:https://mont-roig.cat/acte/fira-de-mont-roig/
LOCATION:Mont-roig
CATEGORIES:Ajuntament,Festes,Impuls Econòmic i Ocupació
ATTACH;FMTTYPE=image/png:https://mont-roig.cat/wp-content/uploads/Cartell-Fira-de-Mont-roig-del-Camp-2019-1.png
END:VEVENT
BEGIN:VEVENT
DTSTART;TZID=Europe/Madrid:20190803T180000
DTEND;TZID=Europe/Madrid:20190803T210000
DTSTAMP:20260420T115057
CREATED:20190703T060045Z
LAST-MODIFIED:20190703T060045Z
UID:37592-1564855200-1564866000@mont-roig.cat
SUMMARY:Una posta de sol a l'Areny
DESCRIPTION:Excursió guiada a peu fins l’Espai Natural de la Mare de Déu de la Roca\, on podràs gaudir de la posta de sol des d’un entorn únic i singular\, sopar a la fresca\, i si el temps ho permet\, observar els estels. És imprescindible portar calçat adequat per caminar\, aigua\, llanterna i sopar. \nHora: 18.00 h \nLloc: Pl. Joan Miró \nIdiomes: Català\, castellà\, anglès i francès \nObservacions:  \nEdat mínima recomanada 8 anys \nDistància: 6 km \nDesnivell: 170 m \nPreu: 0 € \nMés informació i reserves: 977 810 978 – turisme@mont-roig.com
URL:https://mont-roig.cat/acte/una-posta-de-sol-a-lareny-6/2019-08-03/
LOCATION:Plaça Joan Miró
CATEGORIES:Ajuntament,Turisme
ATTACH;FMTTYPE=image/jpeg:https://mont-roig.cat/wp-content/uploads/T08_RLM5013BX.jpg
END:VEVENT
BEGIN:VEVENT
DTSTART;TZID=Europe/Madrid:20190803T190000
DTEND;TZID=Europe/Madrid:20190803T210000
DTSTAMP:20260420T115057
CREATED:20190703T053813Z
LAST-MODIFIED:20190703T053827Z
UID:37521-1564858800-1564866000@mont-roig.cat
SUMMARY:Espectacle itinerant: 'Les Enfants'
DESCRIPTION:Omple de vida\, alegria i gresca l’Avinguda Barcelona de Miami Platja! El gosset Lilo\, uns francesos esbojarrats i un càsting de televisió prendran els carrers per fer passar una tarda ben divertida i plena de sorpreses! \n 
URL:https://mont-roig.cat/acte/espectacle-itinerant-les-enfants/
LOCATION:Avinguda Barcelona\, Avinguda Barcelona\, Miami Platja 
CATEGORIES:Ajuntament,Turisme
GEO:41.009761;0.9396429
X-APPLE-STRUCTURED-LOCATION;VALUE=URI;X-ADDRESS=Avinguda Barcelona Avinguda Barcelona Miami Platja;X-APPLE-RADIUS=500;X-TITLE=Avinguda Barcelona:geo:0.9396429,41.009761
END:VEVENT
END:VCALENDAR