BEGIN:VCALENDAR
VERSION:2.0
PRODID:-//Ajuntament de Mont-roig del Camp - ECPv5.16.3.1//NONSGML v1.0//EN
CALSCALE:GREGORIAN
METHOD:PUBLISH
X-WR-CALNAME:Ajuntament de Mont-roig del Camp
X-ORIGINAL-URL:https://mont-roig.cat
X-WR-CALDESC:Esdeveniments per Ajuntament de Mont-roig del Camp
BEGIN:VTIMEZONE
TZID:Europe/Madrid
BEGIN:DAYLIGHT
TZOFFSETFROM:+0100
TZOFFSETTO:+0200
TZNAME:CEST
DTSTART:20190331T010000
END:DAYLIGHT
BEGIN:STANDARD
TZOFFSETFROM:+0200
TZOFFSETTO:+0100
TZNAME:CET
DTSTART:20191027T010000
END:STANDARD
END:VTIMEZONE
BEGIN:VEVENT
DTSTART;VALUE=DATE:20190802
DTEND;VALUE=DATE:20190805
DTSTAMP:20260420T083325
CREATED:20190703T065729Z
LAST-MODIFIED:20190729T065705Z
UID:37626-1564704000-1564963199@mont-roig.cat
SUMMARY:Fira de Mont-roig
DESCRIPTION:Sabíeu que la Fira de Mont-roig\, és una de les més antigues de Catalunya? Enguany es celebra la 138a edició\, no te la perdis! Hi trobaràs un espai gastronòmic\, zona de firetes a més dels actes tradicionals. \n\nConsulteu el programa d’actes: \n\n\n\nFira de Mont-roig del Camp\n\nAquest 2019\, una de les novetats és la posada en marxa de la ruta La TapaFira\, amb la participació de diversos establiments del nucli de Mont-roig. \nConsulteu els establiments participants i les seves propostes. \n\nRuta de tapes La Tapa Fira 2019\n\nPer segon any consecutiu s’organitza un concurs de cuina tradicional\, que tindrà lloc el diumenge 4 d’agost a les 19 hores al recinte firal.\nPodeu apuntar‐vos fins al dia 31/07/2019 omplint aquesta butlletí d’inscripció. Premi: Una estada per a dues persones a l’’Hotel The Westin Bonmont Golf Resort & Spa. \n\nFormulari inscripció Concurs de Cuina de la Fira 2019\nBases Concurs de Cuina de la Fira 2019\n\nA més\, també podeu participar al Concurs de fotografies de les Xarxes Socials (Facebook i Instagram) amb l’etiqueta #FiraMontroig19. \nPremis: \n• 1 sopar per a dues persones al Xiringuito Cueto\n• 2 pizzes i una ampolla de Lambrusco per emportar de la Pizzeria Gaietà\n• 1 lot de productes de Flors Ester\n• 1 esmorzar per dues persones al Bike & Coffee Megabici\n• 1 pack de dues entrades per l’Aquatònic de Montbrió \n\nBases Concurs Instagram i Facebook La Fira 2019\n\n\n 
URL:https://mont-roig.cat/acte/fira-de-mont-roig/
LOCATION:Mont-roig
CATEGORIES:Ajuntament,Festes,Impuls Econòmic i Ocupació
ATTACH;FMTTYPE=image/png:https://mont-roig.cat/wp-content/uploads/Cartell-Fira-de-Mont-roig-del-Camp-2019-1.png
END:VEVENT
BEGIN:VEVENT
DTSTART;TZID=Europe/Madrid:20190804T110000
DTEND;TZID=Europe/Madrid:20190804T140000
DTSTAMP:20260420T083325
CREATED:20190703T054734Z
LAST-MODIFIED:20190703T054734Z
UID:37531-1564916400-1564927200@mont-roig.cat
SUMMARY:Descobreix el Mas Miró en família
DESCRIPTION:Una experiència per descobrir\, en família\, la casa d’estiu de la família Miró\, el Mas Miró. Recorrerem els diversos indrets del mas que van allotjar i inspirar a Joan Miró al llarg de tota la seva vida. On dormia? On treballava? Com s’inspirava? Totes les respostes les trobareu al Mas Miró! \nPreu: 7 € \nMés informació i reserves: 977 179 158 – info@masmiro.com
URL:https://mont-roig.cat/acte/descobreix-el-mas-miro-en-familia-2/2019-08-04/
LOCATION:Mas Miró\, Mont-roig\, Tarragona\, 43300
CATEGORIES:Ajuntament,Turisme
ATTACH;FMTTYPE=image/jpeg:https://mont-roig.cat/wp-content/uploads/visites-guiades_c_Arxiu_Fundació_Mas_Miró_2019.jpg
END:VEVENT
BEGIN:VEVENT
DTSTART;TZID=Europe/Madrid:20190804T213000
DTEND;TZID=Europe/Madrid:20190804T233000
DTSTAMP:20260420T083325
CREATED:20190729T070249Z
LAST-MODIFIED:20190729T070249Z
UID:38220-1564954200-1564961400@mont-roig.cat
SUMMARY:Teatre d'humor amb 'Oh\, mami'
DESCRIPTION:Tres amigues decideixen obrir una botiga de cup-cakes però la cosa no acaba de funcionar i una d’elles proposa ampliar el negoci oferint a les clientes massatges amb final feliça la rebotiga del local. \nAnna Barrachina\, Jofre Borràs\, Octavi Pujades i Betsy Turnez\, entre d’altres protagonitzen aquesta comèdia d’embolics\, malentesos is ituacions divertides\, que alhora presenta un món de dones i d ‘homes a la recerca de la identitat personal\, la felicitat i el plaer. \nEntrades anticipadesa  a 5 euros a les OMAC municipals i a la web: \nAnticipades a www.entradium.com \n 
URL:https://mont-roig.cat/acte/teatre-dhumor-amb-oh-mami/
LOCATION:Poliesportiu de Mont-roig del Camp\, Carrer Aureli Maria Escarré\, 3\, Mont-roig del Camp\, Tarragona\, 43300\, Spain
CATEGORIES:Ajuntament,Festes
ATTACH;FMTTYPE=image/jpeg:https://mont-roig.cat/wp-content/uploads/oh-mami.jpg
GEO:41.0865513;0.9606138
X-APPLE-STRUCTURED-LOCATION;VALUE=URI;X-ADDRESS=Poliesportiu de Mont-roig del Camp Carrer Aureli Maria Escarré 3 Mont-roig del Camp Tarragona 43300 Spain;X-APPLE-RADIUS=500;X-TITLE=Carrer Aureli Maria Escarré\, 3:geo:0.9606138,41.0865513
END:VEVENT
END:VCALENDAR